BEGIN:VCALENDAR
VERSION:2.0
PRODID:-//Laurel Library - ECPv6.15.20//NONSGML v1.0//EN
CALSCALE:GREGORIAN
METHOD:PUBLISH
X-WR-CALNAME:Laurel Library
X-ORIGINAL-URL:https://laurel.lib.ms.us
X-WR-CALDESC:Events for Laurel Library
REFRESH-INTERVAL;VALUE=DURATION:PT1H
X-Robots-Tag:noindex
X-PUBLISHED-TTL:PT1H
BEGIN:VTIMEZONE
TZID:America/Chicago
BEGIN:DAYLIGHT
TZOFFSETFROM:-0600
TZOFFSETTO:-0500
TZNAME:CDT
DTSTART:20290311T080000
END:DAYLIGHT
BEGIN:STANDARD
TZOFFSETFROM:-0500
TZOFFSETTO:-0600
TZNAME:CST
DTSTART:20291104T070000
END:STANDARD
BEGIN:DAYLIGHT
TZOFFSETFROM:-0600
TZOFFSETTO:-0500
TZNAME:CDT
DTSTART:20300310T080000
END:DAYLIGHT
BEGIN:STANDARD
TZOFFSETFROM:-0500
TZOFFSETTO:-0600
TZNAME:CST
DTSTART:20301103T070000
END:STANDARD
BEGIN:DAYLIGHT
TZOFFSETFROM:-0600
TZOFFSETTO:-0500
TZNAME:CDT
DTSTART:20310309T080000
END:DAYLIGHT
BEGIN:STANDARD
TZOFFSETFROM:-0500
TZOFFSETTO:-0600
TZNAME:CST
DTSTART:20311102T070000
END:STANDARD
BEGIN:DAYLIGHT
TZOFFSETFROM:-0600
TZOFFSETTO:-0500
TZNAME:CDT
DTSTART:20320314T080000
END:DAYLIGHT
BEGIN:STANDARD
TZOFFSETFROM:-0500
TZOFFSETTO:-0600
TZNAME:CST
DTSTART:20321107T070000
END:STANDARD
END:VTIMEZONE
BEGIN:VEVENT
DTSTART;TZID=America/Chicago:20301219T100000
DTEND;TZID=America/Chicago:20301219T110000
DTSTAMP:20260425T190820
CREATED:20231206T171105Z
LAST-MODIFIED:20250205T162906Z
UID:10140561-1923904800-1923908400@laurel.lib.ms.us
SUMMARY:Storytime @ELL
DESCRIPTION:Join us every week for a story and a craft!
URL:https://laurel.lib.ms.us/event/storytime-epl-2/2030-12-19/
LOCATION:Ellisville Public Library\, 201 Poplar St\, Ellisville\, MS\, 39437\, United States
CATEGORIES:Ellisville Branch
ATTACH;FMTTYPE=image/png:https://laurel.lib.ms.us/wp-content/uploads/2023/02/Storytime.png
END:VEVENT
BEGIN:VEVENT
DTSTART;TZID=America/Chicago:20301219T143000
DTEND;TZID=America/Chicago:20301219T163000
DTSTAMP:20260425T190820
CREATED:20251208T142636Z
LAST-MODIFIED:20251208T142636Z
UID:10140823-1923921000-1923928200@laurel.lib.ms.us
SUMMARY:LEGO® Club @ELL
DESCRIPTION:Join us each month to to complete a LEGO® challenge!
URL:https://laurel.lib.ms.us/event/lego-club-ell-3/2030-12-19/
LOCATION:Ellisville Public Library\, 201 Poplar St\, Ellisville\, MS\, 39437\, United States
CATEGORIES:Ellisville Branch
ATTACH;FMTTYPE=image/png:https://laurel.lib.ms.us/wp-content/uploads/2023/02/LEGO-Club.png
END:VEVENT
BEGIN:VEVENT
DTSTART;TZID=America/Chicago:20301221T090000
DTEND;TZID=America/Chicago:20301221T110000
DTSTAMP:20260425T190820
CREATED:20260130T182954Z
LAST-MODIFIED:20260130T182954Z
UID:10140447-1924074000-1924081200@laurel.lib.ms.us
SUMMARY:Ellisville Chess Club @ELL
DESCRIPTION:Come play chess with other chess enthusiasts at our chess group! Open to all ages and skill levels!
URL:https://laurel.lib.ms.us/event/ellisville-chess-club-ell/2030-12-21/
LOCATION:Ellisville Public Library\, 201 Poplar St\, Ellisville\, MS\, 39437\, United States
CATEGORIES:Ellisville Branch
END:VEVENT
BEGIN:VEVENT
DTSTART;TZID=America/Chicago:20301226T090000
DTEND;TZID=America/Chicago:20301226T100000
DTSTAMP:20260425T190820
CREATED:20231206T170135Z
LAST-MODIFIED:20250205T162916Z
UID:10140591-1924506000-1924509600@laurel.lib.ms.us
SUMMARY:Baby + Me @ELL
DESCRIPTION:A program exploring books\, songs\, and fun activities designed for babies and toddlers.
URL:https://laurel.lib.ms.us/event/baby-me-epl-2/2030-12-26/
LOCATION:Ellisville Public Library\, 201 Poplar St\, Ellisville\, MS\, 39437\, United States
CATEGORIES:Ellisville Branch
ATTACH;FMTTYPE=image/png:https://laurel.lib.ms.us/wp-content/uploads/2023/02/Baby-Me.png
END:VEVENT
BEGIN:VEVENT
DTSTART;TZID=America/Chicago:20301226T100000
DTEND;TZID=America/Chicago:20301226T110000
DTSTAMP:20260425T190821
CREATED:20231206T171105Z
LAST-MODIFIED:20250205T162906Z
UID:10140562-1924509600-1924513200@laurel.lib.ms.us
SUMMARY:Storytime @ELL
DESCRIPTION:Join us every week for a story and a craft!
URL:https://laurel.lib.ms.us/event/storytime-epl-2/2030-12-26/
LOCATION:Ellisville Public Library\, 201 Poplar St\, Ellisville\, MS\, 39437\, United States
CATEGORIES:Ellisville Branch
ATTACH;FMTTYPE=image/png:https://laurel.lib.ms.us/wp-content/uploads/2023/02/Storytime.png
END:VEVENT
BEGIN:VEVENT
DTSTART;TZID=America/Chicago:20310102T090000
DTEND;TZID=America/Chicago:20310102T100000
DTSTAMP:20260425T190821
CREATED:20231206T170135Z
LAST-MODIFIED:20250205T162916Z
UID:10140592-1925110800-1925114400@laurel.lib.ms.us
SUMMARY:Baby + Me @ELL
DESCRIPTION:A program exploring books\, songs\, and fun activities designed for babies and toddlers.
URL:https://laurel.lib.ms.us/event/baby-me-epl-2/2031-01-02/
LOCATION:Ellisville Public Library\, 201 Poplar St\, Ellisville\, MS\, 39437\, United States
CATEGORIES:Ellisville Branch
ATTACH;FMTTYPE=image/png:https://laurel.lib.ms.us/wp-content/uploads/2023/02/Baby-Me.png
END:VEVENT
BEGIN:VEVENT
DTSTART;TZID=America/Chicago:20310102T100000
DTEND;TZID=America/Chicago:20310102T110000
DTSTAMP:20260425T190821
CREATED:20231206T171105Z
LAST-MODIFIED:20250205T162906Z
UID:10140563-1925114400-1925118000@laurel.lib.ms.us
SUMMARY:Storytime @ELL
DESCRIPTION:Join us every week for a story and a craft!
URL:https://laurel.lib.ms.us/event/storytime-epl-2/2031-01-02/
LOCATION:Ellisville Public Library\, 201 Poplar St\, Ellisville\, MS\, 39437\, United States
CATEGORIES:Ellisville Branch
ATTACH;FMTTYPE=image/png:https://laurel.lib.ms.us/wp-content/uploads/2023/02/Storytime.png
END:VEVENT
BEGIN:VEVENT
DTSTART;TZID=America/Chicago:20310109T090000
DTEND;TZID=America/Chicago:20310109T100000
DTSTAMP:20260425T190821
CREATED:20231206T170135Z
LAST-MODIFIED:20250205T162916Z
UID:10140593-1925715600-1925719200@laurel.lib.ms.us
SUMMARY:Baby + Me @ELL
DESCRIPTION:A program exploring books\, songs\, and fun activities designed for babies and toddlers.
URL:https://laurel.lib.ms.us/event/baby-me-epl-2/2031-01-09/
LOCATION:Ellisville Public Library\, 201 Poplar St\, Ellisville\, MS\, 39437\, United States
CATEGORIES:Ellisville Branch
ATTACH;FMTTYPE=image/png:https://laurel.lib.ms.us/wp-content/uploads/2023/02/Baby-Me.png
END:VEVENT
BEGIN:VEVENT
DTSTART;TZID=America/Chicago:20310109T100000
DTEND;TZID=America/Chicago:20310109T110000
DTSTAMP:20260425T190821
CREATED:20231206T171105Z
LAST-MODIFIED:20250205T162906Z
UID:10140564-1925719200-1925722800@laurel.lib.ms.us
SUMMARY:Storytime @ELL
DESCRIPTION:Join us every week for a story and a craft!
URL:https://laurel.lib.ms.us/event/storytime-epl-2/2031-01-09/
LOCATION:Ellisville Public Library\, 201 Poplar St\, Ellisville\, MS\, 39437\, United States
CATEGORIES:Ellisville Branch
ATTACH;FMTTYPE=image/png:https://laurel.lib.ms.us/wp-content/uploads/2023/02/Storytime.png
END:VEVENT
BEGIN:VEVENT
DTSTART;TZID=America/Chicago:20310109T173000
DTEND;TZID=America/Chicago:20310109T183000
DTSTAMP:20260425T190821
CREATED:20260420T142034Z
LAST-MODIFIED:20260420T142034Z
UID:10140914-1925746200-1925749800@laurel.lib.ms.us
SUMMARY:Graphic Novel Club @ELL
DESCRIPTION:Join us at the Ellisville Public Library as we discuss this month’s graphic novel selection! \nPlease note that this class is for adults (18+) only. It is not appropriate for younger readers.
URL:https://laurel.lib.ms.us/event/graphic-novel-club-ell/
LOCATION:Ellisville Public Library\, 201 Poplar St\, Ellisville\, MS\, 39437\, United States
CATEGORIES:Ellisville Branch
END:VEVENT
BEGIN:VEVENT
DTSTART;TZID=America/Chicago:20310116T090000
DTEND;TZID=America/Chicago:20310116T100000
DTSTAMP:20260425T190821
CREATED:20231206T170135Z
LAST-MODIFIED:20250205T162916Z
UID:10140594-1926320400-1926324000@laurel.lib.ms.us
SUMMARY:Baby + Me @ELL
DESCRIPTION:A program exploring books\, songs\, and fun activities designed for babies and toddlers.
URL:https://laurel.lib.ms.us/event/baby-me-epl-2/2031-01-16/
LOCATION:Ellisville Public Library\, 201 Poplar St\, Ellisville\, MS\, 39437\, United States
CATEGORIES:Ellisville Branch
ATTACH;FMTTYPE=image/png:https://laurel.lib.ms.us/wp-content/uploads/2023/02/Baby-Me.png
END:VEVENT
BEGIN:VEVENT
DTSTART;TZID=America/Chicago:20310116T100000
DTEND;TZID=America/Chicago:20310116T110000
DTSTAMP:20260425T190821
CREATED:20231206T171105Z
LAST-MODIFIED:20250205T162906Z
UID:10140565-1926324000-1926327600@laurel.lib.ms.us
SUMMARY:Storytime @ELL
DESCRIPTION:Join us every week for a story and a craft!
URL:https://laurel.lib.ms.us/event/storytime-epl-2/2031-01-16/
LOCATION:Ellisville Public Library\, 201 Poplar St\, Ellisville\, MS\, 39437\, United States
CATEGORIES:Ellisville Branch
ATTACH;FMTTYPE=image/png:https://laurel.lib.ms.us/wp-content/uploads/2023/02/Storytime.png
END:VEVENT
BEGIN:VEVENT
DTSTART;TZID=America/Chicago:20310116T143000
DTEND;TZID=America/Chicago:20310116T163000
DTSTAMP:20260425T190821
CREATED:20251208T142636Z
LAST-MODIFIED:20251208T142636Z
UID:10140824-1926340200-1926347400@laurel.lib.ms.us
SUMMARY:LEGO® Club @ELL
DESCRIPTION:Join us each month to to complete a LEGO® challenge!
URL:https://laurel.lib.ms.us/event/lego-club-ell-3/2031-01-16/
LOCATION:Ellisville Public Library\, 201 Poplar St\, Ellisville\, MS\, 39437\, United States
CATEGORIES:Ellisville Branch
ATTACH;FMTTYPE=image/png:https://laurel.lib.ms.us/wp-content/uploads/2023/02/LEGO-Club.png
END:VEVENT
BEGIN:VEVENT
DTSTART;TZID=America/Chicago:20310118T090000
DTEND;TZID=America/Chicago:20310118T110000
DTSTAMP:20260425T190821
CREATED:20260130T182954Z
LAST-MODIFIED:20260130T182954Z
UID:10140448-1926493200-1926500400@laurel.lib.ms.us
SUMMARY:Ellisville Chess Club @ELL
DESCRIPTION:Come play chess with other chess enthusiasts at our chess group! Open to all ages and skill levels!
URL:https://laurel.lib.ms.us/event/ellisville-chess-club-ell/2031-01-18/
LOCATION:Ellisville Public Library\, 201 Poplar St\, Ellisville\, MS\, 39437\, United States
CATEGORIES:Ellisville Branch
END:VEVENT
BEGIN:VEVENT
DTSTART;TZID=America/Chicago:20310123T090000
DTEND;TZID=America/Chicago:20310123T100000
DTSTAMP:20260425T190821
CREATED:20231206T170135Z
LAST-MODIFIED:20250205T162916Z
UID:10140595-1926925200-1926928800@laurel.lib.ms.us
SUMMARY:Baby + Me @ELL
DESCRIPTION:A program exploring books\, songs\, and fun activities designed for babies and toddlers.
URL:https://laurel.lib.ms.us/event/baby-me-epl-2/2031-01-23/
LOCATION:Ellisville Public Library\, 201 Poplar St\, Ellisville\, MS\, 39437\, United States
CATEGORIES:Ellisville Branch
ATTACH;FMTTYPE=image/png:https://laurel.lib.ms.us/wp-content/uploads/2023/02/Baby-Me.png
END:VEVENT
BEGIN:VEVENT
DTSTART;TZID=America/Chicago:20310123T100000
DTEND;TZID=America/Chicago:20310123T110000
DTSTAMP:20260425T190821
CREATED:20231206T171105Z
LAST-MODIFIED:20250205T162906Z
UID:10140566-1926928800-1926932400@laurel.lib.ms.us
SUMMARY:Storytime @ELL
DESCRIPTION:Join us every week for a story and a craft!
URL:https://laurel.lib.ms.us/event/storytime-epl-2/2031-01-23/
LOCATION:Ellisville Public Library\, 201 Poplar St\, Ellisville\, MS\, 39437\, United States
CATEGORIES:Ellisville Branch
ATTACH;FMTTYPE=image/png:https://laurel.lib.ms.us/wp-content/uploads/2023/02/Storytime.png
END:VEVENT
BEGIN:VEVENT
DTSTART;TZID=America/Chicago:20310130T090000
DTEND;TZID=America/Chicago:20310130T100000
DTSTAMP:20260425T190821
CREATED:20231206T170135Z
LAST-MODIFIED:20250205T162916Z
UID:10140596-1927530000-1927533600@laurel.lib.ms.us
SUMMARY:Baby + Me @ELL
DESCRIPTION:A program exploring books\, songs\, and fun activities designed for babies and toddlers.
URL:https://laurel.lib.ms.us/event/baby-me-epl-2/2031-01-30/
LOCATION:Ellisville Public Library\, 201 Poplar St\, Ellisville\, MS\, 39437\, United States
CATEGORIES:Ellisville Branch
ATTACH;FMTTYPE=image/png:https://laurel.lib.ms.us/wp-content/uploads/2023/02/Baby-Me.png
END:VEVENT
BEGIN:VEVENT
DTSTART;TZID=America/Chicago:20310130T100000
DTEND;TZID=America/Chicago:20310130T110000
DTSTAMP:20260425T190821
CREATED:20231206T171105Z
LAST-MODIFIED:20250205T162906Z
UID:10140567-1927533600-1927537200@laurel.lib.ms.us
SUMMARY:Storytime @ELL
DESCRIPTION:Join us every week for a story and a craft!
URL:https://laurel.lib.ms.us/event/storytime-epl-2/2031-01-30/
LOCATION:Ellisville Public Library\, 201 Poplar St\, Ellisville\, MS\, 39437\, United States
CATEGORIES:Ellisville Branch
ATTACH;FMTTYPE=image/png:https://laurel.lib.ms.us/wp-content/uploads/2023/02/Storytime.png
END:VEVENT
BEGIN:VEVENT
DTSTART;TZID=America/Chicago:20310206T090000
DTEND;TZID=America/Chicago:20310206T100000
DTSTAMP:20260425T190821
CREATED:20231206T170135Z
LAST-MODIFIED:20250205T162916Z
UID:10140597-1928134800-1928138400@laurel.lib.ms.us
SUMMARY:Baby + Me @ELL
DESCRIPTION:A program exploring books\, songs\, and fun activities designed for babies and toddlers.
URL:https://laurel.lib.ms.us/event/baby-me-epl-2/2031-02-06/
LOCATION:Ellisville Public Library\, 201 Poplar St\, Ellisville\, MS\, 39437\, United States
CATEGORIES:Ellisville Branch
ATTACH;FMTTYPE=image/png:https://laurel.lib.ms.us/wp-content/uploads/2023/02/Baby-Me.png
END:VEVENT
BEGIN:VEVENT
DTSTART;TZID=America/Chicago:20310206T100000
DTEND;TZID=America/Chicago:20310206T110000
DTSTAMP:20260425T190821
CREATED:20231206T171105Z
LAST-MODIFIED:20250205T162906Z
UID:10140568-1928138400-1928142000@laurel.lib.ms.us
SUMMARY:Storytime @ELL
DESCRIPTION:Join us every week for a story and a craft!
URL:https://laurel.lib.ms.us/event/storytime-epl-2/2031-02-06/
LOCATION:Ellisville Public Library\, 201 Poplar St\, Ellisville\, MS\, 39437\, United States
CATEGORIES:Ellisville Branch
ATTACH;FMTTYPE=image/png:https://laurel.lib.ms.us/wp-content/uploads/2023/02/Storytime.png
END:VEVENT
BEGIN:VEVENT
DTSTART;TZID=America/Chicago:20310213T173000
DTEND;TZID=America/Chicago:20310213T183000
DTSTAMP:20260425T190821
CREATED:20260420T142034Z
LAST-MODIFIED:20260420T142034Z
UID:10140915-1928770200-1928773800@laurel.lib.ms.us
SUMMARY:Graphic Novel Club @ELL
DESCRIPTION:Join us at the Ellisville Public Library as we discuss this month’s graphic novel selection! \nPlease note that this class is for adults (18+) only. It is not appropriate for younger readers.
URL:https://laurel.lib.ms.us/event/graphic-novel-club-ell/
LOCATION:Ellisville Public Library\, 201 Poplar St\, Ellisville\, MS\, 39437\, United States
CATEGORIES:Ellisville Branch
END:VEVENT
BEGIN:VEVENT
DTSTART;TZID=America/Chicago:20310215T090000
DTEND;TZID=America/Chicago:20310215T110000
DTSTAMP:20260425T190821
CREATED:20260130T182954Z
LAST-MODIFIED:20260130T182954Z
UID:10140918-1928912400-1928919600@laurel.lib.ms.us
SUMMARY:Ellisville Chess Club @ELL
DESCRIPTION:Come play chess with other chess enthusiasts at our chess group! Open to all ages and skill levels!
URL:https://laurel.lib.ms.us/event/ellisville-chess-club-ell/2031-02-15/
LOCATION:Ellisville Public Library\, 201 Poplar St\, Ellisville\, MS\, 39437\, United States
CATEGORIES:Ellisville Branch
END:VEVENT
BEGIN:VEVENT
DTSTART;TZID=America/Chicago:20310220T143000
DTEND;TZID=America/Chicago:20310220T163000
DTSTAMP:20260425T190821
CREATED:20251208T142636Z
LAST-MODIFIED:20251208T142636Z
UID:10140825-1929364200-1929371400@laurel.lib.ms.us
SUMMARY:LEGO® Club @ELL
DESCRIPTION:Join us each month to to complete a LEGO® challenge!
URL:https://laurel.lib.ms.us/event/lego-club-ell-3/2031-02-20/
LOCATION:Ellisville Public Library\, 201 Poplar St\, Ellisville\, MS\, 39437\, United States
CATEGORIES:Ellisville Branch
ATTACH;FMTTYPE=image/png:https://laurel.lib.ms.us/wp-content/uploads/2023/02/LEGO-Club.png
END:VEVENT
BEGIN:VEVENT
DTSTART;TZID=America/Chicago:20310313T173000
DTEND;TZID=America/Chicago:20310313T183000
DTSTAMP:20260425T190821
CREATED:20260420T142034Z
LAST-MODIFIED:20260420T142034Z
UID:10140916-1931189400-1931193000@laurel.lib.ms.us
SUMMARY:Graphic Novel Club @ELL
DESCRIPTION:Join us at the Ellisville Public Library as we discuss this month’s graphic novel selection! \nPlease note that this class is for adults (18+) only. It is not appropriate for younger readers.
URL:https://laurel.lib.ms.us/event/graphic-novel-club-ell/
LOCATION:Ellisville Public Library\, 201 Poplar St\, Ellisville\, MS\, 39437\, United States
CATEGORIES:Ellisville Branch
END:VEVENT
BEGIN:VEVENT
DTSTART;TZID=America/Chicago:20310315T090000
DTEND;TZID=America/Chicago:20310315T110000
DTSTAMP:20260425T190821
CREATED:20260130T182954Z
LAST-MODIFIED:20260130T182954Z
UID:10140919-1931331600-1931338800@laurel.lib.ms.us
SUMMARY:Ellisville Chess Club @ELL
DESCRIPTION:Come play chess with other chess enthusiasts at our chess group! Open to all ages and skill levels!
URL:https://laurel.lib.ms.us/event/ellisville-chess-club-ell/2031-03-15/
LOCATION:Ellisville Public Library\, 201 Poplar St\, Ellisville\, MS\, 39437\, United States
CATEGORIES:Ellisville Branch
END:VEVENT
BEGIN:VEVENT
DTSTART;TZID=America/Chicago:20310320T143000
DTEND;TZID=America/Chicago:20310320T163000
DTSTAMP:20260425T190821
CREATED:20251208T142636Z
LAST-MODIFIED:20251208T142636Z
UID:10140826-1931783400-1931790600@laurel.lib.ms.us
SUMMARY:LEGO® Club @ELL
DESCRIPTION:Join us each month to to complete a LEGO® challenge!
URL:https://laurel.lib.ms.us/event/lego-club-ell-3/2031-03-20/
LOCATION:Ellisville Public Library\, 201 Poplar St\, Ellisville\, MS\, 39437\, United States
CATEGORIES:Ellisville Branch
ATTACH;FMTTYPE=image/png:https://laurel.lib.ms.us/wp-content/uploads/2023/02/LEGO-Club.png
END:VEVENT
BEGIN:VEVENT
DTSTART;TZID=America/Chicago:20310410T173000
DTEND;TZID=America/Chicago:20310410T183000
DTSTAMP:20260425T190821
CREATED:20260420T142034Z
LAST-MODIFIED:20260420T142034Z
UID:10140917-1933608600-1933612200@laurel.lib.ms.us
SUMMARY:Graphic Novel Club @ELL
DESCRIPTION:Join us at the Ellisville Public Library as we discuss this month’s graphic novel selection! \nPlease note that this class is for adults (18+) only. It is not appropriate for younger readers.
URL:https://laurel.lib.ms.us/event/graphic-novel-club-ell/
LOCATION:Ellisville Public Library\, 201 Poplar St\, Ellisville\, MS\, 39437\, United States
CATEGORIES:Ellisville Branch
END:VEVENT
BEGIN:VEVENT
DTSTART;TZID=America/Chicago:20310419T090000
DTEND;TZID=America/Chicago:20310419T110000
DTSTAMP:20260425T190821
CREATED:20260130T182954Z
LAST-MODIFIED:20260130T182954Z
UID:10140920-1934355600-1934362800@laurel.lib.ms.us
SUMMARY:Ellisville Chess Club @ELL
DESCRIPTION:Come play chess with other chess enthusiasts at our chess group! Open to all ages and skill levels!
URL:https://laurel.lib.ms.us/event/ellisville-chess-club-ell/2031-04-19/
LOCATION:Ellisville Public Library\, 201 Poplar St\, Ellisville\, MS\, 39437\, United States
CATEGORIES:Ellisville Branch
END:VEVENT
END:VCALENDAR