BEGIN:VCALENDAR
VERSION:2.0
PRODID:-//Laurel Library - ECPv6.15.20//NONSGML v1.0//EN
CALSCALE:GREGORIAN
METHOD:PUBLISH
X-ORIGINAL-URL:https://laurel.lib.ms.us
X-WR-CALDESC:Events for Laurel Library
REFRESH-INTERVAL;VALUE=DURATION:PT1H
X-Robots-Tag:noindex
X-PUBLISHED-TTL:PT1H
BEGIN:VTIMEZONE
TZID:America/Chicago
BEGIN:DAYLIGHT
TZOFFSETFROM:-0600
TZOFFSETTO:-0500
TZNAME:CDT
DTSTART:20290311T080000
END:DAYLIGHT
BEGIN:STANDARD
TZOFFSETFROM:-0500
TZOFFSETTO:-0600
TZNAME:CST
DTSTART:20291104T070000
END:STANDARD
BEGIN:DAYLIGHT
TZOFFSETFROM:-0600
TZOFFSETTO:-0500
TZNAME:CDT
DTSTART:20300310T080000
END:DAYLIGHT
BEGIN:STANDARD
TZOFFSETFROM:-0500
TZOFFSETTO:-0600
TZNAME:CST
DTSTART:20301103T070000
END:STANDARD
BEGIN:DAYLIGHT
TZOFFSETFROM:-0600
TZOFFSETTO:-0500
TZNAME:CDT
DTSTART:20310309T080000
END:DAYLIGHT
BEGIN:STANDARD
TZOFFSETFROM:-0500
TZOFFSETTO:-0600
TZNAME:CST
DTSTART:20311102T070000
END:STANDARD
BEGIN:DAYLIGHT
TZOFFSETFROM:-0600
TZOFFSETTO:-0500
TZNAME:CDT
DTSTART:20320314T080000
END:DAYLIGHT
BEGIN:STANDARD
TZOFFSETFROM:-0500
TZOFFSETTO:-0600
TZNAME:CST
DTSTART:20321107T070000
END:STANDARD
END:VTIMEZONE
BEGIN:VEVENT
DTSTART;TZID=America/Chicago:20301017T100000
DTEND;TZID=America/Chicago:20301017T110000
DTSTAMP:20260425T162332
CREATED:20231206T171105Z
LAST-MODIFIED:20250205T162906Z
UID:10140552-1918461600-1918465200@laurel.lib.ms.us
SUMMARY:Storytime @ELL
DESCRIPTION:Join us every week for a story and a craft!
URL:https://laurel.lib.ms.us/event/storytime-epl-2/2030-10-17/
LOCATION:Ellisville Public Library\, 201 Poplar St\, Ellisville\, MS\, 39437\, United States
CATEGORIES:Ellisville Branch
ATTACH;FMTTYPE=image/png:https://laurel.lib.ms.us/wp-content/uploads/2023/02/Storytime.png
END:VEVENT
BEGIN:VEVENT
DTSTART;TZID=America/Chicago:20301017T143000
DTEND;TZID=America/Chicago:20301017T163000
DTSTAMP:20260425T162332
CREATED:20251208T142636Z
LAST-MODIFIED:20251208T142636Z
UID:10138369-1918477800-1918485000@laurel.lib.ms.us
SUMMARY:LEGO® Club @ELL
DESCRIPTION:Join us each month to to complete a LEGO® challenge!
URL:https://laurel.lib.ms.us/event/lego-club-ell-3/2030-10-17/
LOCATION:Ellisville Public Library\, 201 Poplar St\, Ellisville\, MS\, 39437\, United States
CATEGORIES:Ellisville Branch
ATTACH;FMTTYPE=image/png:https://laurel.lib.ms.us/wp-content/uploads/2023/02/LEGO-Club.png
END:VEVENT
BEGIN:VEVENT
DTSTART;TZID=America/Chicago:20301019T090000
DTEND;TZID=America/Chicago:20301019T110000
DTSTAMP:20260425T162332
CREATED:20260130T182954Z
LAST-MODIFIED:20260130T182954Z
UID:10140445-1918630800-1918638000@laurel.lib.ms.us
SUMMARY:Ellisville Chess Club @ELL
DESCRIPTION:Come play chess with other chess enthusiasts at our chess group! Open to all ages and skill levels!
URL:https://laurel.lib.ms.us/event/ellisville-chess-club-ell/2030-10-19/
LOCATION:Ellisville Public Library\, 201 Poplar St\, Ellisville\, MS\, 39437\, United States
CATEGORIES:Ellisville Branch
END:VEVENT
BEGIN:VEVENT
DTSTART;TZID=America/Chicago:20301024T090000
DTEND;TZID=America/Chicago:20301024T100000
DTSTAMP:20260425T162332
CREATED:20231206T170135Z
LAST-MODIFIED:20250205T162916Z
UID:10140582-1919062800-1919066400@laurel.lib.ms.us
SUMMARY:Baby + Me @ELL
DESCRIPTION:A program exploring books\, songs\, and fun activities designed for babies and toddlers.
URL:https://laurel.lib.ms.us/event/baby-me-epl-2/2030-10-24/
LOCATION:Ellisville Public Library\, 201 Poplar St\, Ellisville\, MS\, 39437\, United States
CATEGORIES:Ellisville Branch
ATTACH;FMTTYPE=image/png:https://laurel.lib.ms.us/wp-content/uploads/2023/02/Baby-Me.png
END:VEVENT
BEGIN:VEVENT
DTSTART;TZID=America/Chicago:20301024T100000
DTEND;TZID=America/Chicago:20301024T110000
DTSTAMP:20260425T162333
CREATED:20231206T171105Z
LAST-MODIFIED:20250205T162906Z
UID:10140553-1919066400-1919070000@laurel.lib.ms.us
SUMMARY:Storytime @ELL
DESCRIPTION:Join us every week for a story and a craft!
URL:https://laurel.lib.ms.us/event/storytime-epl-2/2030-10-24/
LOCATION:Ellisville Public Library\, 201 Poplar St\, Ellisville\, MS\, 39437\, United States
CATEGORIES:Ellisville Branch
ATTACH;FMTTYPE=image/png:https://laurel.lib.ms.us/wp-content/uploads/2023/02/Storytime.png
END:VEVENT
BEGIN:VEVENT
DTSTART;TZID=America/Chicago:20301031T090000
DTEND;TZID=America/Chicago:20301031T100000
DTSTAMP:20260425T162333
CREATED:20231206T170135Z
LAST-MODIFIED:20250205T162916Z
UID:10140583-1919667600-1919671200@laurel.lib.ms.us
SUMMARY:Baby + Me @ELL
DESCRIPTION:A program exploring books\, songs\, and fun activities designed for babies and toddlers.
URL:https://laurel.lib.ms.us/event/baby-me-epl-2/2030-10-31/
LOCATION:Ellisville Public Library\, 201 Poplar St\, Ellisville\, MS\, 39437\, United States
CATEGORIES:Ellisville Branch
ATTACH;FMTTYPE=image/png:https://laurel.lib.ms.us/wp-content/uploads/2023/02/Baby-Me.png
END:VEVENT
BEGIN:VEVENT
DTSTART;TZID=America/Chicago:20301031T100000
DTEND;TZID=America/Chicago:20301031T110000
DTSTAMP:20260425T162333
CREATED:20231206T171105Z
LAST-MODIFIED:20250205T162906Z
UID:10140554-1919671200-1919674800@laurel.lib.ms.us
SUMMARY:Storytime @ELL
DESCRIPTION:Join us every week for a story and a craft!
URL:https://laurel.lib.ms.us/event/storytime-epl-2/2030-10-31/
LOCATION:Ellisville Public Library\, 201 Poplar St\, Ellisville\, MS\, 39437\, United States
CATEGORIES:Ellisville Branch
ATTACH;FMTTYPE=image/png:https://laurel.lib.ms.us/wp-content/uploads/2023/02/Storytime.png
END:VEVENT
BEGIN:VEVENT
DTSTART;TZID=America/Chicago:20301107T090000
DTEND;TZID=America/Chicago:20301107T100000
DTSTAMP:20260425T162333
CREATED:20231206T170135Z
LAST-MODIFIED:20250205T162916Z
UID:10140584-1920272400-1920276000@laurel.lib.ms.us
SUMMARY:Baby + Me @ELL
DESCRIPTION:A program exploring books\, songs\, and fun activities designed for babies and toddlers.
URL:https://laurel.lib.ms.us/event/baby-me-epl-2/2030-11-07/
LOCATION:Ellisville Public Library\, 201 Poplar St\, Ellisville\, MS\, 39437\, United States
CATEGORIES:Ellisville Branch
ATTACH;FMTTYPE=image/png:https://laurel.lib.ms.us/wp-content/uploads/2023/02/Baby-Me.png
END:VEVENT
BEGIN:VEVENT
DTSTART;TZID=America/Chicago:20301107T100000
DTEND;TZID=America/Chicago:20301107T110000
DTSTAMP:20260425T162333
CREATED:20231206T171105Z
LAST-MODIFIED:20250205T162906Z
UID:10140555-1920276000-1920279600@laurel.lib.ms.us
SUMMARY:Storytime @ELL
DESCRIPTION:Join us every week for a story and a craft!
URL:https://laurel.lib.ms.us/event/storytime-epl-2/2030-11-07/
LOCATION:Ellisville Public Library\, 201 Poplar St\, Ellisville\, MS\, 39437\, United States
CATEGORIES:Ellisville Branch
ATTACH;FMTTYPE=image/png:https://laurel.lib.ms.us/wp-content/uploads/2023/02/Storytime.png
END:VEVENT
BEGIN:VEVENT
DTSTART;TZID=America/Chicago:20301114T090000
DTEND;TZID=America/Chicago:20301114T100000
DTSTAMP:20260425T162333
CREATED:20231206T170135Z
LAST-MODIFIED:20250205T162916Z
UID:10140585-1920877200-1920880800@laurel.lib.ms.us
SUMMARY:Baby + Me @ELL
DESCRIPTION:A program exploring books\, songs\, and fun activities designed for babies and toddlers.
URL:https://laurel.lib.ms.us/event/baby-me-epl-2/2030-11-14/
LOCATION:Ellisville Public Library\, 201 Poplar St\, Ellisville\, MS\, 39437\, United States
CATEGORIES:Ellisville Branch
ATTACH;FMTTYPE=image/png:https://laurel.lib.ms.us/wp-content/uploads/2023/02/Baby-Me.png
END:VEVENT
BEGIN:VEVENT
DTSTART;TZID=America/Chicago:20301114T100000
DTEND;TZID=America/Chicago:20301114T110000
DTSTAMP:20260425T162333
CREATED:20231206T171105Z
LAST-MODIFIED:20250205T162906Z
UID:10140556-1920880800-1920884400@laurel.lib.ms.us
SUMMARY:Storytime @ELL
DESCRIPTION:Join us every week for a story and a craft!
URL:https://laurel.lib.ms.us/event/storytime-epl-2/2030-11-14/
LOCATION:Ellisville Public Library\, 201 Poplar St\, Ellisville\, MS\, 39437\, United States
CATEGORIES:Ellisville Branch
ATTACH;FMTTYPE=image/png:https://laurel.lib.ms.us/wp-content/uploads/2023/02/Storytime.png
END:VEVENT
BEGIN:VEVENT
DTSTART;TZID=America/Chicago:20301114T173000
DTEND;TZID=America/Chicago:20301114T183000
DTSTAMP:20260425T162333
CREATED:20260420T142034Z
LAST-MODIFIED:20260420T142034Z
UID:10140912-1920907800-1920911400@laurel.lib.ms.us
SUMMARY:Graphic Novel Club @ELL
DESCRIPTION:Join us at the Ellisville Public Library as we discuss this month’s graphic novel selection! \nPlease note that this class is for adults (18+) only. It is not appropriate for younger readers.
URL:https://laurel.lib.ms.us/event/graphic-novel-club-ell/
LOCATION:Ellisville Public Library\, 201 Poplar St\, Ellisville\, MS\, 39437\, United States
CATEGORIES:Ellisville Branch
END:VEVENT
BEGIN:VEVENT
DTSTART;TZID=America/Chicago:20301116T090000
DTEND;TZID=America/Chicago:20301116T110000
DTSTAMP:20260425T162333
CREATED:20260130T182954Z
LAST-MODIFIED:20260130T182954Z
UID:10140446-1921050000-1921057200@laurel.lib.ms.us
SUMMARY:Ellisville Chess Club @ELL
DESCRIPTION:Come play chess with other chess enthusiasts at our chess group! Open to all ages and skill levels!
URL:https://laurel.lib.ms.us/event/ellisville-chess-club-ell/2030-11-16/
LOCATION:Ellisville Public Library\, 201 Poplar St\, Ellisville\, MS\, 39437\, United States
CATEGORIES:Ellisville Branch
END:VEVENT
BEGIN:VEVENT
DTSTART;TZID=America/Chicago:20301121T090000
DTEND;TZID=America/Chicago:20301121T100000
DTSTAMP:20260425T162333
CREATED:20231206T170135Z
LAST-MODIFIED:20250205T162916Z
UID:10140586-1921482000-1921485600@laurel.lib.ms.us
SUMMARY:Baby + Me @ELL
DESCRIPTION:A program exploring books\, songs\, and fun activities designed for babies and toddlers.
URL:https://laurel.lib.ms.us/event/baby-me-epl-2/2030-11-21/
LOCATION:Ellisville Public Library\, 201 Poplar St\, Ellisville\, MS\, 39437\, United States
CATEGORIES:Ellisville Branch
ATTACH;FMTTYPE=image/png:https://laurel.lib.ms.us/wp-content/uploads/2023/02/Baby-Me.png
END:VEVENT
BEGIN:VEVENT
DTSTART;TZID=America/Chicago:20301121T100000
DTEND;TZID=America/Chicago:20301121T110000
DTSTAMP:20260425T162333
CREATED:20231206T171105Z
LAST-MODIFIED:20250205T162906Z
UID:10140557-1921485600-1921489200@laurel.lib.ms.us
SUMMARY:Storytime @ELL
DESCRIPTION:Join us every week for a story and a craft!
URL:https://laurel.lib.ms.us/event/storytime-epl-2/2030-11-21/
LOCATION:Ellisville Public Library\, 201 Poplar St\, Ellisville\, MS\, 39437\, United States
CATEGORIES:Ellisville Branch
ATTACH;FMTTYPE=image/png:https://laurel.lib.ms.us/wp-content/uploads/2023/02/Storytime.png
END:VEVENT
BEGIN:VEVENT
DTSTART;TZID=America/Chicago:20301121T143000
DTEND;TZID=America/Chicago:20301121T163000
DTSTAMP:20260425T162333
CREATED:20251208T142636Z
LAST-MODIFIED:20251208T142636Z
UID:10138370-1921501800-1921509000@laurel.lib.ms.us
SUMMARY:LEGO® Club @ELL
DESCRIPTION:Join us each month to to complete a LEGO® challenge!
URL:https://laurel.lib.ms.us/event/lego-club-ell-3/2030-11-21/
LOCATION:Ellisville Public Library\, 201 Poplar St\, Ellisville\, MS\, 39437\, United States
CATEGORIES:Ellisville Branch
ATTACH;FMTTYPE=image/png:https://laurel.lib.ms.us/wp-content/uploads/2023/02/LEGO-Club.png
END:VEVENT
BEGIN:VEVENT
DTSTART;TZID=America/Chicago:20301128T090000
DTEND;TZID=America/Chicago:20301128T100000
DTSTAMP:20260425T162333
CREATED:20231206T170135Z
LAST-MODIFIED:20250205T162916Z
UID:10140587-1922086800-1922090400@laurel.lib.ms.us
SUMMARY:Baby + Me @ELL
DESCRIPTION:A program exploring books\, songs\, and fun activities designed for babies and toddlers.
URL:https://laurel.lib.ms.us/event/baby-me-epl-2/2030-11-28/
LOCATION:Ellisville Public Library\, 201 Poplar St\, Ellisville\, MS\, 39437\, United States
CATEGORIES:Ellisville Branch
ATTACH;FMTTYPE=image/png:https://laurel.lib.ms.us/wp-content/uploads/2023/02/Baby-Me.png
END:VEVENT
BEGIN:VEVENT
DTSTART;TZID=America/Chicago:20301128T100000
DTEND;TZID=America/Chicago:20301128T110000
DTSTAMP:20260425T162333
CREATED:20231206T171105Z
LAST-MODIFIED:20250205T162906Z
UID:10140558-1922090400-1922094000@laurel.lib.ms.us
SUMMARY:Storytime @ELL
DESCRIPTION:Join us every week for a story and a craft!
URL:https://laurel.lib.ms.us/event/storytime-epl-2/2030-11-28/
LOCATION:Ellisville Public Library\, 201 Poplar St\, Ellisville\, MS\, 39437\, United States
CATEGORIES:Ellisville Branch
ATTACH;FMTTYPE=image/png:https://laurel.lib.ms.us/wp-content/uploads/2023/02/Storytime.png
END:VEVENT
BEGIN:VEVENT
DTSTART;TZID=America/Chicago:20301205T090000
DTEND;TZID=America/Chicago:20301205T100000
DTSTAMP:20260425T162333
CREATED:20231206T170135Z
LAST-MODIFIED:20250205T162916Z
UID:10140588-1922691600-1922695200@laurel.lib.ms.us
SUMMARY:Baby + Me @ELL
DESCRIPTION:A program exploring books\, songs\, and fun activities designed for babies and toddlers.
URL:https://laurel.lib.ms.us/event/baby-me-epl-2/2030-12-05/
LOCATION:Ellisville Public Library\, 201 Poplar St\, Ellisville\, MS\, 39437\, United States
CATEGORIES:Ellisville Branch
ATTACH;FMTTYPE=image/png:https://laurel.lib.ms.us/wp-content/uploads/2023/02/Baby-Me.png
END:VEVENT
BEGIN:VEVENT
DTSTART;TZID=America/Chicago:20301205T100000
DTEND;TZID=America/Chicago:20301205T110000
DTSTAMP:20260425T162333
CREATED:20231206T171105Z
LAST-MODIFIED:20250205T162906Z
UID:10140559-1922695200-1922698800@laurel.lib.ms.us
SUMMARY:Storytime @ELL
DESCRIPTION:Join us every week for a story and a craft!
URL:https://laurel.lib.ms.us/event/storytime-epl-2/2030-12-05/
LOCATION:Ellisville Public Library\, 201 Poplar St\, Ellisville\, MS\, 39437\, United States
CATEGORIES:Ellisville Branch
ATTACH;FMTTYPE=image/png:https://laurel.lib.ms.us/wp-content/uploads/2023/02/Storytime.png
END:VEVENT
BEGIN:VEVENT
DTSTART;TZID=America/Chicago:20301212T090000
DTEND;TZID=America/Chicago:20301212T100000
DTSTAMP:20260425T162333
CREATED:20231206T170135Z
LAST-MODIFIED:20250205T162916Z
UID:10140589-1923296400-1923300000@laurel.lib.ms.us
SUMMARY:Baby + Me @ELL
DESCRIPTION:A program exploring books\, songs\, and fun activities designed for babies and toddlers.
URL:https://laurel.lib.ms.us/event/baby-me-epl-2/2030-12-12/
LOCATION:Ellisville Public Library\, 201 Poplar St\, Ellisville\, MS\, 39437\, United States
CATEGORIES:Ellisville Branch
ATTACH;FMTTYPE=image/png:https://laurel.lib.ms.us/wp-content/uploads/2023/02/Baby-Me.png
END:VEVENT
BEGIN:VEVENT
DTSTART;TZID=America/Chicago:20301212T100000
DTEND;TZID=America/Chicago:20301212T110000
DTSTAMP:20260425T162333
CREATED:20231206T171105Z
LAST-MODIFIED:20250205T162906Z
UID:10140560-1923300000-1923303600@laurel.lib.ms.us
SUMMARY:Storytime @ELL
DESCRIPTION:Join us every week for a story and a craft!
URL:https://laurel.lib.ms.us/event/storytime-epl-2/2030-12-12/
LOCATION:Ellisville Public Library\, 201 Poplar St\, Ellisville\, MS\, 39437\, United States
CATEGORIES:Ellisville Branch
ATTACH;FMTTYPE=image/png:https://laurel.lib.ms.us/wp-content/uploads/2023/02/Storytime.png
END:VEVENT
BEGIN:VEVENT
DTSTART;TZID=America/Chicago:20301212T173000
DTEND;TZID=America/Chicago:20301212T183000
DTSTAMP:20260425T162333
CREATED:20260420T142034Z
LAST-MODIFIED:20260420T142034Z
UID:10140913-1923327000-1923330600@laurel.lib.ms.us
SUMMARY:Graphic Novel Club @ELL
DESCRIPTION:Join us at the Ellisville Public Library as we discuss this month’s graphic novel selection! \nPlease note that this class is for adults (18+) only. It is not appropriate for younger readers.
URL:https://laurel.lib.ms.us/event/graphic-novel-club-ell/
LOCATION:Ellisville Public Library\, 201 Poplar St\, Ellisville\, MS\, 39437\, United States
CATEGORIES:Ellisville Branch
END:VEVENT
BEGIN:VEVENT
DTSTART;TZID=America/Chicago:20301219T090000
DTEND;TZID=America/Chicago:20301219T100000
DTSTAMP:20260425T162333
CREATED:20231206T170135Z
LAST-MODIFIED:20250205T162916Z
UID:10140590-1923901200-1923904800@laurel.lib.ms.us
SUMMARY:Baby + Me @ELL
DESCRIPTION:A program exploring books\, songs\, and fun activities designed for babies and toddlers.
URL:https://laurel.lib.ms.us/event/baby-me-epl-2/2030-12-19/
LOCATION:Ellisville Public Library\, 201 Poplar St\, Ellisville\, MS\, 39437\, United States
CATEGORIES:Ellisville Branch
ATTACH;FMTTYPE=image/png:https://laurel.lib.ms.us/wp-content/uploads/2023/02/Baby-Me.png
END:VEVENT
BEGIN:VEVENT
DTSTART;TZID=America/Chicago:20301219T100000
DTEND;TZID=America/Chicago:20301219T110000
DTSTAMP:20260425T162333
CREATED:20231206T171105Z
LAST-MODIFIED:20250205T162906Z
UID:10140561-1923904800-1923908400@laurel.lib.ms.us
SUMMARY:Storytime @ELL
DESCRIPTION:Join us every week for a story and a craft!
URL:https://laurel.lib.ms.us/event/storytime-epl-2/2030-12-19/
LOCATION:Ellisville Public Library\, 201 Poplar St\, Ellisville\, MS\, 39437\, United States
CATEGORIES:Ellisville Branch
ATTACH;FMTTYPE=image/png:https://laurel.lib.ms.us/wp-content/uploads/2023/02/Storytime.png
END:VEVENT
BEGIN:VEVENT
DTSTART;TZID=America/Chicago:20301219T143000
DTEND;TZID=America/Chicago:20301219T163000
DTSTAMP:20260425T162333
CREATED:20251208T142636Z
LAST-MODIFIED:20251208T142636Z
UID:10140823-1923921000-1923928200@laurel.lib.ms.us
SUMMARY:LEGO® Club @ELL
DESCRIPTION:Join us each month to to complete a LEGO® challenge!
URL:https://laurel.lib.ms.us/event/lego-club-ell-3/2030-12-19/
LOCATION:Ellisville Public Library\, 201 Poplar St\, Ellisville\, MS\, 39437\, United States
CATEGORIES:Ellisville Branch
ATTACH;FMTTYPE=image/png:https://laurel.lib.ms.us/wp-content/uploads/2023/02/LEGO-Club.png
END:VEVENT
BEGIN:VEVENT
DTSTART;TZID=America/Chicago:20301221T090000
DTEND;TZID=America/Chicago:20301221T110000
DTSTAMP:20260425T162333
CREATED:20260130T182954Z
LAST-MODIFIED:20260130T182954Z
UID:10140447-1924074000-1924081200@laurel.lib.ms.us
SUMMARY:Ellisville Chess Club @ELL
DESCRIPTION:Come play chess with other chess enthusiasts at our chess group! Open to all ages and skill levels!
URL:https://laurel.lib.ms.us/event/ellisville-chess-club-ell/2030-12-21/
LOCATION:Ellisville Public Library\, 201 Poplar St\, Ellisville\, MS\, 39437\, United States
CATEGORIES:Ellisville Branch
END:VEVENT
BEGIN:VEVENT
DTSTART;TZID=America/Chicago:20301226T090000
DTEND;TZID=America/Chicago:20301226T100000
DTSTAMP:20260425T162333
CREATED:20231206T170135Z
LAST-MODIFIED:20250205T162916Z
UID:10140591-1924506000-1924509600@laurel.lib.ms.us
SUMMARY:Baby + Me @ELL
DESCRIPTION:A program exploring books\, songs\, and fun activities designed for babies and toddlers.
URL:https://laurel.lib.ms.us/event/baby-me-epl-2/2030-12-26/
LOCATION:Ellisville Public Library\, 201 Poplar St\, Ellisville\, MS\, 39437\, United States
CATEGORIES:Ellisville Branch
ATTACH;FMTTYPE=image/png:https://laurel.lib.ms.us/wp-content/uploads/2023/02/Baby-Me.png
END:VEVENT
BEGIN:VEVENT
DTSTART;TZID=America/Chicago:20301226T100000
DTEND;TZID=America/Chicago:20301226T110000
DTSTAMP:20260425T162333
CREATED:20231206T171105Z
LAST-MODIFIED:20250205T162906Z
UID:10140562-1924509600-1924513200@laurel.lib.ms.us
SUMMARY:Storytime @ELL
DESCRIPTION:Join us every week for a story and a craft!
URL:https://laurel.lib.ms.us/event/storytime-epl-2/2030-12-26/
LOCATION:Ellisville Public Library\, 201 Poplar St\, Ellisville\, MS\, 39437\, United States
CATEGORIES:Ellisville Branch
ATTACH;FMTTYPE=image/png:https://laurel.lib.ms.us/wp-content/uploads/2023/02/Storytime.png
END:VEVENT
BEGIN:VEVENT
DTSTART;TZID=America/Chicago:20310102T090000
DTEND;TZID=America/Chicago:20310102T100000
DTSTAMP:20260425T162333
CREATED:20231206T170135Z
LAST-MODIFIED:20250205T162916Z
UID:10140592-1925110800-1925114400@laurel.lib.ms.us
SUMMARY:Baby + Me @ELL
DESCRIPTION:A program exploring books\, songs\, and fun activities designed for babies and toddlers.
URL:https://laurel.lib.ms.us/event/baby-me-epl-2/2031-01-02/
LOCATION:Ellisville Public Library\, 201 Poplar St\, Ellisville\, MS\, 39437\, United States
CATEGORIES:Ellisville Branch
ATTACH;FMTTYPE=image/png:https://laurel.lib.ms.us/wp-content/uploads/2023/02/Baby-Me.png
END:VEVENT
END:VCALENDAR