BEGIN:VCALENDAR
VERSION:2.0
PRODID:-//Laurel Library - ECPv6.15.20//NONSGML v1.0//EN
CALSCALE:GREGORIAN
METHOD:PUBLISH
X-ORIGINAL-URL:https://laurel.lib.ms.us
X-WR-CALDESC:Events for Laurel Library
REFRESH-INTERVAL;VALUE=DURATION:PT1H
X-Robots-Tag:noindex
X-PUBLISHED-TTL:PT1H
BEGIN:VTIMEZONE
TZID:America/Chicago
BEGIN:DAYLIGHT
TZOFFSETFROM:-0600
TZOFFSETTO:-0500
TZNAME:CDT
DTSTART:20260308T080000
END:DAYLIGHT
BEGIN:STANDARD
TZOFFSETFROM:-0500
TZOFFSETTO:-0600
TZNAME:CST
DTSTART:20261101T070000
END:STANDARD
BEGIN:DAYLIGHT
TZOFFSETFROM:-0600
TZOFFSETTO:-0500
TZNAME:CDT
DTSTART:20270314T080000
END:DAYLIGHT
BEGIN:STANDARD
TZOFFSETFROM:-0500
TZOFFSETTO:-0600
TZNAME:CST
DTSTART:20271107T070000
END:STANDARD
BEGIN:DAYLIGHT
TZOFFSETFROM:-0600
TZOFFSETTO:-0500
TZNAME:CDT
DTSTART:20280312T080000
END:DAYLIGHT
BEGIN:STANDARD
TZOFFSETFROM:-0500
TZOFFSETTO:-0600
TZNAME:CST
DTSTART:20281105T070000
END:STANDARD
END:VTIMEZONE
BEGIN:VEVENT
DTSTART;TZID=America/Chicago:20270513T100000
DTEND;TZID=America/Chicago:20270513T110000
DTSTAMP:20260420T225733
CREATED:20231206T171105Z
LAST-MODIFIED:20250205T162906Z
UID:10131009-1810202400-1810206000@laurel.lib.ms.us
SUMMARY:Storytime @ELL
DESCRIPTION:Join us every week for a story and a craft!
URL:https://laurel.lib.ms.us/event/storytime-epl-2/2027-05-13/
LOCATION:Ellisville Public Library\, 201 Poplar St\, Ellisville\, MS\, 39437\, United States
CATEGORIES:Ellisville Branch
ATTACH;FMTTYPE=image/png:https://laurel.lib.ms.us/wp-content/uploads/2023/02/Storytime.png
END:VEVENT
BEGIN:VEVENT
DTSTART;TZID=America/Chicago:20270513T173000
DTEND;TZID=America/Chicago:20270513T183000
DTSTAMP:20260420T225733
CREATED:20250509T204449Z
LAST-MODIFIED:20250509T204449Z
UID:10135281-1810229400-1810233000@laurel.lib.ms.us
SUMMARY:Books & Brew Book Club @ELL
DESCRIPTION:Join us with at the Ellisville Public Library as we discuss this month’s book selection!
URL:https://laurel.lib.ms.us/event/books-brew-book-club-2-2-2-3/2027-05-13/
LOCATION:Ellisville Public Library\, 201 Poplar St\, Ellisville\, MS\, 39437\, United States
CATEGORIES:Ellisville Branch
ATTACH;FMTTYPE=image/png:https://laurel.lib.ms.us/wp-content/uploads/2023/02/Ellisville-Book-Club.png
END:VEVENT
BEGIN:VEVENT
DTSTART;TZID=America/Chicago:20270513T173000
DTEND;TZID=America/Chicago:20270513T183000
DTSTAMP:20260420T225733
CREATED:20260420T142034Z
LAST-MODIFIED:20260420T142034Z
UID:10140874-1810229400-1810233000@laurel.lib.ms.us
SUMMARY:Graphic Novel Club @ELL
DESCRIPTION:Join us at the Ellisville Public Library as we discuss this month’s graphic novel selection! \nPlease note that this class is for adults (18+) only. It is not appropriate for younger readers.
URL:https://laurel.lib.ms.us/event/graphic-novel-club-ell/
LOCATION:Ellisville Public Library\, 201 Poplar St\, Ellisville\, MS\, 39437\, United States
CATEGORIES:Ellisville Branch
END:VEVENT
BEGIN:VEVENT
DTSTART;TZID=America/Chicago:20270515T090000
DTEND;TZID=America/Chicago:20270515T110000
DTSTAMP:20260420T225733
CREATED:20260130T182954Z
LAST-MODIFIED:20260130T182954Z
UID:10140404-1810371600-1810378800@laurel.lib.ms.us
SUMMARY:Ellisville Chess Club @ELL
DESCRIPTION:Come play chess with other chess enthusiasts at our chess group! Open to all ages and skill levels!
URL:https://laurel.lib.ms.us/event/ellisville-chess-club-ell/2027-05-15/
LOCATION:Ellisville Public Library\, 201 Poplar St\, Ellisville\, MS\, 39437\, United States
CATEGORIES:Ellisville Branch
END:VEVENT
BEGIN:VEVENT
DTSTART;TZID=America/Chicago:20270520T090000
DTEND;TZID=America/Chicago:20270520T100000
DTSTAMP:20260420T225733
CREATED:20231206T170135Z
LAST-MODIFIED:20250205T162916Z
UID:10130749-1810803600-1810807200@laurel.lib.ms.us
SUMMARY:Baby + Me @ELL
DESCRIPTION:A program exploring books\, songs\, and fun activities designed for babies and toddlers.
URL:https://laurel.lib.ms.us/event/baby-me-epl-2/2027-05-20/
LOCATION:Ellisville Public Library\, 201 Poplar St\, Ellisville\, MS\, 39437\, United States
CATEGORIES:Ellisville Branch
ATTACH;FMTTYPE=image/png:https://laurel.lib.ms.us/wp-content/uploads/2023/02/Baby-Me.png
END:VEVENT
BEGIN:VEVENT
DTSTART;TZID=America/Chicago:20270520T100000
DTEND;TZID=America/Chicago:20270520T110000
DTSTAMP:20260420T225733
CREATED:20231206T171105Z
LAST-MODIFIED:20250205T162906Z
UID:10131010-1810807200-1810810800@laurel.lib.ms.us
SUMMARY:Storytime @ELL
DESCRIPTION:Join us every week for a story and a craft!
URL:https://laurel.lib.ms.us/event/storytime-epl-2/2027-05-20/
LOCATION:Ellisville Public Library\, 201 Poplar St\, Ellisville\, MS\, 39437\, United States
CATEGORIES:Ellisville Branch
ATTACH;FMTTYPE=image/png:https://laurel.lib.ms.us/wp-content/uploads/2023/02/Storytime.png
END:VEVENT
BEGIN:VEVENT
DTSTART;TZID=America/Chicago:20270520T143000
DTEND;TZID=America/Chicago:20270520T163000
DTSTAMP:20260420T225733
CREATED:20251208T142636Z
LAST-MODIFIED:20251208T142636Z
UID:10138328-1810823400-1810830600@laurel.lib.ms.us
SUMMARY:LEGO® Club @ELL
DESCRIPTION:Join us each month to to complete a LEGO® challenge!
URL:https://laurel.lib.ms.us/event/lego-club-ell-3/2027-05-20/
LOCATION:Ellisville Public Library\, 201 Poplar St\, Ellisville\, MS\, 39437\, United States
CATEGORIES:Ellisville Branch
ATTACH;FMTTYPE=image/png:https://laurel.lib.ms.us/wp-content/uploads/2023/02/LEGO-Club.png
END:VEVENT
BEGIN:VEVENT
DTSTART;TZID=America/Chicago:20270527T090000
DTEND;TZID=America/Chicago:20270527T100000
DTSTAMP:20260420T225733
CREATED:20231206T170135Z
LAST-MODIFIED:20250205T162916Z
UID:10130750-1811408400-1811412000@laurel.lib.ms.us
SUMMARY:Baby + Me @ELL
DESCRIPTION:A program exploring books\, songs\, and fun activities designed for babies and toddlers.
URL:https://laurel.lib.ms.us/event/baby-me-epl-2/2027-05-27/
LOCATION:Ellisville Public Library\, 201 Poplar St\, Ellisville\, MS\, 39437\, United States
CATEGORIES:Ellisville Branch
ATTACH;FMTTYPE=image/png:https://laurel.lib.ms.us/wp-content/uploads/2023/02/Baby-Me.png
END:VEVENT
BEGIN:VEVENT
DTSTART;TZID=America/Chicago:20270527T100000
DTEND;TZID=America/Chicago:20270527T110000
DTSTAMP:20260420T225733
CREATED:20231206T171105Z
LAST-MODIFIED:20250205T162906Z
UID:10131011-1811412000-1811415600@laurel.lib.ms.us
SUMMARY:Storytime @ELL
DESCRIPTION:Join us every week for a story and a craft!
URL:https://laurel.lib.ms.us/event/storytime-epl-2/2027-05-27/
LOCATION:Ellisville Public Library\, 201 Poplar St\, Ellisville\, MS\, 39437\, United States
CATEGORIES:Ellisville Branch
ATTACH;FMTTYPE=image/png:https://laurel.lib.ms.us/wp-content/uploads/2023/02/Storytime.png
END:VEVENT
BEGIN:VEVENT
DTSTART;TZID=America/Chicago:20270603T090000
DTEND;TZID=America/Chicago:20270603T100000
DTSTAMP:20260420T225733
CREATED:20231206T170135Z
LAST-MODIFIED:20250205T162916Z
UID:10130751-1812013200-1812016800@laurel.lib.ms.us
SUMMARY:Baby + Me @ELL
DESCRIPTION:A program exploring books\, songs\, and fun activities designed for babies and toddlers.
URL:https://laurel.lib.ms.us/event/baby-me-epl-2/2027-06-03/
LOCATION:Ellisville Public Library\, 201 Poplar St\, Ellisville\, MS\, 39437\, United States
CATEGORIES:Ellisville Branch
ATTACH;FMTTYPE=image/png:https://laurel.lib.ms.us/wp-content/uploads/2023/02/Baby-Me.png
END:VEVENT
BEGIN:VEVENT
DTSTART;TZID=America/Chicago:20270610T090000
DTEND;TZID=America/Chicago:20270610T100000
DTSTAMP:20260420T225733
CREATED:20231206T170135Z
LAST-MODIFIED:20250205T162916Z
UID:10130752-1812618000-1812621600@laurel.lib.ms.us
SUMMARY:Baby + Me @ELL
DESCRIPTION:A program exploring books\, songs\, and fun activities designed for babies and toddlers.
URL:https://laurel.lib.ms.us/event/baby-me-epl-2/2027-06-10/
LOCATION:Ellisville Public Library\, 201 Poplar St\, Ellisville\, MS\, 39437\, United States
CATEGORIES:Ellisville Branch
ATTACH;FMTTYPE=image/png:https://laurel.lib.ms.us/wp-content/uploads/2023/02/Baby-Me.png
END:VEVENT
BEGIN:VEVENT
DTSTART;TZID=America/Chicago:20270617T090000
DTEND;TZID=America/Chicago:20270617T100000
DTSTAMP:20260420T225733
CREATED:20231206T170135Z
LAST-MODIFIED:20250205T162916Z
UID:10130753-1813222800-1813226400@laurel.lib.ms.us
SUMMARY:Baby + Me @ELL
DESCRIPTION:A program exploring books\, songs\, and fun activities designed for babies and toddlers.
URL:https://laurel.lib.ms.us/event/baby-me-epl-2/2027-06-17/
LOCATION:Ellisville Public Library\, 201 Poplar St\, Ellisville\, MS\, 39437\, United States
CATEGORIES:Ellisville Branch
ATTACH;FMTTYPE=image/png:https://laurel.lib.ms.us/wp-content/uploads/2023/02/Baby-Me.png
END:VEVENT
BEGIN:VEVENT
DTSTART;TZID=America/Chicago:20270617T143000
DTEND;TZID=America/Chicago:20270617T163000
DTSTAMP:20260420T225733
CREATED:20251208T142636Z
LAST-MODIFIED:20251208T142636Z
UID:10138329-1813242600-1813249800@laurel.lib.ms.us
SUMMARY:LEGO® Club @ELL
DESCRIPTION:Join us each month to to complete a LEGO® challenge!
URL:https://laurel.lib.ms.us/event/lego-club-ell-3/2027-06-17/
LOCATION:Ellisville Public Library\, 201 Poplar St\, Ellisville\, MS\, 39437\, United States
CATEGORIES:Ellisville Branch
ATTACH;FMTTYPE=image/png:https://laurel.lib.ms.us/wp-content/uploads/2023/02/LEGO-Club.png
END:VEVENT
BEGIN:VEVENT
DTSTART;TZID=America/Chicago:20270619T090000
DTEND;TZID=America/Chicago:20270619T110000
DTSTAMP:20260420T225733
CREATED:20260130T182954Z
LAST-MODIFIED:20260130T182954Z
UID:10140405-1813395600-1813402800@laurel.lib.ms.us
SUMMARY:Ellisville Chess Club @ELL
DESCRIPTION:Come play chess with other chess enthusiasts at our chess group! Open to all ages and skill levels!
URL:https://laurel.lib.ms.us/event/ellisville-chess-club-ell/2027-06-19/
LOCATION:Ellisville Public Library\, 201 Poplar St\, Ellisville\, MS\, 39437\, United States
CATEGORIES:Ellisville Branch
END:VEVENT
BEGIN:VEVENT
DTSTART;TZID=America/Chicago:20270624T090000
DTEND;TZID=America/Chicago:20270624T100000
DTSTAMP:20260420T225733
CREATED:20231206T170135Z
LAST-MODIFIED:20250205T162916Z
UID:10130754-1813827600-1813831200@laurel.lib.ms.us
SUMMARY:Baby + Me @ELL
DESCRIPTION:A program exploring books\, songs\, and fun activities designed for babies and toddlers.
URL:https://laurel.lib.ms.us/event/baby-me-epl-2/2027-06-24/
LOCATION:Ellisville Public Library\, 201 Poplar St\, Ellisville\, MS\, 39437\, United States
CATEGORIES:Ellisville Branch
ATTACH;FMTTYPE=image/png:https://laurel.lib.ms.us/wp-content/uploads/2023/02/Baby-Me.png
END:VEVENT
BEGIN:VEVENT
DTSTART;TZID=America/Chicago:20270701T090000
DTEND;TZID=America/Chicago:20270701T100000
DTSTAMP:20260420T225733
CREATED:20231206T170135Z
LAST-MODIFIED:20250205T162916Z
UID:10130755-1814432400-1814436000@laurel.lib.ms.us
SUMMARY:Baby + Me @ELL
DESCRIPTION:A program exploring books\, songs\, and fun activities designed for babies and toddlers.
URL:https://laurel.lib.ms.us/event/baby-me-epl-2/2027-07-01/
LOCATION:Ellisville Public Library\, 201 Poplar St\, Ellisville\, MS\, 39437\, United States
CATEGORIES:Ellisville Branch
ATTACH;FMTTYPE=image/png:https://laurel.lib.ms.us/wp-content/uploads/2023/02/Baby-Me.png
END:VEVENT
BEGIN:VEVENT
DTSTART;TZID=America/Chicago:20270701T100000
DTEND;TZID=America/Chicago:20270701T110000
DTSTAMP:20260420T225733
CREATED:20231206T171105Z
LAST-MODIFIED:20250205T162906Z
UID:10131016-1814436000-1814439600@laurel.lib.ms.us
SUMMARY:Storytime @ELL
DESCRIPTION:Join us every week for a story and a craft!
URL:https://laurel.lib.ms.us/event/storytime-epl-2/2027-07-01/
LOCATION:Ellisville Public Library\, 201 Poplar St\, Ellisville\, MS\, 39437\, United States
CATEGORIES:Ellisville Branch
ATTACH;FMTTYPE=image/png:https://laurel.lib.ms.us/wp-content/uploads/2023/02/Storytime.png
END:VEVENT
BEGIN:VEVENT
DTSTART;TZID=America/Chicago:20270708T090000
DTEND;TZID=America/Chicago:20270708T100000
DTSTAMP:20260420T225733
CREATED:20231206T170135Z
LAST-MODIFIED:20250205T162916Z
UID:10130756-1815037200-1815040800@laurel.lib.ms.us
SUMMARY:Baby + Me @ELL
DESCRIPTION:A program exploring books\, songs\, and fun activities designed for babies and toddlers.
URL:https://laurel.lib.ms.us/event/baby-me-epl-2/2027-07-08/
LOCATION:Ellisville Public Library\, 201 Poplar St\, Ellisville\, MS\, 39437\, United States
CATEGORIES:Ellisville Branch
ATTACH;FMTTYPE=image/png:https://laurel.lib.ms.us/wp-content/uploads/2023/02/Baby-Me.png
END:VEVENT
BEGIN:VEVENT
DTSTART;TZID=America/Chicago:20270708T100000
DTEND;TZID=America/Chicago:20270708T110000
DTSTAMP:20260420T225733
CREATED:20231206T171105Z
LAST-MODIFIED:20250205T162906Z
UID:10131017-1815040800-1815044400@laurel.lib.ms.us
SUMMARY:Storytime @ELL
DESCRIPTION:Join us every week for a story and a craft!
URL:https://laurel.lib.ms.us/event/storytime-epl-2/2027-07-08/
LOCATION:Ellisville Public Library\, 201 Poplar St\, Ellisville\, MS\, 39437\, United States
CATEGORIES:Ellisville Branch
ATTACH;FMTTYPE=image/png:https://laurel.lib.ms.us/wp-content/uploads/2023/02/Storytime.png
END:VEVENT
BEGIN:VEVENT
DTSTART;TZID=America/Chicago:20270708T173000
DTEND;TZID=America/Chicago:20270708T183000
DTSTAMP:20260420T225733
CREATED:20250509T204449Z
LAST-MODIFIED:20250509T204449Z
UID:10135283-1815067800-1815071400@laurel.lib.ms.us
SUMMARY:Books & Brew Book Club @ELL
DESCRIPTION:Join us with at the Ellisville Public Library as we discuss this month’s book selection!
URL:https://laurel.lib.ms.us/event/books-brew-book-club-2-2-2-3/2027-07-08/
LOCATION:Ellisville Public Library\, 201 Poplar St\, Ellisville\, MS\, 39437\, United States
CATEGORIES:Ellisville Branch
ATTACH;FMTTYPE=image/png:https://laurel.lib.ms.us/wp-content/uploads/2023/02/Ellisville-Book-Club.png
END:VEVENT
BEGIN:VEVENT
DTSTART;TZID=America/Chicago:20270708T173000
DTEND;TZID=America/Chicago:20270708T183000
DTSTAMP:20260420T225733
CREATED:20260420T142034Z
LAST-MODIFIED:20260420T142034Z
UID:10140875-1815067800-1815071400@laurel.lib.ms.us
SUMMARY:Graphic Novel Club @ELL
DESCRIPTION:Join us at the Ellisville Public Library as we discuss this month’s graphic novel selection! \nPlease note that this class is for adults (18+) only. It is not appropriate for younger readers.
URL:https://laurel.lib.ms.us/event/graphic-novel-club-ell/
LOCATION:Ellisville Public Library\, 201 Poplar St\, Ellisville\, MS\, 39437\, United States
CATEGORIES:Ellisville Branch
END:VEVENT
BEGIN:VEVENT
DTSTART;TZID=America/Chicago:20270715T090000
DTEND;TZID=America/Chicago:20270715T100000
DTSTAMP:20260420T225733
CREATED:20231206T170135Z
LAST-MODIFIED:20250205T162916Z
UID:10130757-1815642000-1815645600@laurel.lib.ms.us
SUMMARY:Baby + Me @ELL
DESCRIPTION:A program exploring books\, songs\, and fun activities designed for babies and toddlers.
URL:https://laurel.lib.ms.us/event/baby-me-epl-2/2027-07-15/
LOCATION:Ellisville Public Library\, 201 Poplar St\, Ellisville\, MS\, 39437\, United States
CATEGORIES:Ellisville Branch
ATTACH;FMTTYPE=image/png:https://laurel.lib.ms.us/wp-content/uploads/2023/02/Baby-Me.png
END:VEVENT
BEGIN:VEVENT
DTSTART;TZID=America/Chicago:20270715T100000
DTEND;TZID=America/Chicago:20270715T110000
DTSTAMP:20260420T225733
CREATED:20231206T171105Z
LAST-MODIFIED:20250205T162906Z
UID:10131018-1815645600-1815649200@laurel.lib.ms.us
SUMMARY:Storytime @ELL
DESCRIPTION:Join us every week for a story and a craft!
URL:https://laurel.lib.ms.us/event/storytime-epl-2/2027-07-15/
LOCATION:Ellisville Public Library\, 201 Poplar St\, Ellisville\, MS\, 39437\, United States
CATEGORIES:Ellisville Branch
ATTACH;FMTTYPE=image/png:https://laurel.lib.ms.us/wp-content/uploads/2023/02/Storytime.png
END:VEVENT
BEGIN:VEVENT
DTSTART;TZID=America/Chicago:20270715T143000
DTEND;TZID=America/Chicago:20270715T163000
DTSTAMP:20260420T225733
CREATED:20251208T142636Z
LAST-MODIFIED:20251208T142636Z
UID:10138330-1815661800-1815669000@laurel.lib.ms.us
SUMMARY:LEGO® Club @ELL
DESCRIPTION:Join us each month to to complete a LEGO® challenge!
URL:https://laurel.lib.ms.us/event/lego-club-ell-3/2027-07-15/
LOCATION:Ellisville Public Library\, 201 Poplar St\, Ellisville\, MS\, 39437\, United States
CATEGORIES:Ellisville Branch
ATTACH;FMTTYPE=image/png:https://laurel.lib.ms.us/wp-content/uploads/2023/02/LEGO-Club.png
END:VEVENT
BEGIN:VEVENT
DTSTART;TZID=America/Chicago:20270717T090000
DTEND;TZID=America/Chicago:20270717T110000
DTSTAMP:20260420T225733
CREATED:20260130T182954Z
LAST-MODIFIED:20260130T182954Z
UID:10140406-1815814800-1815822000@laurel.lib.ms.us
SUMMARY:Ellisville Chess Club @ELL
DESCRIPTION:Come play chess with other chess enthusiasts at our chess group! Open to all ages and skill levels!
URL:https://laurel.lib.ms.us/event/ellisville-chess-club-ell/2027-07-17/
LOCATION:Ellisville Public Library\, 201 Poplar St\, Ellisville\, MS\, 39437\, United States
CATEGORIES:Ellisville Branch
END:VEVENT
BEGIN:VEVENT
DTSTART;TZID=America/Chicago:20270722T090000
DTEND;TZID=America/Chicago:20270722T100000
DTSTAMP:20260420T225733
CREATED:20231206T170135Z
LAST-MODIFIED:20250205T162916Z
UID:10130758-1816246800-1816250400@laurel.lib.ms.us
SUMMARY:Baby + Me @ELL
DESCRIPTION:A program exploring books\, songs\, and fun activities designed for babies and toddlers.
URL:https://laurel.lib.ms.us/event/baby-me-epl-2/2027-07-22/
LOCATION:Ellisville Public Library\, 201 Poplar St\, Ellisville\, MS\, 39437\, United States
CATEGORIES:Ellisville Branch
ATTACH;FMTTYPE=image/png:https://laurel.lib.ms.us/wp-content/uploads/2023/02/Baby-Me.png
END:VEVENT
BEGIN:VEVENT
DTSTART;TZID=America/Chicago:20270722T100000
DTEND;TZID=America/Chicago:20270722T110000
DTSTAMP:20260420T225733
CREATED:20231206T171105Z
LAST-MODIFIED:20250205T162906Z
UID:10131019-1816250400-1816254000@laurel.lib.ms.us
SUMMARY:Storytime @ELL
DESCRIPTION:Join us every week for a story and a craft!
URL:https://laurel.lib.ms.us/event/storytime-epl-2/2027-07-22/
LOCATION:Ellisville Public Library\, 201 Poplar St\, Ellisville\, MS\, 39437\, United States
CATEGORIES:Ellisville Branch
ATTACH;FMTTYPE=image/png:https://laurel.lib.ms.us/wp-content/uploads/2023/02/Storytime.png
END:VEVENT
BEGIN:VEVENT
DTSTART;TZID=America/Chicago:20270729T090000
DTEND;TZID=America/Chicago:20270729T100000
DTSTAMP:20260420T225733
CREATED:20231206T170135Z
LAST-MODIFIED:20250205T162916Z
UID:10130759-1816851600-1816855200@laurel.lib.ms.us
SUMMARY:Baby + Me @ELL
DESCRIPTION:A program exploring books\, songs\, and fun activities designed for babies and toddlers.
URL:https://laurel.lib.ms.us/event/baby-me-epl-2/2027-07-29/
LOCATION:Ellisville Public Library\, 201 Poplar St\, Ellisville\, MS\, 39437\, United States
CATEGORIES:Ellisville Branch
ATTACH;FMTTYPE=image/png:https://laurel.lib.ms.us/wp-content/uploads/2023/02/Baby-Me.png
END:VEVENT
BEGIN:VEVENT
DTSTART;TZID=America/Chicago:20270729T100000
DTEND;TZID=America/Chicago:20270729T110000
DTSTAMP:20260420T225733
CREATED:20231206T171105Z
LAST-MODIFIED:20250205T162906Z
UID:10131020-1816855200-1816858800@laurel.lib.ms.us
SUMMARY:Storytime @ELL
DESCRIPTION:Join us every week for a story and a craft!
URL:https://laurel.lib.ms.us/event/storytime-epl-2/2027-07-29/
LOCATION:Ellisville Public Library\, 201 Poplar St\, Ellisville\, MS\, 39437\, United States
CATEGORIES:Ellisville Branch
ATTACH;FMTTYPE=image/png:https://laurel.lib.ms.us/wp-content/uploads/2023/02/Storytime.png
END:VEVENT
BEGIN:VEVENT
DTSTART;TZID=America/Chicago:20270805T090000
DTEND;TZID=America/Chicago:20270805T100000
DTSTAMP:20260420T225733
CREATED:20231206T170135Z
LAST-MODIFIED:20250205T162916Z
UID:10135703-1817456400-1817460000@laurel.lib.ms.us
SUMMARY:Baby + Me @ELL
DESCRIPTION:A program exploring books\, songs\, and fun activities designed for babies and toddlers.
URL:https://laurel.lib.ms.us/event/baby-me-epl-2/2027-08-05/
LOCATION:Ellisville Public Library\, 201 Poplar St\, Ellisville\, MS\, 39437\, United States
CATEGORIES:Ellisville Branch
ATTACH;FMTTYPE=image/png:https://laurel.lib.ms.us/wp-content/uploads/2023/02/Baby-Me.png
END:VEVENT
END:VCALENDAR