BEGIN:VCALENDAR
VERSION:2.0
PRODID:-//Laurel Library - ECPv6.15.20//NONSGML v1.0//EN
CALSCALE:GREGORIAN
METHOD:PUBLISH
X-WR-CALNAME:Laurel Library
X-ORIGINAL-URL:https://laurel.lib.ms.us
X-WR-CALDESC:Events for Laurel Library
REFRESH-INTERVAL;VALUE=DURATION:PT1H
X-Robots-Tag:noindex
X-PUBLISHED-TTL:PT1H
BEGIN:VTIMEZONE
TZID:America/Chicago
BEGIN:DAYLIGHT
TZOFFSETFROM:-0600
TZOFFSETTO:-0500
TZNAME:CDT
DTSTART:20250309T080000
END:DAYLIGHT
BEGIN:STANDARD
TZOFFSETFROM:-0500
TZOFFSETTO:-0600
TZNAME:CST
DTSTART:20251102T070000
END:STANDARD
BEGIN:DAYLIGHT
TZOFFSETFROM:-0600
TZOFFSETTO:-0500
TZNAME:CDT
DTSTART:20260308T080000
END:DAYLIGHT
BEGIN:STANDARD
TZOFFSETFROM:-0500
TZOFFSETTO:-0600
TZNAME:CST
DTSTART:20261101T070000
END:STANDARD
BEGIN:DAYLIGHT
TZOFFSETFROM:-0600
TZOFFSETTO:-0500
TZNAME:CDT
DTSTART:20270314T080000
END:DAYLIGHT
BEGIN:STANDARD
TZOFFSETFROM:-0500
TZOFFSETTO:-0600
TZNAME:CST
DTSTART:20271107T070000
END:STANDARD
END:VTIMEZONE
BEGIN:VEVENT
DTSTART;TZID=America/Chicago:20260421T090000
DTEND;TZID=America/Chicago:20260421T110000
DTSTAMP:20260422T190410
CREATED:20251219T190449Z
LAST-MODIFIED:20251219T190449Z
UID:10139630-1776762000-1776769200@laurel.lib.ms.us
SUMMARY:Salvation Army at the Library @LAU
DESCRIPTION:Need some extra help with utilities or rent?  Having trouble navigating the health system or signing up for assistance?  Need to find shelter?  Come meet a case manager right here in the library and find out what help is available to you!\n\n\nFood Pantry resources\n\n\nHelp signing up for a food card\n\n\nRent and utility assistance\n\n\nClothing vouchers\n\n\nSheter intake and information\n\n\nHomeless services\n\n\nHelp with apartment applications.
URL:https://laurel.lib.ms.us/event/salvation-army-at-the-library-lau/2026-04-21/
LOCATION:Laurel-Jones County Library\, 530 Commerce St\, Laurel\, MS\, 39440\, United States
CATEGORIES:Laurel Branch
END:VEVENT
BEGIN:VEVENT
DTSTART;TZID=America/Chicago:20260414T120000
DTEND;TZID=America/Chicago:20260414T130000
DTSTAMP:20260422T190410
CREATED:20260403T133256Z
LAST-MODIFIED:20260406T131336Z
UID:10140756-1776168000-1776171600@laurel.lib.ms.us
SUMMARY:Lunch & Learn with Jones County Housing & Hope Initiative
DESCRIPTION:This Lunch and Learn features Karen Felton and Tiffany Parrish\, who will discuss new items for the homeless and resources that are changing. This one is geared towards local merchants and anyone wanting more information about what is going on downtown.\n\nPeople bring their own lunch.  We do not supply food\, but they are welcome to bring whatever they like.\n\nFor more information:\nTiffany Parrish:601-422-7575\nCaptain Karen Felton: 913-444-3417
URL:https://laurel.lib.ms.us/event/lunch-learn-with-jchhi/
LOCATION:Laurel-Jones County Library\, 530 Commerce St\, Laurel\, MS\, 39440\, United States
CATEGORIES:Laurel Branch
END:VEVENT
BEGIN:VEVENT
DTSTART;TZID=America/Chicago:20260414T090000
DTEND;TZID=America/Chicago:20260414T110000
DTSTAMP:20260422T190410
CREATED:20251219T190449Z
LAST-MODIFIED:20251219T190449Z
UID:10139629-1776157200-1776164400@laurel.lib.ms.us
SUMMARY:Salvation Army at the Library @LAU
DESCRIPTION:Need some extra help with utilities or rent?  Having trouble navigating the health system or signing up for assistance?  Need to find shelter?  Come meet a case manager right here in the library and find out what help is available to you!\n\n\nFood Pantry resources\n\n\nHelp signing up for a food card\n\n\nRent and utility assistance\n\n\nClothing vouchers\n\n\nSheter intake and information\n\n\nHomeless services\n\n\nHelp with apartment applications.
URL:https://laurel.lib.ms.us/event/salvation-army-at-the-library-lau/2026-04-14/
LOCATION:Laurel-Jones County Library\, 530 Commerce St\, Laurel\, MS\, 39440\, United States
CATEGORIES:Laurel Branch
END:VEVENT
BEGIN:VEVENT
DTSTART;TZID=America/Chicago:20260407T090000
DTEND;TZID=America/Chicago:20260407T110000
DTSTAMP:20260422T190410
CREATED:20251219T190449Z
LAST-MODIFIED:20251219T190449Z
UID:10139628-1775552400-1775559600@laurel.lib.ms.us
SUMMARY:Salvation Army at the Library @LAU
DESCRIPTION:Need some extra help with utilities or rent?  Having trouble navigating the health system or signing up for assistance?  Need to find shelter?  Come meet a case manager right here in the library and find out what help is available to you!\n\n\nFood Pantry resources\n\n\nHelp signing up for a food card\n\n\nRent and utility assistance\n\n\nClothing vouchers\n\n\nSheter intake and information\n\n\nHomeless services\n\n\nHelp with apartment applications.
URL:https://laurel.lib.ms.us/event/salvation-army-at-the-library-lau/2026-04-07/
LOCATION:Laurel-Jones County Library\, 530 Commerce St\, Laurel\, MS\, 39440\, United States
CATEGORIES:Laurel Branch
END:VEVENT
BEGIN:VEVENT
DTSTART;TZID=America/Chicago:20260331T090000
DTEND;TZID=America/Chicago:20260331T110000
DTSTAMP:20260422T190410
CREATED:20251219T190449Z
LAST-MODIFIED:20251219T190449Z
UID:10139627-1774947600-1774954800@laurel.lib.ms.us
SUMMARY:Salvation Army at the Library @LAU
DESCRIPTION:Need some extra help with utilities or rent?  Having trouble navigating the health system or signing up for assistance?  Need to find shelter?  Come meet a case manager right here in the library and find out what help is available to you!\n\n\nFood Pantry resources\n\n\nHelp signing up for a food card\n\n\nRent and utility assistance\n\n\nClothing vouchers\n\n\nSheter intake and information\n\n\nHomeless services\n\n\nHelp with apartment applications.
URL:https://laurel.lib.ms.us/event/salvation-army-at-the-library-lau/2026-03-31/
LOCATION:Laurel-Jones County Library\, 530 Commerce St\, Laurel\, MS\, 39440\, United States
CATEGORIES:Laurel Branch
END:VEVENT
BEGIN:VEVENT
DTSTART;TZID=America/Chicago:20260324T090000
DTEND;TZID=America/Chicago:20260324T110000
DTSTAMP:20260422T190410
CREATED:20251219T190449Z
LAST-MODIFIED:20251219T190449Z
UID:10139626-1774342800-1774350000@laurel.lib.ms.us
SUMMARY:Salvation Army at the Library @LAU
DESCRIPTION:Need some extra help with utilities or rent?  Having trouble navigating the health system or signing up for assistance?  Need to find shelter?  Come meet a case manager right here in the library and find out what help is available to you!\n\n\nFood Pantry resources\n\n\nHelp signing up for a food card\n\n\nRent and utility assistance\n\n\nClothing vouchers\n\n\nSheter intake and information\n\n\nHomeless services\n\n\nHelp with apartment applications.
URL:https://laurel.lib.ms.us/event/salvation-army-at-the-library-lau/2026-03-24/
LOCATION:Laurel-Jones County Library\, 530 Commerce St\, Laurel\, MS\, 39440\, United States
CATEGORIES:Laurel Branch
END:VEVENT
BEGIN:VEVENT
DTSTART;TZID=America/Chicago:20260317T090000
DTEND;TZID=America/Chicago:20260317T110000
DTSTAMP:20260422T190410
CREATED:20251219T190449Z
LAST-MODIFIED:20251219T190449Z
UID:10139625-1773738000-1773745200@laurel.lib.ms.us
SUMMARY:Salvation Army at the Library @LAU
DESCRIPTION:Need some extra help with utilities or rent?  Having trouble navigating the health system or signing up for assistance?  Need to find shelter?  Come meet a case manager right here in the library and find out what help is available to you!\n\n\nFood Pantry resources\n\n\nHelp signing up for a food card\n\n\nRent and utility assistance\n\n\nClothing vouchers\n\n\nSheter intake and information\n\n\nHomeless services\n\n\nHelp with apartment applications.
URL:https://laurel.lib.ms.us/event/salvation-army-at-the-library-lau/2026-03-17/
LOCATION:Laurel-Jones County Library\, 530 Commerce St\, Laurel\, MS\, 39440\, United States
CATEGORIES:Laurel Branch
END:VEVENT
BEGIN:VEVENT
DTSTART;TZID=America/Chicago:20260310T090000
DTEND;TZID=America/Chicago:20260310T110000
DTSTAMP:20260422T190410
CREATED:20251219T190449Z
LAST-MODIFIED:20251219T190449Z
UID:10139624-1773133200-1773140400@laurel.lib.ms.us
SUMMARY:Salvation Army at the Library @LAU
DESCRIPTION:Need some extra help with utilities or rent?  Having trouble navigating the health system or signing up for assistance?  Need to find shelter?  Come meet a case manager right here in the library and find out what help is available to you!\n\n\nFood Pantry resources\n\n\nHelp signing up for a food card\n\n\nRent and utility assistance\n\n\nClothing vouchers\n\n\nSheter intake and information\n\n\nHomeless services\n\n\nHelp with apartment applications.
URL:https://laurel.lib.ms.us/event/salvation-army-at-the-library-lau/2026-03-10/
LOCATION:Laurel-Jones County Library\, 530 Commerce St\, Laurel\, MS\, 39440\, United States
CATEGORIES:Laurel Branch
END:VEVENT
BEGIN:VEVENT
DTSTART;TZID=America/Chicago:20260303T090000
DTEND;TZID=America/Chicago:20260303T110000
DTSTAMP:20260422T190410
CREATED:20251219T190449Z
LAST-MODIFIED:20251219T190449Z
UID:10139623-1772528400-1772535600@laurel.lib.ms.us
SUMMARY:Salvation Army at the Library @LAU
DESCRIPTION:Need some extra help with utilities or rent?  Having trouble navigating the health system or signing up for assistance?  Need to find shelter?  Come meet a case manager right here in the library and find out what help is available to you!\n\n\nFood Pantry resources\n\n\nHelp signing up for a food card\n\n\nRent and utility assistance\n\n\nClothing vouchers\n\n\nSheter intake and information\n\n\nHomeless services\n\n\nHelp with apartment applications.
URL:https://laurel.lib.ms.us/event/salvation-army-at-the-library-lau/2026-03-03/
LOCATION:Laurel-Jones County Library\, 530 Commerce St\, Laurel\, MS\, 39440\, United States
CATEGORIES:Laurel Branch
END:VEVENT
BEGIN:VEVENT
DTSTART;TZID=America/Chicago:20260224T090000
DTEND;TZID=America/Chicago:20260224T110000
DTSTAMP:20260422T190410
CREATED:20251219T190449Z
LAST-MODIFIED:20251219T190449Z
UID:10139622-1771923600-1771930800@laurel.lib.ms.us
SUMMARY:Salvation Army at the Library @LAU
DESCRIPTION:Need some extra help with utilities or rent?  Having trouble navigating the health system or signing up for assistance?  Need to find shelter?  Come meet a case manager right here in the library and find out what help is available to you!\n\n\nFood Pantry resources\n\n\nHelp signing up for a food card\n\n\nRent and utility assistance\n\n\nClothing vouchers\n\n\nSheter intake and information\n\n\nHomeless services\n\n\nHelp with apartment applications.
URL:https://laurel.lib.ms.us/event/salvation-army-at-the-library-lau/2026-02-24/
LOCATION:Laurel-Jones County Library\, 530 Commerce St\, Laurel\, MS\, 39440\, United States
CATEGORIES:Laurel Branch
END:VEVENT
BEGIN:VEVENT
DTSTART;TZID=America/Chicago:20260217T090000
DTEND;TZID=America/Chicago:20260217T110000
DTSTAMP:20260422T190410
CREATED:20251219T190449Z
LAST-MODIFIED:20251219T190449Z
UID:10139621-1771318800-1771326000@laurel.lib.ms.us
SUMMARY:Salvation Army at the Library @LAU
DESCRIPTION:Need some extra help with utilities or rent?  Having trouble navigating the health system or signing up for assistance?  Need to find shelter?  Come meet a case manager right here in the library and find out what help is available to you!\n\n\nFood Pantry resources\n\n\nHelp signing up for a food card\n\n\nRent and utility assistance\n\n\nClothing vouchers\n\n\nSheter intake and information\n\n\nHomeless services\n\n\nHelp with apartment applications.
URL:https://laurel.lib.ms.us/event/salvation-army-at-the-library-lau/2026-02-17/
LOCATION:Laurel-Jones County Library\, 530 Commerce St\, Laurel\, MS\, 39440\, United States
CATEGORIES:Laurel Branch
END:VEVENT
BEGIN:VEVENT
DTSTART;TZID=America/Chicago:20260210T090000
DTEND;TZID=America/Chicago:20260210T110000
DTSTAMP:20260422T190410
CREATED:20251219T190449Z
LAST-MODIFIED:20251219T190449Z
UID:10139620-1770714000-1770721200@laurel.lib.ms.us
SUMMARY:Salvation Army at the Library @LAU
DESCRIPTION:Need some extra help with utilities or rent?  Having trouble navigating the health system or signing up for assistance?  Need to find shelter?  Come meet a case manager right here in the library and find out what help is available to you!\n\n\nFood Pantry resources\n\n\nHelp signing up for a food card\n\n\nRent and utility assistance\n\n\nClothing vouchers\n\n\nSheter intake and information\n\n\nHomeless services\n\n\nHelp with apartment applications.
URL:https://laurel.lib.ms.us/event/salvation-army-at-the-library-lau/2026-02-10/
LOCATION:Laurel-Jones County Library\, 530 Commerce St\, Laurel\, MS\, 39440\, United States
CATEGORIES:Laurel Branch
END:VEVENT
BEGIN:VEVENT
DTSTART;TZID=America/Chicago:20260203T090000
DTEND;TZID=America/Chicago:20260203T110000
DTSTAMP:20260422T190410
CREATED:20251219T190449Z
LAST-MODIFIED:20251219T190449Z
UID:10139619-1770109200-1770116400@laurel.lib.ms.us
SUMMARY:Salvation Army at the Library @LAU
DESCRIPTION:Need some extra help with utilities or rent?  Having trouble navigating the health system or signing up for assistance?  Need to find shelter?  Come meet a case manager right here in the library and find out what help is available to you!\n\n\nFood Pantry resources\n\n\nHelp signing up for a food card\n\n\nRent and utility assistance\n\n\nClothing vouchers\n\n\nSheter intake and information\n\n\nHomeless services\n\n\nHelp with apartment applications.
URL:https://laurel.lib.ms.us/event/salvation-army-at-the-library-lau/2026-02-03/
LOCATION:Laurel-Jones County Library\, 530 Commerce St\, Laurel\, MS\, 39440\, United States
CATEGORIES:Laurel Branch
END:VEVENT
BEGIN:VEVENT
DTSTART;TZID=America/Chicago:20260127T090000
DTEND;TZID=America/Chicago:20260127T110000
DTSTAMP:20260422T190410
CREATED:20251219T190449Z
LAST-MODIFIED:20251219T190449Z
UID:10139618-1769504400-1769511600@laurel.lib.ms.us
SUMMARY:Salvation Army at the Library @LAU
DESCRIPTION:Need some extra help with utilities or rent?  Having trouble navigating the health system or signing up for assistance?  Need to find shelter?  Come meet a case manager right here in the library and find out what help is available to you!\n\n\nFood Pantry resources\n\n\nHelp signing up for a food card\n\n\nRent and utility assistance\n\n\nClothing vouchers\n\n\nSheter intake and information\n\n\nHomeless services\n\n\nHelp with apartment applications.
URL:https://laurel.lib.ms.us/event/salvation-army-at-the-library-lau/2026-01-27/
LOCATION:Laurel-Jones County Library\, 530 Commerce St\, Laurel\, MS\, 39440\, United States
CATEGORIES:Laurel Branch
END:VEVENT
BEGIN:VEVENT
DTSTART;TZID=America/Chicago:20260120T090000
DTEND;TZID=America/Chicago:20260120T110000
DTSTAMP:20260422T190410
CREATED:20251219T190449Z
LAST-MODIFIED:20251219T190449Z
UID:10139617-1768899600-1768906800@laurel.lib.ms.us
SUMMARY:Salvation Army at the Library @LAU
DESCRIPTION:Need some extra help with utilities or rent?  Having trouble navigating the health system or signing up for assistance?  Need to find shelter?  Come meet a case manager right here in the library and find out what help is available to you!\n\n\nFood Pantry resources\n\n\nHelp signing up for a food card\n\n\nRent and utility assistance\n\n\nClothing vouchers\n\n\nSheter intake and information\n\n\nHomeless services\n\n\nHelp with apartment applications.
URL:https://laurel.lib.ms.us/event/salvation-army-at-the-library-lau/2026-01-20/
LOCATION:Laurel-Jones County Library\, 530 Commerce St\, Laurel\, MS\, 39440\, United States
CATEGORIES:Laurel Branch
END:VEVENT
BEGIN:VEVENT
DTSTART;TZID=America/Chicago:20260113T090000
DTEND;TZID=America/Chicago:20260113T110000
DTSTAMP:20260422T190410
CREATED:20251219T190449Z
LAST-MODIFIED:20251219T190449Z
UID:10139616-1768294800-1768302000@laurel.lib.ms.us
SUMMARY:Salvation Army at the Library @LAU
DESCRIPTION:Need some extra help with utilities or rent?  Having trouble navigating the health system or signing up for assistance?  Need to find shelter?  Come meet a case manager right here in the library and find out what help is available to you!\n\n\nFood Pantry resources\n\n\nHelp signing up for a food card\n\n\nRent and utility assistance\n\n\nClothing vouchers\n\n\nSheter intake and information\n\n\nHomeless services\n\n\nHelp with apartment applications.
URL:https://laurel.lib.ms.us/event/salvation-army-at-the-library-lau/2026-01-13/
LOCATION:Laurel-Jones County Library\, 530 Commerce St\, Laurel\, MS\, 39440\, United States
CATEGORIES:Laurel Branch
END:VEVENT
BEGIN:VEVENT
DTSTART;TZID=America/Chicago:20260106T090000
DTEND;TZID=America/Chicago:20260106T110000
DTSTAMP:20260422T190410
CREATED:20251219T190449Z
LAST-MODIFIED:20251219T190449Z
UID:10139615-1767690000-1767697200@laurel.lib.ms.us
SUMMARY:Salvation Army at the Library @LAU
DESCRIPTION:Need some extra help with utilities or rent?  Having trouble navigating the health system or signing up for assistance?  Need to find shelter?  Come meet a case manager right here in the library and find out what help is available to you!\n\n\nFood Pantry resources\n\n\nHelp signing up for a food card\n\n\nRent and utility assistance\n\n\nClothing vouchers\n\n\nSheter intake and information\n\n\nHomeless services\n\n\nHelp with apartment applications.
URL:https://laurel.lib.ms.us/event/salvation-army-at-the-library-lau/2026-01-06/
LOCATION:Laurel-Jones County Library\, 530 Commerce St\, Laurel\, MS\, 39440\, United States
CATEGORIES:Laurel Branch
END:VEVENT
END:VCALENDAR