BEGIN:VCALENDAR
VERSION:2.0
PRODID:-//Laurel Library - ECPv6.15.20//NONSGML v1.0//EN
CALSCALE:GREGORIAN
METHOD:PUBLISH
X-WR-CALNAME:Laurel Library
X-ORIGINAL-URL:https://laurel.lib.ms.us
X-WR-CALDESC:Events for Laurel Library
REFRESH-INTERVAL;VALUE=DURATION:PT1H
X-Robots-Tag:noindex
X-PUBLISHED-TTL:PT1H
BEGIN:VTIMEZONE
TZID:America/Chicago
BEGIN:DAYLIGHT
TZOFFSETFROM:-0600
TZOFFSETTO:-0500
TZNAME:CDT
DTSTART:20290311T080000
END:DAYLIGHT
BEGIN:STANDARD
TZOFFSETFROM:-0500
TZOFFSETTO:-0600
TZNAME:CST
DTSTART:20291104T070000
END:STANDARD
BEGIN:DAYLIGHT
TZOFFSETFROM:-0600
TZOFFSETTO:-0500
TZNAME:CDT
DTSTART:20300310T080000
END:DAYLIGHT
BEGIN:STANDARD
TZOFFSETFROM:-0500
TZOFFSETTO:-0600
TZNAME:CST
DTSTART:20301103T070000
END:STANDARD
BEGIN:DAYLIGHT
TZOFFSETFROM:-0600
TZOFFSETTO:-0500
TZNAME:CDT
DTSTART:20310309T080000
END:DAYLIGHT
BEGIN:STANDARD
TZOFFSETFROM:-0500
TZOFFSETTO:-0600
TZNAME:CST
DTSTART:20311102T070000
END:STANDARD
END:VTIMEZONE
BEGIN:VEVENT
DTSTART;TZID=America/Chicago:20300204T141500
DTEND;TZID=America/Chicago:20300204T150000
DTSTAMP:20260421T110724
CREATED:20250807T162842Z
LAST-MODIFIED:20251208T160615Z
UID:10138421-1896444900-1896447600@laurel.lib.ms.us
SUMMARY:Friends Meeting @LAU
DESCRIPTION:
URL:https://laurel.lib.ms.us/event/friends-meeting-lau-4/2030-02-04/
LOCATION:Laurel-Jones County Library\, 530 Commerce St\, Laurel\, MS\, 39440\, United States
CATEGORIES:Laurel Branch
ORGANIZER;CN="Friends of the Laurel-Jones County Library System":MAILTO:friendsjonescountylibrarysys@gmail.com
END:VEVENT
BEGIN:VEVENT
DTSTART;TZID=America/Chicago:20300304T141500
DTEND;TZID=America/Chicago:20300304T150000
DTSTAMP:20260421T110724
CREATED:20250807T162842Z
LAST-MODIFIED:20251208T160615Z
UID:10138422-1898864100-1898866800@laurel.lib.ms.us
SUMMARY:Friends Meeting @LAU
DESCRIPTION:
URL:https://laurel.lib.ms.us/event/friends-meeting-lau-4/2030-03-04/
LOCATION:Laurel-Jones County Library\, 530 Commerce St\, Laurel\, MS\, 39440\, United States
CATEGORIES:Laurel Branch
ORGANIZER;CN="Friends of the Laurel-Jones County Library System":MAILTO:friendsjonescountylibrarysys@gmail.com
END:VEVENT
BEGIN:VEVENT
DTSTART;TZID=America/Chicago:20300401T141500
DTEND;TZID=America/Chicago:20300401T150000
DTSTAMP:20260421T110724
CREATED:20250807T162842Z
LAST-MODIFIED:20251208T160615Z
UID:10138423-1901283300-1901286000@laurel.lib.ms.us
SUMMARY:Friends Meeting @LAU
DESCRIPTION:
URL:https://laurel.lib.ms.us/event/friends-meeting-lau-4/2030-04-01/
LOCATION:Laurel-Jones County Library\, 530 Commerce St\, Laurel\, MS\, 39440\, United States
CATEGORIES:Laurel Branch
ORGANIZER;CN="Friends of the Laurel-Jones County Library System":MAILTO:friendsjonescountylibrarysys@gmail.com
END:VEVENT
BEGIN:VEVENT
DTSTART;TZID=America/Chicago:20300506T141500
DTEND;TZID=America/Chicago:20300506T150000
DTSTAMP:20260421T110724
CREATED:20250807T162842Z
LAST-MODIFIED:20251208T160615Z
UID:10138424-1904307300-1904310000@laurel.lib.ms.us
SUMMARY:Friends Meeting @LAU
DESCRIPTION:
URL:https://laurel.lib.ms.us/event/friends-meeting-lau-4/2030-05-06/
LOCATION:Laurel-Jones County Library\, 530 Commerce St\, Laurel\, MS\, 39440\, United States
CATEGORIES:Laurel Branch
ORGANIZER;CN="Friends of the Laurel-Jones County Library System":MAILTO:friendsjonescountylibrarysys@gmail.com
END:VEVENT
BEGIN:VEVENT
DTSTART;TZID=America/Chicago:20300603T141500
DTEND;TZID=America/Chicago:20300603T150000
DTSTAMP:20260421T110724
CREATED:20250807T162842Z
LAST-MODIFIED:20251208T160615Z
UID:10138425-1906726500-1906729200@laurel.lib.ms.us
SUMMARY:Friends Meeting @LAU
DESCRIPTION:
URL:https://laurel.lib.ms.us/event/friends-meeting-lau-4/2030-06-03/
LOCATION:Laurel-Jones County Library\, 530 Commerce St\, Laurel\, MS\, 39440\, United States
CATEGORIES:Laurel Branch
ORGANIZER;CN="Friends of the Laurel-Jones County Library System":MAILTO:friendsjonescountylibrarysys@gmail.com
END:VEVENT
BEGIN:VEVENT
DTSTART;TZID=America/Chicago:20300701T141500
DTEND;TZID=America/Chicago:20300701T150000
DTSTAMP:20260421T110724
CREATED:20250807T162842Z
LAST-MODIFIED:20251208T160615Z
UID:10138426-1909145700-1909148400@laurel.lib.ms.us
SUMMARY:Friends Meeting @LAU
DESCRIPTION:
URL:https://laurel.lib.ms.us/event/friends-meeting-lau-4/2030-07-01/
LOCATION:Laurel-Jones County Library\, 530 Commerce St\, Laurel\, MS\, 39440\, United States
CATEGORIES:Laurel Branch
ORGANIZER;CN="Friends of the Laurel-Jones County Library System":MAILTO:friendsjonescountylibrarysys@gmail.com
END:VEVENT
BEGIN:VEVENT
DTSTART;TZID=America/Chicago:20300805T141500
DTEND;TZID=America/Chicago:20300805T150000
DTSTAMP:20260421T110724
CREATED:20250807T162842Z
LAST-MODIFIED:20251208T160615Z
UID:10138427-1912169700-1912172400@laurel.lib.ms.us
SUMMARY:Friends Meeting @LAU
DESCRIPTION:
URL:https://laurel.lib.ms.us/event/friends-meeting-lau-4/2030-08-05/
LOCATION:Laurel-Jones County Library\, 530 Commerce St\, Laurel\, MS\, 39440\, United States
CATEGORIES:Laurel Branch
ORGANIZER;CN="Friends of the Laurel-Jones County Library System":MAILTO:friendsjonescountylibrarysys@gmail.com
END:VEVENT
BEGIN:VEVENT
DTSTART;TZID=America/Chicago:20300902T141500
DTEND;TZID=America/Chicago:20300902T150000
DTSTAMP:20260421T110724
CREATED:20250807T162842Z
LAST-MODIFIED:20251208T160615Z
UID:10138428-1914588900-1914591600@laurel.lib.ms.us
SUMMARY:Friends Meeting @LAU
DESCRIPTION:
URL:https://laurel.lib.ms.us/event/friends-meeting-lau-4/2030-09-02/
LOCATION:Laurel-Jones County Library\, 530 Commerce St\, Laurel\, MS\, 39440\, United States
CATEGORIES:Laurel Branch
ORGANIZER;CN="Friends of the Laurel-Jones County Library System":MAILTO:friendsjonescountylibrarysys@gmail.com
END:VEVENT
BEGIN:VEVENT
DTSTART;TZID=America/Chicago:20301007T141500
DTEND;TZID=America/Chicago:20301007T150000
DTSTAMP:20260421T110724
CREATED:20250807T162842Z
LAST-MODIFIED:20251208T160615Z
UID:10138429-1917612900-1917615600@laurel.lib.ms.us
SUMMARY:Friends Meeting @LAU
DESCRIPTION:
URL:https://laurel.lib.ms.us/event/friends-meeting-lau-4/2030-10-07/
LOCATION:Laurel-Jones County Library\, 530 Commerce St\, Laurel\, MS\, 39440\, United States
CATEGORIES:Laurel Branch
ORGANIZER;CN="Friends of the Laurel-Jones County Library System":MAILTO:friendsjonescountylibrarysys@gmail.com
END:VEVENT
BEGIN:VEVENT
DTSTART;TZID=America/Chicago:20301104T141500
DTEND;TZID=America/Chicago:20301104T150000
DTSTAMP:20260421T110724
CREATED:20250807T162842Z
LAST-MODIFIED:20251208T160615Z
UID:10138430-1920032100-1920034800@laurel.lib.ms.us
SUMMARY:Friends Meeting @LAU
DESCRIPTION:
URL:https://laurel.lib.ms.us/event/friends-meeting-lau-4/2030-11-04/
LOCATION:Laurel-Jones County Library\, 530 Commerce St\, Laurel\, MS\, 39440\, United States
CATEGORIES:Laurel Branch
ORGANIZER;CN="Friends of the Laurel-Jones County Library System":MAILTO:friendsjonescountylibrarysys@gmail.com
END:VEVENT
BEGIN:VEVENT
DTSTART;TZID=America/Chicago:20301202T141500
DTEND;TZID=America/Chicago:20301202T150000
DTSTAMP:20260421T110724
CREATED:20250807T162842Z
LAST-MODIFIED:20251208T160615Z
UID:10138431-1922451300-1922454000@laurel.lib.ms.us
SUMMARY:Friends Meeting @LAU
DESCRIPTION:
URL:https://laurel.lib.ms.us/event/friends-meeting-lau-4/2030-12-02/
LOCATION:Laurel-Jones County Library\, 530 Commerce St\, Laurel\, MS\, 39440\, United States
CATEGORIES:Laurel Branch
ORGANIZER;CN="Friends of the Laurel-Jones County Library System":MAILTO:friendsjonescountylibrarysys@gmail.com
END:VEVENT
END:VCALENDAR