BEGIN:VCALENDAR
VERSION:2.0
PRODID:-//Laurel Library - ECPv6.15.20//NONSGML v1.0//EN
CALSCALE:GREGORIAN
METHOD:PUBLISH
X-WR-CALNAME:Laurel Library
X-ORIGINAL-URL:https://laurel.lib.ms.us
X-WR-CALDESC:Events for Laurel Library
REFRESH-INTERVAL;VALUE=DURATION:PT1H
X-Robots-Tag:noindex
X-PUBLISHED-TTL:PT1H
BEGIN:VTIMEZONE
TZID:America/Chicago
BEGIN:DAYLIGHT
TZOFFSETFROM:-0600
TZOFFSETTO:-0500
TZNAME:CDT
DTSTART:20240310T080000
END:DAYLIGHT
BEGIN:STANDARD
TZOFFSETFROM:-0500
TZOFFSETTO:-0600
TZNAME:CST
DTSTART:20241103T070000
END:STANDARD
BEGIN:DAYLIGHT
TZOFFSETFROM:-0600
TZOFFSETTO:-0500
TZNAME:CDT
DTSTART:20250309T080000
END:DAYLIGHT
BEGIN:STANDARD
TZOFFSETFROM:-0500
TZOFFSETTO:-0600
TZNAME:CST
DTSTART:20251102T070000
END:STANDARD
BEGIN:DAYLIGHT
TZOFFSETFROM:-0600
TZOFFSETTO:-0500
TZNAME:CDT
DTSTART:20260308T080000
END:DAYLIGHT
BEGIN:STANDARD
TZOFFSETFROM:-0500
TZOFFSETTO:-0600
TZNAME:CST
DTSTART:20261101T070000
END:STANDARD
END:VTIMEZONE
BEGIN:VEVENT
DTSTART;TZID=America/Chicago:20250708T093000
DTEND;TZID=America/Chicago:20250708T120000
DTSTAMP:20260421T103014
CREATED:20250703T140743Z
LAST-MODIFIED:20250703T140743Z
UID:10137606-1751967000-1751976000@laurel.lib.ms.us
SUMMARY:Storywalk Ribbon Cutting @Mason Park
DESCRIPTION:Join us for the official opening of our StoryWalk!
URL:https://laurel.lib.ms.us/event/storywalk-ribbon-cutting-mason-park/
LOCATION:Mason Park\, 581 20th St\, Laurel\, 39440\, United States
CATEGORIES:Laurel Branch,LOTTIE the Trolley
END:VEVENT
BEGIN:VEVENT
DTSTART;TZID=America/Chicago:20250708T170000
DTEND;TZID=America/Chicago:20250708T180000
DTSTAMP:20260421T103014
CREATED:20240724T213123Z
LAST-MODIFIED:20250522T150553Z
UID:10135397-1751994000-1751997600@laurel.lib.ms.us
SUMMARY:The Tween Teen Thing @LAU
DESCRIPTION:A monthly program for kids aged 10 to 15. Theme changes every month!
URL:https://laurel.lib.ms.us/event/the-tween-thing-2-2/2025-07-08/
LOCATION:Laurel-Jones County Library\, 530 Commerce St\, Laurel\, MS\, 39440\, United States
CATEGORIES:Laurel Branch
END:VEVENT
BEGIN:VEVENT
DTSTART;TZID=America/Chicago:20250708T180000
DTEND;TZID=America/Chicago:20250708T190000
DTSTAMP:20260421T103014
CREATED:20230127T154814Z
LAST-MODIFIED:20250522T150523Z
UID:10132446-1751997600-1752001200@laurel.lib.ms.us
SUMMARY:LEGO® Club @LAU
DESCRIPTION:Join us each month to to complete a LEGO® challenge!
URL:https://laurel.lib.ms.us/event/lego-club/2025-07-08/
LOCATION:Laurel-Jones County Library\, 530 Commerce St\, Laurel\, MS\, 39440\, United States
CATEGORIES:Laurel Branch
ATTACH;FMTTYPE=image/png:https://laurel.lib.ms.us/wp-content/uploads/2023/02/LEGO-Club.png
END:VEVENT
BEGIN:VEVENT
DTSTART;TZID=America/Chicago:20250709T130000
DTEND;TZID=America/Chicago:20250709T150000
DTSTAMP:20260421T103014
CREATED:20250701T201207Z
LAST-MODIFIED:20250701T201207Z
UID:10137119-1752066000-1752073200@laurel.lib.ms.us
SUMMARY:Christmas in July BINGO @ELL
DESCRIPTION:Sponsored by the Friends
URL:https://laurel.lib.ms.us/event/christmas-in-july-bingo-ell/
LOCATION:Ellisville Public Library\, 201 Poplar St\, Ellisville\, MS\, 39437\, United States
CATEGORIES:Ellisville Branch
ORGANIZER;CN="Friends of the Laurel-Jones County Library System":MAILTO:friendsjonescountylibrarysys@gmail.com
END:VEVENT
BEGIN:VEVENT
DTSTART;TZID=America/Chicago:20250711T133000
DTEND;TZID=America/Chicago:20250711T150000
DTSTAMP:20260421T103014
CREATED:20250529T160632Z
LAST-MODIFIED:20250529T160751Z
UID:10137113-1752240600-1752246000@laurel.lib.ms.us
SUMMARY:Movie Day: A Minecraft Movie
DESCRIPTION:Join us for a free showing of A Minecraft Movie at the Laurel-Jones County Library! \nConcessions will be available for purchase. We will also have crafts available for the kids.
URL:https://laurel.lib.ms.us/event/movie-day-a-minecraft-movie/
LOCATION:Laurel-Jones County Library\, 530 Commerce St\, Laurel\, MS\, 39440\, United States
CATEGORIES:Laurel Branch
ATTACH;FMTTYPE=image/png:https://laurel.lib.ms.us/wp-content/uploads/2023/02/Generic-Movie-Event.png
END:VEVENT
BEGIN:VEVENT
DTSTART;TZID=America/Chicago:20250712T090000
DTEND;TZID=America/Chicago:20250712T110000
DTSTAMP:20260421T103014
CREATED:20250509T194600Z
LAST-MODIFIED:20250509T195644Z
UID:10135798-1752310800-1752318000@laurel.lib.ms.us
SUMMARY:Checkmates Chess Social & Cube Corner @LAU
DESCRIPTION:Come play chess and solve cubes with other chess & cubing enthusiasts at our combination chess and cubing group!
URL:https://laurel.lib.ms.us/event/chess-hours-lau-2/2025-07-12/
LOCATION:Laurel-Jones County Library\, 530 Commerce St\, Laurel\, MS\, 39440\, United States
CATEGORIES:Laurel Branch
END:VEVENT
BEGIN:VEVENT
DTSTART;TZID=America/Chicago:20250714T160000
DTEND;TZID=America/Chicago:20250714T180000
DTSTAMP:20260421T103014
CREATED:20250529T161345Z
LAST-MODIFIED:20250617T140543Z
UID:10137114-1752508800-1752516000@laurel.lib.ms.us
SUMMARY:Sensory Day @LAU
DESCRIPTION:Looking for a sensory-friendly\, inclusive library experience? Join us for a program specially created for individuals with special needs\, along with their families and caregivers. \nWhat to Expect: \n\nStories\nHands-on sensory activities\nA calm\, low-distraction environment\nAccess to a designated Chill Zone\n\nWe welcome individuals of all ages and abilities and strive to create a warm\, supportive space for everyone. \n Please Note: \nThis is a special event for individuals with special needs and their caregivers. \nThe library will be closed to the general public during the program. \nThis is not a drop-off event—parents or caregivers must remain in the library at all times. \nCome explore the world with us—just in a different way!  \n  \nWe want all our patrons to feel welcome. If you need special accommodations\, please contact Karyn Walsh at 601-428-4313.
URL:https://laurel.lib.ms.us/event/sensory-day-lau-2/
LOCATION:Laurel-Jones County Library\, 530 Commerce St\, Laurel\, MS\, 39440\, United States
CATEGORIES:Laurel Branch
END:VEVENT
BEGIN:VEVENT
DTSTART;TZID=America/Chicago:20250717T090000
DTEND;TZID=America/Chicago:20250717T170000
DTSTAMP:20260421T103014
CREATED:20250625T161333Z
LAST-MODIFIED:20250625T161333Z
UID:10134400-1752742800-1752771600@laurel.lib.ms.us
SUMMARY:All Day LEGO® Club @ELL
DESCRIPTION:Join us each month to to complete a LEGO® challenge!
URL:https://laurel.lib.ms.us/event/lego-club-epl-2/
LOCATION:Ellisville Public Library\, 201 Poplar St\, Ellisville\, MS\, 39437\, United States
CATEGORIES:Ellisville Branch
ATTACH;FMTTYPE=image/png:https://laurel.lib.ms.us/wp-content/uploads/2023/02/LEGO-Club.png
END:VEVENT
BEGIN:VEVENT
DTSTART;TZID=America/Chicago:20250723T100000
DTEND;TZID=America/Chicago:20250723T110000
DTSTAMP:20260421T103014
CREATED:20250701T201440Z
LAST-MODIFIED:20250701T201440Z
UID:10137120-1753264800-1753268400@laurel.lib.ms.us
SUMMARY:Robotic Demo @LAU
DESCRIPTION:
URL:https://laurel.lib.ms.us/event/robotic-demo-lau/
LOCATION:Laurel-Jones County Library\, 530 Commerce St\, Laurel\, MS\, 39440\, United States
CATEGORIES:Laurel Branch
END:VEVENT
BEGIN:VEVENT
DTSTART;TZID=America/Chicago:20250725T180000
DTEND;TZID=America/Chicago:20250725T200000
DTSTAMP:20260421T103014
CREATED:20250703T141052Z
LAST-MODIFIED:20250703T141052Z
UID:10136642-1753466400-1753473600@laurel.lib.ms.us
SUMMARY:BINGO @LAU
DESCRIPTION:Play BINGO\, win prizes! 1 free card per person. Get an additional card with your library card! Concessions available.
URL:https://laurel.lib.ms.us/event/bingo-night-ljcl-3-2/
LOCATION:Laurel-Jones County Library\, 530 Commerce St\, Laurel\, MS\, 39440\, United States
CATEGORIES:Laurel Branch
END:VEVENT
END:VCALENDAR