BEGIN:VCALENDAR
VERSION:2.0
PRODID:-//Laurel Library - ECPv6.15.20//NONSGML v1.0//EN
CALSCALE:GREGORIAN
METHOD:PUBLISH
X-ORIGINAL-URL:https://laurel.lib.ms.us
X-WR-CALDESC:Events for Laurel Library
REFRESH-INTERVAL;VALUE=DURATION:PT1H
X-Robots-Tag:noindex
X-PUBLISHED-TTL:PT1H
BEGIN:VTIMEZONE
TZID:America/Chicago
BEGIN:DAYLIGHT
TZOFFSETFROM:-0600
TZOFFSETTO:-0500
TZNAME:CDT
DTSTART:20230312T080000
END:DAYLIGHT
BEGIN:STANDARD
TZOFFSETFROM:-0500
TZOFFSETTO:-0600
TZNAME:CST
DTSTART:20231105T070000
END:STANDARD
BEGIN:DAYLIGHT
TZOFFSETFROM:-0600
TZOFFSETTO:-0500
TZNAME:CDT
DTSTART:20240310T080000
END:DAYLIGHT
BEGIN:STANDARD
TZOFFSETFROM:-0500
TZOFFSETTO:-0600
TZNAME:CST
DTSTART:20241103T070000
END:STANDARD
BEGIN:DAYLIGHT
TZOFFSETFROM:-0600
TZOFFSETTO:-0500
TZNAME:CDT
DTSTART:20250309T080000
END:DAYLIGHT
BEGIN:STANDARD
TZOFFSETFROM:-0500
TZOFFSETTO:-0600
TZNAME:CST
DTSTART:20251102T070000
END:STANDARD
END:VTIMEZONE
BEGIN:VEVENT
DTSTART;TZID=America/Chicago:20240907T100000
DTEND;TZID=America/Chicago:20240907T120000
DTSTAMP:20260422T063436
CREATED:20240807T150302Z
LAST-MODIFIED:20250523T133301Z
UID:10135780-1725703200-1725710400@laurel.lib.ms.us
SUMMARY:Back to Hogwarts @LAU
DESCRIPTION:More information coming soon.
URL:https://laurel.lib.ms.us/event/back-to-hogwarts-lau/
LOCATION:Laurel-Jones County Library\, 530 Commerce St\, Laurel\, MS\, 39440\, United States
CATEGORIES:Laurel Branch
END:VEVENT
BEGIN:VEVENT
DTSTART;TZID=America/Chicago:20240910T170000
DTEND;TZID=America/Chicago:20240910T180000
DTSTAMP:20260422T063436
CREATED:20240724T213123Z
LAST-MODIFIED:20250522T150553Z
UID:10135387-1725987600-1725991200@laurel.lib.ms.us
SUMMARY:The Tween Teen Thing @LAU
DESCRIPTION:A monthly program for kids aged 10 to 15. Theme changes every month!
URL:https://laurel.lib.ms.us/event/the-tween-thing-2-2/2024-09-10/
LOCATION:Laurel-Jones County Library\, 530 Commerce St\, Laurel\, MS\, 39440\, United States
CATEGORIES:Laurel Branch
END:VEVENT
BEGIN:VEVENT
DTSTART;TZID=America/Chicago:20240910T180000
DTEND;TZID=America/Chicago:20240910T190000
DTSTAMP:20260422T063436
CREATED:20230127T154814Z
LAST-MODIFIED:20250522T150523Z
UID:10132436-1725991200-1725994800@laurel.lib.ms.us
SUMMARY:LEGO® Club @LAU
DESCRIPTION:Join us each month to to complete a LEGO® challenge!
URL:https://laurel.lib.ms.us/event/lego-club/2024-09-10/
LOCATION:Laurel-Jones County Library\, 530 Commerce St\, Laurel\, MS\, 39440\, United States
CATEGORIES:Laurel Branch
ATTACH;FMTTYPE=image/png:https://laurel.lib.ms.us/wp-content/uploads/2023/02/LEGO-Club.png
END:VEVENT
BEGIN:VEVENT
DTSTART;TZID=America/Chicago:20240914T090000
DTEND;TZID=America/Chicago:20240914T110000
DTSTAMP:20260422T063436
CREATED:20240807T151705Z
LAST-MODIFIED:20250124T175244Z
UID:10135788-1726304400-1726311600@laurel.lib.ms.us
SUMMARY:Checkmates Chess Social @LAU
DESCRIPTION:Come play chess with other chess enthusiasts!
URL:https://laurel.lib.ms.us/event/chess-hours-lau/2024-09-14/
LOCATION:Laurel-Jones County Library\, 530 Commerce St\, Laurel\, MS\, 39440\, United States
CATEGORIES:Laurel Branch
END:VEVENT
BEGIN:VEVENT
DTSTART;TZID=America/Chicago:20240921T100000
DTEND;TZID=America/Chicago:20240921T140000
DTSTAMP:20260422T063436
CREATED:20240807T151301Z
LAST-MODIFIED:20250523T133329Z
UID:10135787-1726912800-1726927200@laurel.lib.ms.us
SUMMARY:Super Smash Bros Ultimate Fall Tournament @LAU
DESCRIPTION:Test your skills at the library’s seasonal Super Smash Bros Ultimate tournament! The last player standing will win a prize! \nOpen for ages 10-17. \nRules: \n\nRegistration is from 10 am-10:30 am on the day of the tournament.\n\nPlayers must be present to register.\nNo new players will be permitted after registration.\n\n\nAll players will fight 1-on-1 on the library’s Nintendo Switch using the library’s controllers.\n\nPersonal controllers allowed\, but not required.\n\n\nIn the event of an odd number of players\, some players will need to fight a non-player character to advance.\nPlayers must use the same character (chosen during registration) throughout the entire tournament.\n\nPlease note that player characters will be limited to who is unlocked on the library’s Nintendo Switch prior to the tournament.\n\nA list will be available at registration.\n\n\nColor palette swaps are only available if multiple players choose the same character.\n\nThe event coordinator will randomly choose these color palette swaps.\n\n\n\n\n\nFor more information\, please e-mail Kari Hutto at khutto@laurel.lib.ms.us
URL:https://laurel.lib.ms.us/event/super-smash-bros-ultimate-fall-tournament-lau/
LOCATION:Laurel-Jones County Library\, 530 Commerce St\, Laurel\, MS\, 39440\, United States
CATEGORIES:Laurel Branch
ATTACH;FMTTYPE=image/png:https://laurel.lib.ms.us/wp-content/uploads/2023/07/Header-SSBU-Tournament.png
END:VEVENT
END:VCALENDAR