BEGIN:VCALENDAR
VERSION:2.0
PRODID:-//Laurel Library - ECPv6.15.20//NONSGML v1.0//EN
CALSCALE:GREGORIAN
METHOD:PUBLISH
X-ORIGINAL-URL:https://laurel.lib.ms.us
X-WR-CALDESC:Events for Laurel Library
REFRESH-INTERVAL;VALUE=DURATION:PT1H
X-Robots-Tag:noindex
X-PUBLISHED-TTL:PT1H
BEGIN:VTIMEZONE
TZID:America/Chicago
BEGIN:DAYLIGHT
TZOFFSETFROM:-0600
TZOFFSETTO:-0500
TZNAME:CDT
DTSTART:20220313T080000
END:DAYLIGHT
BEGIN:STANDARD
TZOFFSETFROM:-0500
TZOFFSETTO:-0600
TZNAME:CST
DTSTART:20221106T070000
END:STANDARD
BEGIN:DAYLIGHT
TZOFFSETFROM:-0600
TZOFFSETTO:-0500
TZNAME:CDT
DTSTART:20230312T080000
END:DAYLIGHT
BEGIN:STANDARD
TZOFFSETFROM:-0500
TZOFFSETTO:-0600
TZNAME:CST
DTSTART:20231105T070000
END:STANDARD
BEGIN:DAYLIGHT
TZOFFSETFROM:-0600
TZOFFSETTO:-0500
TZNAME:CDT
DTSTART:20240310T080000
END:DAYLIGHT
BEGIN:STANDARD
TZOFFSETFROM:-0500
TZOFFSETTO:-0600
TZNAME:CST
DTSTART:20241103T070000
END:STANDARD
END:VTIMEZONE
BEGIN:VEVENT
DTSTART;TZID=America/Chicago:20231004T100000
DTEND;TZID=America/Chicago:20231004T120000
DTSTAMP:20260423T222219
CREATED:20230126T212054Z
LAST-MODIFIED:20250523T130857Z
UID:10131708-1696413600-1696420800@laurel.lib.ms.us
SUMMARY:Computer Help (Ticketed) @LAU
DESCRIPTION:Computer classes for those interested in learning about the basics of computer use and internet access. \nTaught by Dr. McArthur. Visit us or call (601)428-4313 OR (601)477-9271 to sign up or for more information. \n 
URL:https://laurel.lib.ms.us/event/computer-help-ljcl/2023-10-04/
LOCATION:Laurel-Jones County Library\, 530 Commerce St\, Laurel\, MS\, 39440\, United States
CATEGORIES:Laurel Branch
END:VEVENT
BEGIN:VEVENT
DTSTART;TZID=America/Chicago:20231015T100000
DTEND;TZID=America/Chicago:20231015T120000
DTSTAMP:20260423T222219
CREATED:20230127T144723Z
LAST-MODIFIED:20250205T161919Z
UID:10136822-1697364000-1697371200@laurel.lib.ms.us
SUMMARY:Computer Help (Ticketed) @ELL
DESCRIPTION:Computer classes for those interested in learning about the basics of computer use and internet access. \nTaught by Dr. McArthur. Visit us or call (601)428-4313 OR (601)477-9271 to sign up or for more information.
URL:https://laurel.lib.ms.us/event/computer-help-epl/2023-10-15/
LOCATION:Ellisville Public Library\, 201 Poplar St\, Ellisville\, MS\, 39437\, United States
CATEGORIES:Ellisville Branch
END:VEVENT
BEGIN:VEVENT
DTSTART;TZID=America/Chicago:20231027T160000
DTEND;TZID=America/Chicago:20231027T170000
DTSTAMP:20260423T222219
CREATED:20231017T220938Z
LAST-MODIFIED:20250523T132407Z
UID:10134683-1698422400-1698426000@laurel.lib.ms.us
SUMMARY:Reading with Axel @LAU
DESCRIPTION:FREE and open to all children from 2nd through 6th Grade. \nImprove your child’s reading skills the fun way by reading aloud to our new Book Buddy. \nCertified therapy dog Axel listens as children read aloud from a book of their choice. Children are welcome to bring a book from home or choose one from the children’s library. \nReading sessions are 15 minutes long. \nRegistration is required.
URL:https://laurel.lib.ms.us/event/reading-with-axel-lau/2023-10-27/
LOCATION:Laurel-Jones County Library\, 530 Commerce St\, Laurel\, MS\, 39440\, United States
CATEGORIES:Laurel Branch
END:VEVENT
BEGIN:VEVENT
DTSTART;TZID=America/Chicago:20231031T110000
DTEND;TZID=America/Chicago:20231031T120000
DTSTAMP:20260423T222219
CREATED:20231017T220938Z
LAST-MODIFIED:20250523T132407Z
UID:10134684-1698750000-1698753600@laurel.lib.ms.us
SUMMARY:Reading with Axel @LAU
DESCRIPTION:FREE and open to all children from 2nd through 6th Grade. \nImprove your child’s reading skills the fun way by reading aloud to our new Book Buddy. \nCertified therapy dog Axel listens as children read aloud from a book of their choice. Children are welcome to bring a book from home or choose one from the children’s library. \nReading sessions are 15 minutes long. \nRegistration is required.
URL:https://laurel.lib.ms.us/event/reading-with-axel-lau/2023-10-31/
LOCATION:Laurel-Jones County Library\, 530 Commerce St\, Laurel\, MS\, 39440\, United States
CATEGORIES:Laurel Branch
END:VEVENT
END:VCALENDAR