BEGIN:VCALENDAR
VERSION:2.0
PRODID:-//Laurel Library - ECPv6.15.20//NONSGML v1.0//EN
CALSCALE:GREGORIAN
METHOD:PUBLISH
X-ORIGINAL-URL:https://laurel.lib.ms.us
X-WR-CALDESC:Events for Laurel Library
REFRESH-INTERVAL;VALUE=DURATION:PT1H
X-Robots-Tag:noindex
X-PUBLISHED-TTL:PT1H
BEGIN:VTIMEZONE
TZID:America/Chicago
BEGIN:DAYLIGHT
TZOFFSETFROM:-0600
TZOFFSETTO:-0500
TZNAME:CDT
DTSTART:20220313T080000
END:DAYLIGHT
BEGIN:STANDARD
TZOFFSETFROM:-0500
TZOFFSETTO:-0600
TZNAME:CST
DTSTART:20221106T070000
END:STANDARD
BEGIN:DAYLIGHT
TZOFFSETFROM:-0600
TZOFFSETTO:-0500
TZNAME:CDT
DTSTART:20230312T080000
END:DAYLIGHT
BEGIN:STANDARD
TZOFFSETFROM:-0500
TZOFFSETTO:-0600
TZNAME:CST
DTSTART:20231105T070000
END:STANDARD
BEGIN:DAYLIGHT
TZOFFSETFROM:-0600
TZOFFSETTO:-0500
TZNAME:CDT
DTSTART:20240310T080000
END:DAYLIGHT
BEGIN:STANDARD
TZOFFSETFROM:-0500
TZOFFSETTO:-0600
TZNAME:CST
DTSTART:20241103T070000
END:STANDARD
END:VTIMEZONE
BEGIN:VEVENT
DTSTART;TZID=America/Chicago:20230930T103000
DTEND;TZID=America/Chicago:20230930T123000
DTSTAMP:20260422T131038
CREATED:20230804T205452Z
LAST-MODIFIED:20250523T133906Z
UID:10134611-1696069800-1696077000@laurel.lib.ms.us
SUMMARY:Library Literacy Tour featuring Ed Said @LAU
DESCRIPTION:Join the MPB Education Team and Ed Said at the next Library Literacy Tour stop in Laurel. \nNext stop\, Curious George! At the Laurel-Jones County Library\, located at 530 Commerce Street Laurel\, MS 39440 from 10:30 A.M. to 11:30 A.M. \nThis is an in-person event. \nThis event will be recorded\, and pictures taken. We will share videos and pictures from this event on our website and social media channels for others to enjoy. If you do not wish for your child/children/family to be recorded or photographed on the day of the event\, please follow the “opt-out” instructions that will be provided at the sign-in table. \n\n\n\n\nYou may register for this FREE event on Eventbrite!\n\n\nAll ages are welcome!
URL:https://laurel.lib.ms.us/event/ed-said-lau/
LOCATION:Laurel-Jones County Library\, 530 Commerce St\, Laurel\, MS\, 39440\, United States
CATEGORIES:Laurel Branch
END:VEVENT
END:VCALENDAR