BEGIN:VCALENDAR
VERSION:2.0
PRODID:-//Laurel Library - ECPv6.15.20//NONSGML v1.0//EN
CALSCALE:GREGORIAN
METHOD:PUBLISH
X-WR-CALNAME:Laurel Library
X-ORIGINAL-URL:https://laurel.lib.ms.us
X-WR-CALDESC:Events for Laurel Library
REFRESH-INTERVAL;VALUE=DURATION:PT1H
X-Robots-Tag:noindex
X-PUBLISHED-TTL:PT1H
BEGIN:VTIMEZONE
TZID:America/Chicago
BEGIN:DAYLIGHT
TZOFFSETFROM:-0600
TZOFFSETTO:-0500
TZNAME:CDT
DTSTART:20290311T080000
END:DAYLIGHT
BEGIN:STANDARD
TZOFFSETFROM:-0500
TZOFFSETTO:-0600
TZNAME:CST
DTSTART:20291104T070000
END:STANDARD
BEGIN:DAYLIGHT
TZOFFSETFROM:-0600
TZOFFSETTO:-0500
TZNAME:CDT
DTSTART:20300310T080000
END:DAYLIGHT
BEGIN:STANDARD
TZOFFSETFROM:-0500
TZOFFSETTO:-0600
TZNAME:CST
DTSTART:20301103T070000
END:STANDARD
BEGIN:DAYLIGHT
TZOFFSETFROM:-0600
TZOFFSETTO:-0500
TZNAME:CDT
DTSTART:20310309T080000
END:DAYLIGHT
BEGIN:STANDARD
TZOFFSETFROM:-0500
TZOFFSETTO:-0600
TZNAME:CST
DTSTART:20311102T070000
END:STANDARD
END:VTIMEZONE
BEGIN:VEVENT
DTSTART;TZID=America/Chicago:20300502T090000
DTEND;TZID=America/Chicago:20300502T100000
DTSTAMP:20260424T063327
CREATED:20231206T170135Z
LAST-MODIFIED:20250205T162916Z
UID:10138133-1903942800-1903946400@laurel.lib.ms.us
SUMMARY:Baby + Me @ELL
DESCRIPTION:A program exploring books\, songs\, and fun activities designed for babies and toddlers.
URL:https://laurel.lib.ms.us/event/baby-me-epl-2/2030-05-02/
LOCATION:Ellisville Public Library\, 201 Poplar St\, Ellisville\, MS\, 39437\, United States
CATEGORIES:Ellisville Branch
ATTACH;FMTTYPE=image/png:https://laurel.lib.ms.us/wp-content/uploads/2023/02/Baby-Me.png
END:VEVENT
BEGIN:VEVENT
DTSTART;TZID=America/Chicago:20300502T100000
DTEND;TZID=America/Chicago:20300502T110000
DTSTAMP:20260424T063327
CREATED:20231206T171105Z
LAST-MODIFIED:20250205T162906Z
UID:10138159-1903946400-1903950000@laurel.lib.ms.us
SUMMARY:Storytime @ELL
DESCRIPTION:Join us every week for a story and a craft!
URL:https://laurel.lib.ms.us/event/storytime-epl-2/2030-05-02/
LOCATION:Ellisville Public Library\, 201 Poplar St\, Ellisville\, MS\, 39437\, United States
CATEGORIES:Ellisville Branch
ATTACH;FMTTYPE=image/png:https://laurel.lib.ms.us/wp-content/uploads/2023/02/Storytime.png
END:VEVENT
BEGIN:VEVENT
DTSTART;TZID=America/Chicago:20300507T090000
DTEND;TZID=America/Chicago:20300507T100000
DTSTAMP:20260424T063327
CREATED:20250703T135644Z
LAST-MODIFIED:20250703T135645Z
UID:10137082-1904374800-1904378400@laurel.lib.ms.us
SUMMARY:Baby + Me @LAU
DESCRIPTION:A program exploring books\, songs\, and fun activities designed for babies and toddlers
URL:https://laurel.lib.ms.us/event/baby-me-ljcl-2-2/2030-05-07/
LOCATION:Laurel-Jones County Library\, 530 Commerce St\, Laurel\, MS\, 39440\, United States
CATEGORIES:Laurel Branch
ATTACH;FMTTYPE=image/png:https://laurel.lib.ms.us/wp-content/uploads/2023/02/Baby-Me.png
END:VEVENT
BEGIN:VEVENT
DTSTART;TZID=America/Chicago:20300507T100000
DTEND;TZID=America/Chicago:20300507T110000
DTSTAMP:20260424T063327
CREATED:20231206T171508Z
LAST-MODIFIED:20260411T134634Z
UID:10137591-1904378400-1904382000@laurel.lib.ms.us
SUMMARY:Storytime @LAU
DESCRIPTION:Join us every week for a story and a craft!
URL:https://laurel.lib.ms.us/event/storytime-ljcl-2/2030-05-07/
LOCATION:Laurel-Jones County Library\, 530 Commerce St\, Laurel\, MS\, 39440\, United States
CATEGORIES:Laurel Branch
ATTACH;FMTTYPE=image/png:https://laurel.lib.ms.us/wp-content/uploads/2023/02/Storytime.png
END:VEVENT
BEGIN:VEVENT
DTSTART;TZID=America/Chicago:20300509T090000
DTEND;TZID=America/Chicago:20300509T100000
DTSTAMP:20260424T063327
CREATED:20231206T170135Z
LAST-MODIFIED:20250205T162916Z
UID:10138134-1904547600-1904551200@laurel.lib.ms.us
SUMMARY:Baby + Me @ELL
DESCRIPTION:A program exploring books\, songs\, and fun activities designed for babies and toddlers.
URL:https://laurel.lib.ms.us/event/baby-me-epl-2/2030-05-09/
LOCATION:Ellisville Public Library\, 201 Poplar St\, Ellisville\, MS\, 39437\, United States
CATEGORIES:Ellisville Branch
ATTACH;FMTTYPE=image/png:https://laurel.lib.ms.us/wp-content/uploads/2023/02/Baby-Me.png
END:VEVENT
BEGIN:VEVENT
DTSTART;TZID=America/Chicago:20300509T100000
DTEND;TZID=America/Chicago:20300509T110000
DTSTAMP:20260424T063327
CREATED:20231206T171105Z
LAST-MODIFIED:20250205T162906Z
UID:10138160-1904551200-1904554800@laurel.lib.ms.us
SUMMARY:Storytime @ELL
DESCRIPTION:Join us every week for a story and a craft!
URL:https://laurel.lib.ms.us/event/storytime-epl-2/2030-05-09/
LOCATION:Ellisville Public Library\, 201 Poplar St\, Ellisville\, MS\, 39437\, United States
CATEGORIES:Ellisville Branch
ATTACH;FMTTYPE=image/png:https://laurel.lib.ms.us/wp-content/uploads/2023/02/Storytime.png
END:VEVENT
BEGIN:VEVENT
DTSTART;TZID=America/Chicago:20300514T090000
DTEND;TZID=America/Chicago:20300514T100000
DTSTAMP:20260424T063327
CREATED:20250703T135644Z
LAST-MODIFIED:20250703T135645Z
UID:10137083-1904979600-1904983200@laurel.lib.ms.us
SUMMARY:Baby + Me @LAU
DESCRIPTION:A program exploring books\, songs\, and fun activities designed for babies and toddlers
URL:https://laurel.lib.ms.us/event/baby-me-ljcl-2-2/2030-05-14/
LOCATION:Laurel-Jones County Library\, 530 Commerce St\, Laurel\, MS\, 39440\, United States
CATEGORIES:Laurel Branch
ATTACH;FMTTYPE=image/png:https://laurel.lib.ms.us/wp-content/uploads/2023/02/Baby-Me.png
END:VEVENT
BEGIN:VEVENT
DTSTART;TZID=America/Chicago:20300514T100000
DTEND;TZID=America/Chicago:20300514T110000
DTSTAMP:20260424T063327
CREATED:20231206T171508Z
LAST-MODIFIED:20260411T134634Z
UID:10137592-1904983200-1904986800@laurel.lib.ms.us
SUMMARY:Storytime @LAU
DESCRIPTION:Join us every week for a story and a craft!
URL:https://laurel.lib.ms.us/event/storytime-ljcl-2/2030-05-14/
LOCATION:Laurel-Jones County Library\, 530 Commerce St\, Laurel\, MS\, 39440\, United States
CATEGORIES:Laurel Branch
ATTACH;FMTTYPE=image/png:https://laurel.lib.ms.us/wp-content/uploads/2023/02/Storytime.png
END:VEVENT
BEGIN:VEVENT
DTSTART;TZID=America/Chicago:20300514T180000
DTEND;TZID=America/Chicago:20300514T190000
DTSTAMP:20260424T063327
CREATED:20250807T183852Z
LAST-MODIFIED:20250807T183852Z
UID:10137090-1905012000-1905015600@laurel.lib.ms.us
SUMMARY:LEGO® Club @LAU
DESCRIPTION:Join us each month to to complete a LEGO® challenge!
URL:https://laurel.lib.ms.us/event/lego-club-3/2030-05-14/
LOCATION:Laurel-Jones County Library\, 530 Commerce St\, Laurel\, MS\, 39440\, United States
CATEGORIES:Laurel Branch
ATTACH;FMTTYPE=image/png:https://laurel.lib.ms.us/wp-content/uploads/2023/02/LEGO-Club.png
END:VEVENT
BEGIN:VEVENT
DTSTART;TZID=America/Chicago:20300516T090000
DTEND;TZID=America/Chicago:20300516T100000
DTSTAMP:20260424T063327
CREATED:20231206T170135Z
LAST-MODIFIED:20250205T162916Z
UID:10138135-1905152400-1905156000@laurel.lib.ms.us
SUMMARY:Baby + Me @ELL
DESCRIPTION:A program exploring books\, songs\, and fun activities designed for babies and toddlers.
URL:https://laurel.lib.ms.us/event/baby-me-epl-2/2030-05-16/
LOCATION:Ellisville Public Library\, 201 Poplar St\, Ellisville\, MS\, 39437\, United States
CATEGORIES:Ellisville Branch
ATTACH;FMTTYPE=image/png:https://laurel.lib.ms.us/wp-content/uploads/2023/02/Baby-Me.png
END:VEVENT
BEGIN:VEVENT
DTSTART;TZID=America/Chicago:20300516T100000
DTEND;TZID=America/Chicago:20300516T110000
DTSTAMP:20260424T063327
CREATED:20231206T171105Z
LAST-MODIFIED:20250205T162906Z
UID:10138161-1905156000-1905159600@laurel.lib.ms.us
SUMMARY:Storytime @ELL
DESCRIPTION:Join us every week for a story and a craft!
URL:https://laurel.lib.ms.us/event/storytime-epl-2/2030-05-16/
LOCATION:Ellisville Public Library\, 201 Poplar St\, Ellisville\, MS\, 39437\, United States
CATEGORIES:Ellisville Branch
ATTACH;FMTTYPE=image/png:https://laurel.lib.ms.us/wp-content/uploads/2023/02/Storytime.png
END:VEVENT
BEGIN:VEVENT
DTSTART;TZID=America/Chicago:20300516T143000
DTEND;TZID=America/Chicago:20300516T163000
DTSTAMP:20260424T063327
CREATED:20251208T142636Z
LAST-MODIFIED:20251208T142636Z
UID:10138364-1905172200-1905179400@laurel.lib.ms.us
SUMMARY:LEGO® Club @ELL
DESCRIPTION:Join us each month to to complete a LEGO® challenge!
URL:https://laurel.lib.ms.us/event/lego-club-ell-3/2030-05-16/
LOCATION:Ellisville Public Library\, 201 Poplar St\, Ellisville\, MS\, 39437\, United States
CATEGORIES:Ellisville Branch
ATTACH;FMTTYPE=image/png:https://laurel.lib.ms.us/wp-content/uploads/2023/02/LEGO-Club.png
END:VEVENT
BEGIN:VEVENT
DTSTART;TZID=America/Chicago:20300521T090000
DTEND;TZID=America/Chicago:20300521T100000
DTSTAMP:20260424T063327
CREATED:20250703T135644Z
LAST-MODIFIED:20250703T135645Z
UID:10137084-1905584400-1905588000@laurel.lib.ms.us
SUMMARY:Baby + Me @LAU
DESCRIPTION:A program exploring books\, songs\, and fun activities designed for babies and toddlers
URL:https://laurel.lib.ms.us/event/baby-me-ljcl-2-2/2030-05-21/
LOCATION:Laurel-Jones County Library\, 530 Commerce St\, Laurel\, MS\, 39440\, United States
CATEGORIES:Laurel Branch
ATTACH;FMTTYPE=image/png:https://laurel.lib.ms.us/wp-content/uploads/2023/02/Baby-Me.png
END:VEVENT
BEGIN:VEVENT
DTSTART;TZID=America/Chicago:20300521T100000
DTEND;TZID=America/Chicago:20300521T110000
DTSTAMP:20260424T063327
CREATED:20231206T171508Z
LAST-MODIFIED:20260411T134634Z
UID:10137593-1905588000-1905591600@laurel.lib.ms.us
SUMMARY:Storytime @LAU
DESCRIPTION:Join us every week for a story and a craft!
URL:https://laurel.lib.ms.us/event/storytime-ljcl-2/2030-05-21/
LOCATION:Laurel-Jones County Library\, 530 Commerce St\, Laurel\, MS\, 39440\, United States
CATEGORIES:Laurel Branch
ATTACH;FMTTYPE=image/png:https://laurel.lib.ms.us/wp-content/uploads/2023/02/Storytime.png
END:VEVENT
BEGIN:VEVENT
DTSTART;TZID=America/Chicago:20300523T090000
DTEND;TZID=America/Chicago:20300523T100000
DTSTAMP:20260424T063327
CREATED:20231206T170135Z
LAST-MODIFIED:20250205T162916Z
UID:10138136-1905757200-1905760800@laurel.lib.ms.us
SUMMARY:Baby + Me @ELL
DESCRIPTION:A program exploring books\, songs\, and fun activities designed for babies and toddlers.
URL:https://laurel.lib.ms.us/event/baby-me-epl-2/2030-05-23/
LOCATION:Ellisville Public Library\, 201 Poplar St\, Ellisville\, MS\, 39437\, United States
CATEGORIES:Ellisville Branch
ATTACH;FMTTYPE=image/png:https://laurel.lib.ms.us/wp-content/uploads/2023/02/Baby-Me.png
END:VEVENT
BEGIN:VEVENT
DTSTART;TZID=America/Chicago:20300523T100000
DTEND;TZID=America/Chicago:20300523T110000
DTSTAMP:20260424T063327
CREATED:20231206T171105Z
LAST-MODIFIED:20250205T162906Z
UID:10138162-1905760800-1905764400@laurel.lib.ms.us
SUMMARY:Storytime @ELL
DESCRIPTION:Join us every week for a story and a craft!
URL:https://laurel.lib.ms.us/event/storytime-epl-2/2030-05-23/
LOCATION:Ellisville Public Library\, 201 Poplar St\, Ellisville\, MS\, 39437\, United States
CATEGORIES:Ellisville Branch
ATTACH;FMTTYPE=image/png:https://laurel.lib.ms.us/wp-content/uploads/2023/02/Storytime.png
END:VEVENT
BEGIN:VEVENT
DTSTART;TZID=America/Chicago:20300528T090000
DTEND;TZID=America/Chicago:20300528T100000
DTSTAMP:20260424T063327
CREATED:20250703T135644Z
LAST-MODIFIED:20250703T135645Z
UID:10137600-1906189200-1906192800@laurel.lib.ms.us
SUMMARY:Baby + Me @LAU
DESCRIPTION:A program exploring books\, songs\, and fun activities designed for babies and toddlers
URL:https://laurel.lib.ms.us/event/baby-me-ljcl-2-2/2030-05-28/
LOCATION:Laurel-Jones County Library\, 530 Commerce St\, Laurel\, MS\, 39440\, United States
CATEGORIES:Laurel Branch
ATTACH;FMTTYPE=image/png:https://laurel.lib.ms.us/wp-content/uploads/2023/02/Baby-Me.png
END:VEVENT
BEGIN:VEVENT
DTSTART;TZID=America/Chicago:20300528T100000
DTEND;TZID=America/Chicago:20300528T110000
DTSTAMP:20260424T063327
CREATED:20231206T171508Z
LAST-MODIFIED:20260411T134634Z
UID:10137594-1906192800-1906196400@laurel.lib.ms.us
SUMMARY:Storytime @LAU
DESCRIPTION:Join us every week for a story and a craft!
URL:https://laurel.lib.ms.us/event/storytime-ljcl-2/2030-05-28/
LOCATION:Laurel-Jones County Library\, 530 Commerce St\, Laurel\, MS\, 39440\, United States
CATEGORIES:Laurel Branch
ATTACH;FMTTYPE=image/png:https://laurel.lib.ms.us/wp-content/uploads/2023/02/Storytime.png
END:VEVENT
BEGIN:VEVENT
DTSTART;TZID=America/Chicago:20300530T090000
DTEND;TZID=America/Chicago:20300530T100000
DTSTAMP:20260424T063327
CREATED:20231206T170135Z
LAST-MODIFIED:20250205T162916Z
UID:10138137-1906362000-1906365600@laurel.lib.ms.us
SUMMARY:Baby + Me @ELL
DESCRIPTION:A program exploring books\, songs\, and fun activities designed for babies and toddlers.
URL:https://laurel.lib.ms.us/event/baby-me-epl-2/2030-05-30/
LOCATION:Ellisville Public Library\, 201 Poplar St\, Ellisville\, MS\, 39437\, United States
CATEGORIES:Ellisville Branch
ATTACH;FMTTYPE=image/png:https://laurel.lib.ms.us/wp-content/uploads/2023/02/Baby-Me.png
END:VEVENT
BEGIN:VEVENT
DTSTART;TZID=America/Chicago:20300530T100000
DTEND;TZID=America/Chicago:20300530T110000
DTSTAMP:20260424T063327
CREATED:20231206T171105Z
LAST-MODIFIED:20250205T162906Z
UID:10138163-1906365600-1906369200@laurel.lib.ms.us
SUMMARY:Storytime @ELL
DESCRIPTION:Join us every week for a story and a craft!
URL:https://laurel.lib.ms.us/event/storytime-epl-2/2030-05-30/
LOCATION:Ellisville Public Library\, 201 Poplar St\, Ellisville\, MS\, 39437\, United States
CATEGORIES:Ellisville Branch
ATTACH;FMTTYPE=image/png:https://laurel.lib.ms.us/wp-content/uploads/2023/02/Storytime.png
END:VEVENT
BEGIN:VEVENT
DTSTART;TZID=America/Chicago:20300531T180000
DTEND;TZID=America/Chicago:20300531T200000
DTSTAMP:20260424T063328
CREATED:20250731T163419Z
LAST-MODIFIED:20250731T163419Z
UID:10137618-1906480800-1906488000@laurel.lib.ms.us
SUMMARY:BINGO @LAU
DESCRIPTION:Play BINGO\, win prizes! 1 free card per person. Get an additional card with your library card! Concessions available.
URL:https://laurel.lib.ms.us/event/bingo-night-ljcl-3-2-2/2030-05-31/
LOCATION:Laurel-Jones County Library\, 530 Commerce St\, Laurel\, MS\, 39440\, United States
CATEGORIES:Laurel Branch
ATTACH;FMTTYPE=image/png:https://laurel.lib.ms.us/wp-content/uploads/2025/07/Header-Bingo.png
END:VEVENT
END:VCALENDAR