BEGIN:VCALENDAR
VERSION:2.0
PRODID:-//Laurel Library - ECPv6.15.20//NONSGML v1.0//EN
CALSCALE:GREGORIAN
METHOD:PUBLISH
X-ORIGINAL-URL:https://laurel.lib.ms.us
X-WR-CALDESC:Events for Laurel Library
REFRESH-INTERVAL;VALUE=DURATION:PT1H
X-Robots-Tag:noindex
X-PUBLISHED-TTL:PT1H
BEGIN:VTIMEZONE
TZID:America/Chicago
BEGIN:DAYLIGHT
TZOFFSETFROM:-0600
TZOFFSETTO:-0500
TZNAME:CDT
DTSTART:20230312T080000
END:DAYLIGHT
BEGIN:STANDARD
TZOFFSETFROM:-0500
TZOFFSETTO:-0600
TZNAME:CST
DTSTART:20231105T070000
END:STANDARD
BEGIN:DAYLIGHT
TZOFFSETFROM:-0600
TZOFFSETTO:-0500
TZNAME:CDT
DTSTART:20240310T080000
END:DAYLIGHT
BEGIN:STANDARD
TZOFFSETFROM:-0500
TZOFFSETTO:-0600
TZNAME:CST
DTSTART:20241103T070000
END:STANDARD
BEGIN:DAYLIGHT
TZOFFSETFROM:-0600
TZOFFSETTO:-0500
TZNAME:CDT
DTSTART:20250309T080000
END:DAYLIGHT
BEGIN:STANDARD
TZOFFSETFROM:-0500
TZOFFSETTO:-0600
TZNAME:CST
DTSTART:20251102T070000
END:STANDARD
END:VTIMEZONE
BEGIN:VEVENT
DTSTART;TZID=America/Chicago:20240102T090000
DTEND;TZID=America/Chicago:20240102T100000
DTSTAMP:20260421T172940
CREATED:20231206T170257Z
LAST-MODIFIED:20250522T150510Z
UID:10131097-1704186000-1704189600@laurel.lib.ms.us
SUMMARY:Baby + Me @LAU
DESCRIPTION:A program exploring books\, songs\, and fun activities designed for babies and toddlers
URL:https://laurel.lib.ms.us/event/baby-me-ljcl-2/2024-01-02/
LOCATION:Laurel-Jones County Library\, 530 Commerce St\, Laurel\, MS\, 39440\, United States
CATEGORIES:Laurel Branch
ATTACH;FMTTYPE=image/png:https://laurel.lib.ms.us/wp-content/uploads/2023/02/Baby-Me.png
END:VEVENT
BEGIN:VEVENT
DTSTART;TZID=America/Chicago:20240102T100000
DTEND;TZID=America/Chicago:20240102T110000
DTSTAMP:20260421T172940
CREATED:20231206T171508Z
LAST-MODIFIED:20260411T134634Z
UID:10137260-1704189600-1704193200@laurel.lib.ms.us
SUMMARY:Storytime @LAU
DESCRIPTION:Join us every week for a story and a craft!
URL:https://laurel.lib.ms.us/event/storytime-ljcl-2/2024-01-02/
LOCATION:Laurel-Jones County Library\, 530 Commerce St\, Laurel\, MS\, 39440\, United States
CATEGORIES:Laurel Branch
ATTACH;FMTTYPE=image/png:https://laurel.lib.ms.us/wp-content/uploads/2023/02/Storytime.png
END:VEVENT
BEGIN:VEVENT
DTSTART;TZID=America/Chicago:20240104T090000
DTEND;TZID=America/Chicago:20240104T100000
DTSTAMP:20260421T172940
CREATED:20231206T170135Z
LAST-MODIFIED:20250205T162916Z
UID:10130573-1704358800-1704362400@laurel.lib.ms.us
SUMMARY:Baby + Me @ELL
DESCRIPTION:A program exploring books\, songs\, and fun activities designed for babies and toddlers.
URL:https://laurel.lib.ms.us/event/baby-me-epl-2/2024-01-04/
LOCATION:Ellisville Public Library\, 201 Poplar St\, Ellisville\, MS\, 39437\, United States
CATEGORIES:Ellisville Branch
ATTACH;FMTTYPE=image/png:https://laurel.lib.ms.us/wp-content/uploads/2023/02/Baby-Me.png
END:VEVENT
BEGIN:VEVENT
DTSTART;TZID=America/Chicago:20240104T100000
DTEND;TZID=America/Chicago:20240104T110000
DTSTAMP:20260421T172940
CREATED:20231206T171105Z
LAST-MODIFIED:20250205T162906Z
UID:10130834-1704362400-1704366000@laurel.lib.ms.us
SUMMARY:Storytime @ELL
DESCRIPTION:Join us every week for a story and a craft!
URL:https://laurel.lib.ms.us/event/storytime-epl-2/2024-01-04/
LOCATION:Ellisville Public Library\, 201 Poplar St\, Ellisville\, MS\, 39437\, United States
CATEGORIES:Ellisville Branch
ATTACH;FMTTYPE=image/png:https://laurel.lib.ms.us/wp-content/uploads/2023/02/Storytime.png
END:VEVENT
BEGIN:VEVENT
DTSTART;TZID=America/Chicago:20240109T090000
DTEND;TZID=America/Chicago:20240109T100000
DTSTAMP:20260421T172940
CREATED:20231206T170257Z
LAST-MODIFIED:20250522T150510Z
UID:10131098-1704790800-1704794400@laurel.lib.ms.us
SUMMARY:Baby + Me @LAU
DESCRIPTION:A program exploring books\, songs\, and fun activities designed for babies and toddlers
URL:https://laurel.lib.ms.us/event/baby-me-ljcl-2/2024-01-09/
LOCATION:Laurel-Jones County Library\, 530 Commerce St\, Laurel\, MS\, 39440\, United States
CATEGORIES:Laurel Branch
ATTACH;FMTTYPE=image/png:https://laurel.lib.ms.us/wp-content/uploads/2023/02/Baby-Me.png
END:VEVENT
BEGIN:VEVENT
DTSTART;TZID=America/Chicago:20240109T100000
DTEND;TZID=America/Chicago:20240109T110000
DTSTAMP:20260421T172940
CREATED:20231206T171508Z
LAST-MODIFIED:20260411T134634Z
UID:10137261-1704794400-1704798000@laurel.lib.ms.us
SUMMARY:Storytime @LAU
DESCRIPTION:Join us every week for a story and a craft!
URL:https://laurel.lib.ms.us/event/storytime-ljcl-2/2024-01-09/
LOCATION:Laurel-Jones County Library\, 530 Commerce St\, Laurel\, MS\, 39440\, United States
CATEGORIES:Laurel Branch
ATTACH;FMTTYPE=image/png:https://laurel.lib.ms.us/wp-content/uploads/2023/02/Storytime.png
END:VEVENT
BEGIN:VEVENT
DTSTART;TZID=America/Chicago:20240111T090000
DTEND;TZID=America/Chicago:20240111T100000
DTSTAMP:20260421T172940
CREATED:20231206T170135Z
LAST-MODIFIED:20250205T162916Z
UID:10130574-1704963600-1704967200@laurel.lib.ms.us
SUMMARY:Baby + Me @ELL
DESCRIPTION:A program exploring books\, songs\, and fun activities designed for babies and toddlers.
URL:https://laurel.lib.ms.us/event/baby-me-epl-2/2024-01-11/
LOCATION:Ellisville Public Library\, 201 Poplar St\, Ellisville\, MS\, 39437\, United States
CATEGORIES:Ellisville Branch
ATTACH;FMTTYPE=image/png:https://laurel.lib.ms.us/wp-content/uploads/2023/02/Baby-Me.png
END:VEVENT
BEGIN:VEVENT
DTSTART;TZID=America/Chicago:20240111T100000
DTEND;TZID=America/Chicago:20240111T110000
DTSTAMP:20260421T172940
CREATED:20231206T171105Z
LAST-MODIFIED:20250205T162906Z
UID:10130835-1704967200-1704970800@laurel.lib.ms.us
SUMMARY:Storytime @ELL
DESCRIPTION:Join us every week for a story and a craft!
URL:https://laurel.lib.ms.us/event/storytime-epl-2/2024-01-11/
LOCATION:Ellisville Public Library\, 201 Poplar St\, Ellisville\, MS\, 39437\, United States
CATEGORIES:Ellisville Branch
ATTACH;FMTTYPE=image/png:https://laurel.lib.ms.us/wp-content/uploads/2023/02/Storytime.png
END:VEVENT
BEGIN:VEVENT
DTSTART;TZID=America/Chicago:20240116T090000
DTEND;TZID=America/Chicago:20240116T100000
DTSTAMP:20260421T172940
CREATED:20231206T170257Z
LAST-MODIFIED:20250522T150510Z
UID:10131099-1705395600-1705399200@laurel.lib.ms.us
SUMMARY:Baby + Me @LAU
DESCRIPTION:A program exploring books\, songs\, and fun activities designed for babies and toddlers
URL:https://laurel.lib.ms.us/event/baby-me-ljcl-2/2024-01-16/
LOCATION:Laurel-Jones County Library\, 530 Commerce St\, Laurel\, MS\, 39440\, United States
CATEGORIES:Laurel Branch
ATTACH;FMTTYPE=image/png:https://laurel.lib.ms.us/wp-content/uploads/2023/02/Baby-Me.png
END:VEVENT
BEGIN:VEVENT
DTSTART;TZID=America/Chicago:20240116T100000
DTEND;TZID=America/Chicago:20240116T110000
DTSTAMP:20260421T172940
CREATED:20231206T171508Z
LAST-MODIFIED:20260411T134634Z
UID:10137262-1705399200-1705402800@laurel.lib.ms.us
SUMMARY:Storytime @LAU
DESCRIPTION:Join us every week for a story and a craft!
URL:https://laurel.lib.ms.us/event/storytime-ljcl-2/2024-01-16/
LOCATION:Laurel-Jones County Library\, 530 Commerce St\, Laurel\, MS\, 39440\, United States
CATEGORIES:Laurel Branch
ATTACH;FMTTYPE=image/png:https://laurel.lib.ms.us/wp-content/uploads/2023/02/Storytime.png
END:VEVENT
BEGIN:VEVENT
DTSTART;TZID=America/Chicago:20240118T090000
DTEND;TZID=America/Chicago:20240118T100000
DTSTAMP:20260421T172940
CREATED:20231206T170135Z
LAST-MODIFIED:20250205T162916Z
UID:10130575-1705568400-1705572000@laurel.lib.ms.us
SUMMARY:Baby + Me @ELL
DESCRIPTION:A program exploring books\, songs\, and fun activities designed for babies and toddlers.
URL:https://laurel.lib.ms.us/event/baby-me-epl-2/2024-01-18/
LOCATION:Ellisville Public Library\, 201 Poplar St\, Ellisville\, MS\, 39437\, United States
CATEGORIES:Ellisville Branch
ATTACH;FMTTYPE=image/png:https://laurel.lib.ms.us/wp-content/uploads/2023/02/Baby-Me.png
END:VEVENT
BEGIN:VEVENT
DTSTART;TZID=America/Chicago:20240118T100000
DTEND;TZID=America/Chicago:20240118T110000
DTSTAMP:20260421T172940
CREATED:20231206T171105Z
LAST-MODIFIED:20250205T162906Z
UID:10130836-1705572000-1705575600@laurel.lib.ms.us
SUMMARY:Storytime @ELL
DESCRIPTION:Join us every week for a story and a craft!
URL:https://laurel.lib.ms.us/event/storytime-epl-2/2024-01-18/
LOCATION:Ellisville Public Library\, 201 Poplar St\, Ellisville\, MS\, 39437\, United States
CATEGORIES:Ellisville Branch
ATTACH;FMTTYPE=image/png:https://laurel.lib.ms.us/wp-content/uploads/2023/02/Storytime.png
END:VEVENT
BEGIN:VEVENT
DTSTART;TZID=America/Chicago:20240123T090000
DTEND;TZID=America/Chicago:20240123T100000
DTSTAMP:20260421T172940
CREATED:20231206T170257Z
LAST-MODIFIED:20250522T150510Z
UID:10131100-1706000400-1706004000@laurel.lib.ms.us
SUMMARY:Baby + Me @LAU
DESCRIPTION:A program exploring books\, songs\, and fun activities designed for babies and toddlers
URL:https://laurel.lib.ms.us/event/baby-me-ljcl-2/2024-01-23/
LOCATION:Laurel-Jones County Library\, 530 Commerce St\, Laurel\, MS\, 39440\, United States
CATEGORIES:Laurel Branch
ATTACH;FMTTYPE=image/png:https://laurel.lib.ms.us/wp-content/uploads/2023/02/Baby-Me.png
END:VEVENT
BEGIN:VEVENT
DTSTART;TZID=America/Chicago:20240123T100000
DTEND;TZID=America/Chicago:20240123T110000
DTSTAMP:20260421T172940
CREATED:20231206T171508Z
LAST-MODIFIED:20260411T134634Z
UID:10137263-1706004000-1706007600@laurel.lib.ms.us
SUMMARY:Storytime @LAU
DESCRIPTION:Join us every week for a story and a craft!
URL:https://laurel.lib.ms.us/event/storytime-ljcl-2/2024-01-23/
LOCATION:Laurel-Jones County Library\, 530 Commerce St\, Laurel\, MS\, 39440\, United States
CATEGORIES:Laurel Branch
ATTACH;FMTTYPE=image/png:https://laurel.lib.ms.us/wp-content/uploads/2023/02/Storytime.png
END:VEVENT
BEGIN:VEVENT
DTSTART;TZID=America/Chicago:20240125T090000
DTEND;TZID=America/Chicago:20240125T100000
DTSTAMP:20260421T172940
CREATED:20231206T170135Z
LAST-MODIFIED:20250205T162916Z
UID:10130576-1706173200-1706176800@laurel.lib.ms.us
SUMMARY:Baby + Me @ELL
DESCRIPTION:A program exploring books\, songs\, and fun activities designed for babies and toddlers.
URL:https://laurel.lib.ms.us/event/baby-me-epl-2/2024-01-25/
LOCATION:Ellisville Public Library\, 201 Poplar St\, Ellisville\, MS\, 39437\, United States
CATEGORIES:Ellisville Branch
ATTACH;FMTTYPE=image/png:https://laurel.lib.ms.us/wp-content/uploads/2023/02/Baby-Me.png
END:VEVENT
BEGIN:VEVENT
DTSTART;TZID=America/Chicago:20240125T100000
DTEND;TZID=America/Chicago:20240125T110000
DTSTAMP:20260421T172940
CREATED:20231206T171105Z
LAST-MODIFIED:20250205T162906Z
UID:10130837-1706176800-1706180400@laurel.lib.ms.us
SUMMARY:Storytime @ELL
DESCRIPTION:Join us every week for a story and a craft!
URL:https://laurel.lib.ms.us/event/storytime-epl-2/2024-01-25/
LOCATION:Ellisville Public Library\, 201 Poplar St\, Ellisville\, MS\, 39437\, United States
CATEGORIES:Ellisville Branch
ATTACH;FMTTYPE=image/png:https://laurel.lib.ms.us/wp-content/uploads/2023/02/Storytime.png
END:VEVENT
BEGIN:VEVENT
DTSTART;TZID=America/Chicago:20240130T090000
DTEND;TZID=America/Chicago:20240130T100000
DTSTAMP:20260421T172940
CREATED:20231206T170257Z
LAST-MODIFIED:20250522T150510Z
UID:10131101-1706605200-1706608800@laurel.lib.ms.us
SUMMARY:Baby + Me @LAU
DESCRIPTION:A program exploring books\, songs\, and fun activities designed for babies and toddlers
URL:https://laurel.lib.ms.us/event/baby-me-ljcl-2/2024-01-30/
LOCATION:Laurel-Jones County Library\, 530 Commerce St\, Laurel\, MS\, 39440\, United States
CATEGORIES:Laurel Branch
ATTACH;FMTTYPE=image/png:https://laurel.lib.ms.us/wp-content/uploads/2023/02/Baby-Me.png
END:VEVENT
BEGIN:VEVENT
DTSTART;TZID=America/Chicago:20240130T100000
DTEND;TZID=America/Chicago:20240130T110000
DTSTAMP:20260421T172940
CREATED:20231206T171508Z
LAST-MODIFIED:20260411T134634Z
UID:10137264-1706608800-1706612400@laurel.lib.ms.us
SUMMARY:Storytime @LAU
DESCRIPTION:Join us every week for a story and a craft!
URL:https://laurel.lib.ms.us/event/storytime-ljcl-2/2024-01-30/
LOCATION:Laurel-Jones County Library\, 530 Commerce St\, Laurel\, MS\, 39440\, United States
CATEGORIES:Laurel Branch
ATTACH;FMTTYPE=image/png:https://laurel.lib.ms.us/wp-content/uploads/2023/02/Storytime.png
END:VEVENT
END:VCALENDAR