BEGIN:VCALENDAR
VERSION:2.0
PRODID:-//Laurel Library - ECPv6.15.20//NONSGML v1.0//EN
CALSCALE:GREGORIAN
METHOD:PUBLISH
X-ORIGINAL-URL:https://laurel.lib.ms.us
X-WR-CALDESC:Events for Laurel Library
REFRESH-INTERVAL;VALUE=DURATION:PT1H
X-Robots-Tag:noindex
X-PUBLISHED-TTL:PT1H
BEGIN:VTIMEZONE
TZID:America/Chicago
BEGIN:DAYLIGHT
TZOFFSETFROM:-0600
TZOFFSETTO:-0500
TZNAME:CDT
DTSTART:20220313T080000
END:DAYLIGHT
BEGIN:STANDARD
TZOFFSETFROM:-0500
TZOFFSETTO:-0600
TZNAME:CST
DTSTART:20221106T070000
END:STANDARD
BEGIN:DAYLIGHT
TZOFFSETFROM:-0600
TZOFFSETTO:-0500
TZNAME:CDT
DTSTART:20230312T080000
END:DAYLIGHT
BEGIN:STANDARD
TZOFFSETFROM:-0500
TZOFFSETTO:-0600
TZNAME:CST
DTSTART:20231105T070000
END:STANDARD
BEGIN:DAYLIGHT
TZOFFSETFROM:-0600
TZOFFSETTO:-0500
TZNAME:CDT
DTSTART:20240310T080000
END:DAYLIGHT
BEGIN:STANDARD
TZOFFSETFROM:-0500
TZOFFSETTO:-0600
TZNAME:CST
DTSTART:20241103T070000
END:STANDARD
END:VTIMEZONE
BEGIN:VEVENT
DTSTART;TZID=America/Chicago:20230801T090000
DTEND;TZID=America/Chicago:20230801T100000
DTSTAMP:20260422T180930
CREATED:20230126T211236Z
LAST-MODIFIED:20250205T162512Z
UID:10131075-1690880400-1690884000@laurel.lib.ms.us
SUMMARY:Baby + Me @LAU
DESCRIPTION:A program exploring books\, songs\, and fun activities designed for babies and toddlers
URL:https://laurel.lib.ms.us/event/baby-me-ljcl/2023-08-01/
LOCATION:Laurel-Jones County Library\, 530 Commerce St\, Laurel\, MS\, 39440\, United States
CATEGORIES:Laurel Branch
ATTACH;FMTTYPE=image/png:https://laurel.lib.ms.us/wp-content/uploads/2023/02/Baby-Me.png
END:VEVENT
BEGIN:VEVENT
DTSTART;TZID=America/Chicago:20230801T100000
DTEND;TZID=America/Chicago:20230801T110000
DTSTAMP:20260422T180930
CREATED:20230126T211943Z
LAST-MODIFIED:20250522T150223Z
UID:10131336-1690884000-1690887600@laurel.lib.ms.us
SUMMARY:Storytime @LAU
DESCRIPTION:Join us every week for a story and a craft!
URL:https://laurel.lib.ms.us/event/storytime-ljcl/2023-08-01/
LOCATION:Laurel-Jones County Library\, 530 Commerce St\, Laurel\, MS\, 39440\, United States
CATEGORIES:Laurel Branch
ATTACH;FMTTYPE=image/png:https://laurel.lib.ms.us/wp-content/uploads/2023/02/Storytime.png
END:VEVENT
BEGIN:VEVENT
DTSTART;TZID=America/Chicago:20230803T090000
DTEND;TZID=America/Chicago:20230803T100000
DTSTAMP:20260422T180930
CREATED:20230126T194159Z
LAST-MODIFIED:20250205T161856Z
UID:10130551-1691053200-1691056800@laurel.lib.ms.us
SUMMARY:Baby + Me @ELL
DESCRIPTION:A program exploring books\, songs\, and fun activities designed for babies and toddlers.
URL:https://laurel.lib.ms.us/event/baby-me-epl/2023-08-03/
LOCATION:Ellisville Public Library\, 201 Poplar St\, Ellisville\, MS\, 39437\, United States
CATEGORIES:Ellisville Branch
ATTACH;FMTTYPE=image/png:https://laurel.lib.ms.us/wp-content/uploads/2023/02/Baby-Me.png
END:VEVENT
BEGIN:VEVENT
DTSTART;TZID=America/Chicago:20230803T100000
DTEND;TZID=America/Chicago:20230803T110000
DTSTAMP:20260422T180930
CREATED:20230126T194310Z
LAST-MODIFIED:20250205T161942Z
UID:10130812-1691056800-1691060400@laurel.lib.ms.us
SUMMARY:Storytime @ELL
DESCRIPTION:Join us every week for a story and a craft!
URL:https://laurel.lib.ms.us/event/storytime-epl/2023-08-03/
LOCATION:Ellisville Public Library\, 201 Poplar St\, Ellisville\, MS\, 39437\, United States
CATEGORIES:Ellisville Branch
ATTACH;FMTTYPE=image/png:https://laurel.lib.ms.us/wp-content/uploads/2023/02/Storytime.png
END:VEVENT
BEGIN:VEVENT
DTSTART;TZID=America/Chicago:20230808T090000
DTEND;TZID=America/Chicago:20230808T100000
DTSTAMP:20260422T180930
CREATED:20230126T211236Z
LAST-MODIFIED:20250205T162512Z
UID:10131076-1691485200-1691488800@laurel.lib.ms.us
SUMMARY:Baby + Me @LAU
DESCRIPTION:A program exploring books\, songs\, and fun activities designed for babies and toddlers
URL:https://laurel.lib.ms.us/event/baby-me-ljcl/2023-08-08/
LOCATION:Laurel-Jones County Library\, 530 Commerce St\, Laurel\, MS\, 39440\, United States
CATEGORIES:Laurel Branch
ATTACH;FMTTYPE=image/png:https://laurel.lib.ms.us/wp-content/uploads/2023/02/Baby-Me.png
END:VEVENT
BEGIN:VEVENT
DTSTART;TZID=America/Chicago:20230808T100000
DTEND;TZID=America/Chicago:20230808T110000
DTSTAMP:20260422T180930
CREATED:20230126T211943Z
LAST-MODIFIED:20250522T150223Z
UID:10131337-1691488800-1691492400@laurel.lib.ms.us
SUMMARY:Storytime @LAU
DESCRIPTION:Join us every week for a story and a craft!
URL:https://laurel.lib.ms.us/event/storytime-ljcl/2023-08-08/
LOCATION:Laurel-Jones County Library\, 530 Commerce St\, Laurel\, MS\, 39440\, United States
CATEGORIES:Laurel Branch
ATTACH;FMTTYPE=image/png:https://laurel.lib.ms.us/wp-content/uploads/2023/02/Storytime.png
END:VEVENT
BEGIN:VEVENT
DTSTART;TZID=America/Chicago:20230810T090000
DTEND;TZID=America/Chicago:20230810T100000
DTSTAMP:20260422T180930
CREATED:20230126T194159Z
LAST-MODIFIED:20250205T161856Z
UID:10130552-1691658000-1691661600@laurel.lib.ms.us
SUMMARY:Baby + Me @ELL
DESCRIPTION:A program exploring books\, songs\, and fun activities designed for babies and toddlers.
URL:https://laurel.lib.ms.us/event/baby-me-epl/2023-08-10/
LOCATION:Ellisville Public Library\, 201 Poplar St\, Ellisville\, MS\, 39437\, United States
CATEGORIES:Ellisville Branch
ATTACH;FMTTYPE=image/png:https://laurel.lib.ms.us/wp-content/uploads/2023/02/Baby-Me.png
END:VEVENT
BEGIN:VEVENT
DTSTART;TZID=America/Chicago:20230810T100000
DTEND;TZID=America/Chicago:20230810T110000
DTSTAMP:20260422T180930
CREATED:20230126T194310Z
LAST-MODIFIED:20250205T161942Z
UID:10130813-1691661600-1691665200@laurel.lib.ms.us
SUMMARY:Storytime @ELL
DESCRIPTION:Join us every week for a story and a craft!
URL:https://laurel.lib.ms.us/event/storytime-epl/2023-08-10/
LOCATION:Ellisville Public Library\, 201 Poplar St\, Ellisville\, MS\, 39437\, United States
CATEGORIES:Ellisville Branch
ATTACH;FMTTYPE=image/png:https://laurel.lib.ms.us/wp-content/uploads/2023/02/Storytime.png
END:VEVENT
BEGIN:VEVENT
DTSTART;TZID=America/Chicago:20230815T090000
DTEND;TZID=America/Chicago:20230815T100000
DTSTAMP:20260422T180931
CREATED:20230126T211236Z
LAST-MODIFIED:20250205T162512Z
UID:10131077-1692090000-1692093600@laurel.lib.ms.us
SUMMARY:Baby + Me @LAU
DESCRIPTION:A program exploring books\, songs\, and fun activities designed for babies and toddlers
URL:https://laurel.lib.ms.us/event/baby-me-ljcl/2023-08-15/
LOCATION:Laurel-Jones County Library\, 530 Commerce St\, Laurel\, MS\, 39440\, United States
CATEGORIES:Laurel Branch
ATTACH;FMTTYPE=image/png:https://laurel.lib.ms.us/wp-content/uploads/2023/02/Baby-Me.png
END:VEVENT
BEGIN:VEVENT
DTSTART;TZID=America/Chicago:20230815T100000
DTEND;TZID=America/Chicago:20230815T110000
DTSTAMP:20260422T180931
CREATED:20230126T211943Z
LAST-MODIFIED:20250522T150223Z
UID:10131338-1692093600-1692097200@laurel.lib.ms.us
SUMMARY:Storytime @LAU
DESCRIPTION:Join us every week for a story and a craft!
URL:https://laurel.lib.ms.us/event/storytime-ljcl/2023-08-15/
LOCATION:Laurel-Jones County Library\, 530 Commerce St\, Laurel\, MS\, 39440\, United States
CATEGORIES:Laurel Branch
ATTACH;FMTTYPE=image/png:https://laurel.lib.ms.us/wp-content/uploads/2023/02/Storytime.png
END:VEVENT
BEGIN:VEVENT
DTSTART;TZID=America/Chicago:20230817T160000
DTEND;TZID=America/Chicago:20230817T200000
DTSTAMP:20260422T180931
CREATED:20230731T130026Z
LAST-MODIFIED:20250523T133729Z
UID:10134580-1692288000-1692302400@laurel.lib.ms.us
SUMMARY:Back to School Mini-Golf @LAU
DESCRIPTION:Celebrate back to school with a round of mini-golf at the library! \nKids 18 and under get in free! Adults pay $5 each. Snacks available for purchase. \nLast round will be at 7:30 pm.
URL:https://laurel.lib.ms.us/event/back-to-school-mini-golf-lau/
LOCATION:Laurel-Jones County Library\, 530 Commerce St\, Laurel\, MS\, 39440\, United States
CATEGORIES:Laurel Branch
END:VEVENT
BEGIN:VEVENT
DTSTART;TZID=America/Chicago:20230822T090000
DTEND;TZID=America/Chicago:20230822T100000
DTSTAMP:20260422T180931
CREATED:20230126T211236Z
LAST-MODIFIED:20250205T162512Z
UID:10131078-1692694800-1692698400@laurel.lib.ms.us
SUMMARY:Baby + Me @LAU
DESCRIPTION:A program exploring books\, songs\, and fun activities designed for babies and toddlers
URL:https://laurel.lib.ms.us/event/baby-me-ljcl/2023-08-22/
LOCATION:Laurel-Jones County Library\, 530 Commerce St\, Laurel\, MS\, 39440\, United States
CATEGORIES:Laurel Branch
ATTACH;FMTTYPE=image/png:https://laurel.lib.ms.us/wp-content/uploads/2023/02/Baby-Me.png
END:VEVENT
BEGIN:VEVENT
DTSTART;TZID=America/Chicago:20230822T100000
DTEND;TZID=America/Chicago:20230822T110000
DTSTAMP:20260422T180931
CREATED:20230126T211943Z
LAST-MODIFIED:20250522T150223Z
UID:10131339-1692698400-1692702000@laurel.lib.ms.us
SUMMARY:Storytime @LAU
DESCRIPTION:Join us every week for a story and a craft!
URL:https://laurel.lib.ms.us/event/storytime-ljcl/2023-08-22/
LOCATION:Laurel-Jones County Library\, 530 Commerce St\, Laurel\, MS\, 39440\, United States
CATEGORIES:Laurel Branch
ATTACH;FMTTYPE=image/png:https://laurel.lib.ms.us/wp-content/uploads/2023/02/Storytime.png
END:VEVENT
BEGIN:VEVENT
DTSTART;TZID=America/Chicago:20230824T090000
DTEND;TZID=America/Chicago:20230824T100000
DTSTAMP:20260422T180931
CREATED:20230126T194159Z
LAST-MODIFIED:20250205T161856Z
UID:10130554-1692867600-1692871200@laurel.lib.ms.us
SUMMARY:Baby + Me @ELL
DESCRIPTION:A program exploring books\, songs\, and fun activities designed for babies and toddlers.
URL:https://laurel.lib.ms.us/event/baby-me-epl/2023-08-24/
LOCATION:Ellisville Public Library\, 201 Poplar St\, Ellisville\, MS\, 39437\, United States
CATEGORIES:Ellisville Branch
ATTACH;FMTTYPE=image/png:https://laurel.lib.ms.us/wp-content/uploads/2023/02/Baby-Me.png
END:VEVENT
BEGIN:VEVENT
DTSTART;TZID=America/Chicago:20230824T100000
DTEND;TZID=America/Chicago:20230824T110000
DTSTAMP:20260422T180931
CREATED:20230126T194310Z
LAST-MODIFIED:20250205T161942Z
UID:10130815-1692871200-1692874800@laurel.lib.ms.us
SUMMARY:Storytime @ELL
DESCRIPTION:Join us every week for a story and a craft!
URL:https://laurel.lib.ms.us/event/storytime-epl/2023-08-24/
LOCATION:Ellisville Public Library\, 201 Poplar St\, Ellisville\, MS\, 39437\, United States
CATEGORIES:Ellisville Branch
ATTACH;FMTTYPE=image/png:https://laurel.lib.ms.us/wp-content/uploads/2023/02/Storytime.png
END:VEVENT
BEGIN:VEVENT
DTSTART;TZID=America/Chicago:20230829T090000
DTEND;TZID=America/Chicago:20230829T100000
DTSTAMP:20260422T180931
CREATED:20230126T211236Z
LAST-MODIFIED:20250205T162512Z
UID:10131079-1693299600-1693303200@laurel.lib.ms.us
SUMMARY:Baby + Me @LAU
DESCRIPTION:A program exploring books\, songs\, and fun activities designed for babies and toddlers
URL:https://laurel.lib.ms.us/event/baby-me-ljcl/2023-08-29/
LOCATION:Laurel-Jones County Library\, 530 Commerce St\, Laurel\, MS\, 39440\, United States
CATEGORIES:Laurel Branch
ATTACH;FMTTYPE=image/png:https://laurel.lib.ms.us/wp-content/uploads/2023/02/Baby-Me.png
END:VEVENT
BEGIN:VEVENT
DTSTART;TZID=America/Chicago:20230829T100000
DTEND;TZID=America/Chicago:20230829T110000
DTSTAMP:20260422T180931
CREATED:20230126T211943Z
LAST-MODIFIED:20250522T150223Z
UID:10131340-1693303200-1693306800@laurel.lib.ms.us
SUMMARY:Storytime @LAU
DESCRIPTION:Join us every week for a story and a craft!
URL:https://laurel.lib.ms.us/event/storytime-ljcl/2023-08-29/
LOCATION:Laurel-Jones County Library\, 530 Commerce St\, Laurel\, MS\, 39440\, United States
CATEGORIES:Laurel Branch
ATTACH;FMTTYPE=image/png:https://laurel.lib.ms.us/wp-content/uploads/2023/02/Storytime.png
END:VEVENT
BEGIN:VEVENT
DTSTART;TZID=America/Chicago:20230831T090000
DTEND;TZID=America/Chicago:20230831T100000
DTSTAMP:20260422T180931
CREATED:20230126T194159Z
LAST-MODIFIED:20250205T161856Z
UID:10130555-1693472400-1693476000@laurel.lib.ms.us
SUMMARY:Baby + Me @ELL
DESCRIPTION:A program exploring books\, songs\, and fun activities designed for babies and toddlers.
URL:https://laurel.lib.ms.us/event/baby-me-epl/2023-08-31/
LOCATION:Ellisville Public Library\, 201 Poplar St\, Ellisville\, MS\, 39437\, United States
CATEGORIES:Ellisville Branch
ATTACH;FMTTYPE=image/png:https://laurel.lib.ms.us/wp-content/uploads/2023/02/Baby-Me.png
END:VEVENT
BEGIN:VEVENT
DTSTART;TZID=America/Chicago:20230831T100000
DTEND;TZID=America/Chicago:20230831T110000
DTSTAMP:20260422T180931
CREATED:20230126T194310Z
LAST-MODIFIED:20250205T161942Z
UID:10130816-1693476000-1693479600@laurel.lib.ms.us
SUMMARY:Storytime @ELL
DESCRIPTION:Join us every week for a story and a craft!
URL:https://laurel.lib.ms.us/event/storytime-epl/2023-08-31/
LOCATION:Ellisville Public Library\, 201 Poplar St\, Ellisville\, MS\, 39437\, United States
CATEGORIES:Ellisville Branch
ATTACH;FMTTYPE=image/png:https://laurel.lib.ms.us/wp-content/uploads/2023/02/Storytime.png
END:VEVENT
END:VCALENDAR