BEGIN:VCALENDAR
VERSION:2.0
PRODID:-//Laurel Library - ECPv6.15.20//NONSGML v1.0//EN
CALSCALE:GREGORIAN
METHOD:PUBLISH
X-ORIGINAL-URL:https://laurel.lib.ms.us
X-WR-CALDESC:Events for Laurel Library
REFRESH-INTERVAL;VALUE=DURATION:PT1H
X-Robots-Tag:noindex
X-PUBLISHED-TTL:PT1H
BEGIN:VTIMEZONE
TZID:America/Chicago
BEGIN:DAYLIGHT
TZOFFSETFROM:-0600
TZOFFSETTO:-0500
TZNAME:CDT
DTSTART:20240310T080000
END:DAYLIGHT
BEGIN:STANDARD
TZOFFSETFROM:-0500
TZOFFSETTO:-0600
TZNAME:CST
DTSTART:20241103T070000
END:STANDARD
BEGIN:DAYLIGHT
TZOFFSETFROM:-0600
TZOFFSETTO:-0500
TZNAME:CDT
DTSTART:20250309T080000
END:DAYLIGHT
BEGIN:STANDARD
TZOFFSETFROM:-0500
TZOFFSETTO:-0600
TZNAME:CST
DTSTART:20251102T070000
END:STANDARD
BEGIN:DAYLIGHT
TZOFFSETFROM:-0600
TZOFFSETTO:-0500
TZNAME:CDT
DTSTART:20260308T080000
END:DAYLIGHT
BEGIN:STANDARD
TZOFFSETFROM:-0500
TZOFFSETTO:-0600
TZNAME:CST
DTSTART:20261101T070000
END:STANDARD
END:VTIMEZONE
BEGIN:VEVENT
DTSTART;TZID=America/Chicago:20250805T090000
DTEND;TZID=America/Chicago:20250805T100000
DTSTAMP:20260420T201525
CREATED:20250703T135644Z
LAST-MODIFIED:20250703T135645Z
UID:10135577-1754384400-1754388000@laurel.lib.ms.us
SUMMARY:Baby + Me @LAU
DESCRIPTION:A program exploring books\, songs\, and fun activities designed for babies and toddlers
URL:https://laurel.lib.ms.us/event/baby-me-ljcl-2-2/2025-08-05/
LOCATION:Laurel-Jones County Library\, 530 Commerce St\, Laurel\, MS\, 39440\, United States
CATEGORIES:Laurel Branch
ATTACH;FMTTYPE=image/png:https://laurel.lib.ms.us/wp-content/uploads/2023/02/Baby-Me.png
END:VEVENT
BEGIN:VEVENT
DTSTART;TZID=America/Chicago:20250805T100000
DTEND;TZID=America/Chicago:20250805T110000
DTSTAMP:20260420T201525
CREATED:20231206T171508Z
LAST-MODIFIED:20260411T134634Z
UID:10137343-1754388000-1754391600@laurel.lib.ms.us
SUMMARY:Storytime @LAU
DESCRIPTION:Join us every week for a story and a craft!
URL:https://laurel.lib.ms.us/event/storytime-ljcl-2/2025-08-05/
LOCATION:Laurel-Jones County Library\, 530 Commerce St\, Laurel\, MS\, 39440\, United States
CATEGORIES:Laurel Branch
ATTACH;FMTTYPE=image/png:https://laurel.lib.ms.us/wp-content/uploads/2023/02/Storytime.png
END:VEVENT
BEGIN:VEVENT
DTSTART;TZID=America/Chicago:20250807T090000
DTEND;TZID=America/Chicago:20250807T100000
DTSTAMP:20260420T201525
CREATED:20231206T170135Z
LAST-MODIFIED:20250205T162916Z
UID:10135695-1754557200-1754560800@laurel.lib.ms.us
SUMMARY:Baby + Me @ELL
DESCRIPTION:A program exploring books\, songs\, and fun activities designed for babies and toddlers.
URL:https://laurel.lib.ms.us/event/baby-me-epl-2/2025-08-07/
LOCATION:Ellisville Public Library\, 201 Poplar St\, Ellisville\, MS\, 39437\, United States
CATEGORIES:Ellisville Branch
ATTACH;FMTTYPE=image/png:https://laurel.lib.ms.us/wp-content/uploads/2023/02/Baby-Me.png
END:VEVENT
BEGIN:VEVENT
DTSTART;TZID=America/Chicago:20250807T100000
DTEND;TZID=America/Chicago:20250807T110000
DTSTAMP:20260420T201525
CREATED:20231206T171105Z
LAST-MODIFIED:20250205T162906Z
UID:10135665-1754560800-1754564400@laurel.lib.ms.us
SUMMARY:Storytime @ELL
DESCRIPTION:Join us every week for a story and a craft!
URL:https://laurel.lib.ms.us/event/storytime-epl-2/2025-08-07/
LOCATION:Ellisville Public Library\, 201 Poplar St\, Ellisville\, MS\, 39437\, United States
CATEGORIES:Ellisville Branch
ATTACH;FMTTYPE=image/png:https://laurel.lib.ms.us/wp-content/uploads/2023/02/Storytime.png
END:VEVENT
BEGIN:VEVENT
DTSTART;TZID=America/Chicago:20250809T090000
DTEND;TZID=America/Chicago:20250809T110000
DTSTAMP:20260420T201525
CREATED:20250731T161850Z
LAST-MODIFIED:20250731T161850Z
UID:10135799-1754730000-1754737200@laurel.lib.ms.us
SUMMARY:Checkmates Chess Social & Cube Corner @LAU
DESCRIPTION:Come play chess and solve cubes with other chess & cubing enthusiasts at our combination chess and cubing group!
URL:https://laurel.lib.ms.us/event/chess-hours-lau-2-2/2025-08-09/
LOCATION:Laurel-Jones County Library\, 530 Commerce St\, Laurel\, MS\, 39440\, United States
CATEGORIES:Laurel Branch
ATTACH;FMTTYPE=image/png:https://laurel.lib.ms.us/wp-content/uploads/2025/05/Header-Checkmates-Cube-Corner.png
END:VEVENT
BEGIN:VEVENT
DTSTART;TZID=America/Chicago:20250812T090000
DTEND;TZID=America/Chicago:20250812T100000
DTSTAMP:20260420T201525
CREATED:20250703T135644Z
LAST-MODIFIED:20250703T135645Z
UID:10135578-1754989200-1754992800@laurel.lib.ms.us
SUMMARY:Baby + Me @LAU
DESCRIPTION:A program exploring books\, songs\, and fun activities designed for babies and toddlers
URL:https://laurel.lib.ms.us/event/baby-me-ljcl-2-2/2025-08-12/
LOCATION:Laurel-Jones County Library\, 530 Commerce St\, Laurel\, MS\, 39440\, United States
CATEGORIES:Laurel Branch
ATTACH;FMTTYPE=image/png:https://laurel.lib.ms.us/wp-content/uploads/2023/02/Baby-Me.png
END:VEVENT
BEGIN:VEVENT
DTSTART;TZID=America/Chicago:20250812T100000
DTEND;TZID=America/Chicago:20250812T110000
DTSTAMP:20260420T201525
CREATED:20231206T171508Z
LAST-MODIFIED:20260411T134634Z
UID:10137344-1754992800-1754996400@laurel.lib.ms.us
SUMMARY:Storytime @LAU
DESCRIPTION:Join us every week for a story and a craft!
URL:https://laurel.lib.ms.us/event/storytime-ljcl-2/2025-08-12/
LOCATION:Laurel-Jones County Library\, 530 Commerce St\, Laurel\, MS\, 39440\, United States
CATEGORIES:Laurel Branch
ATTACH;FMTTYPE=image/png:https://laurel.lib.ms.us/wp-content/uploads/2023/02/Storytime.png
END:VEVENT
BEGIN:VEVENT
DTSTART;TZID=America/Chicago:20250814T090000
DTEND;TZID=America/Chicago:20250814T100000
DTSTAMP:20260420T201525
CREATED:20231206T170135Z
LAST-MODIFIED:20250205T162916Z
UID:10135696-1755162000-1755165600@laurel.lib.ms.us
SUMMARY:Baby + Me @ELL
DESCRIPTION:A program exploring books\, songs\, and fun activities designed for babies and toddlers.
URL:https://laurel.lib.ms.us/event/baby-me-epl-2/2025-08-14/
LOCATION:Ellisville Public Library\, 201 Poplar St\, Ellisville\, MS\, 39437\, United States
CATEGORIES:Ellisville Branch
ATTACH;FMTTYPE=image/png:https://laurel.lib.ms.us/wp-content/uploads/2023/02/Baby-Me.png
END:VEVENT
BEGIN:VEVENT
DTSTART;TZID=America/Chicago:20250814T100000
DTEND;TZID=America/Chicago:20250814T110000
DTSTAMP:20260420T201525
CREATED:20231206T171105Z
LAST-MODIFIED:20250205T162906Z
UID:10135666-1755165600-1755169200@laurel.lib.ms.us
SUMMARY:Storytime @ELL
DESCRIPTION:Join us every week for a story and a craft!
URL:https://laurel.lib.ms.us/event/storytime-epl-2/2025-08-14/
LOCATION:Ellisville Public Library\, 201 Poplar St\, Ellisville\, MS\, 39437\, United States
CATEGORIES:Ellisville Branch
ATTACH;FMTTYPE=image/png:https://laurel.lib.ms.us/wp-content/uploads/2023/02/Storytime.png
END:VEVENT
BEGIN:VEVENT
DTSTART;TZID=America/Chicago:20250814T120000
DTEND;TZID=America/Chicago:20250814T130000
DTSTAMP:20260420T201525
CREATED:20250702T181940Z
LAST-MODIFIED:20250702T181940Z
UID:10131607-1755172800-1755176400@laurel.lib.ms.us
SUMMARY:Bookworms Book Club @LAU
DESCRIPTION:Join us as we discuss this month’s book selection!
URL:https://laurel.lib.ms.us/event/book-worms-book-club-12pm-2-2/2025-08-14/
LOCATION:Laurel-Jones County Library\, 530 Commerce St\, Laurel\, MS\, 39440\, United States
CATEGORIES:Laurel Branch
ATTACH;FMTTYPE=image/png:https://laurel.lib.ms.us/wp-content/uploads/2023/02/Laurel-Bookclub.png
END:VEVENT
BEGIN:VEVENT
DTSTART;TZID=America/Chicago:20250814T173000
DTEND;TZID=America/Chicago:20250814T183000
DTSTAMP:20260420T201525
CREATED:20250509T204449Z
LAST-MODIFIED:20250509T204449Z
UID:10135260-1755192600-1755196200@laurel.lib.ms.us
SUMMARY:Books & Brew Book Club @ELL
DESCRIPTION:Join us with at the Ellisville Public Library as we discuss this month’s book selection!
URL:https://laurel.lib.ms.us/event/books-brew-book-club-2-2-2-3/2025-08-14/
LOCATION:Ellisville Public Library\, 201 Poplar St\, Ellisville\, MS\, 39437\, United States
CATEGORIES:Ellisville Branch
ATTACH;FMTTYPE=image/png:https://laurel.lib.ms.us/wp-content/uploads/2023/02/Ellisville-Book-Club.png
END:VEVENT
BEGIN:VEVENT
DTSTART;TZID=America/Chicago:20250814T173000
DTEND;TZID=America/Chicago:20250814T183000
DTSTAMP:20260420T201525
CREATED:20260420T142034Z
LAST-MODIFIED:20260420T142034Z
UID:10140854-1755192600-1755196200@laurel.lib.ms.us
SUMMARY:Graphic Novel Club @ELL
DESCRIPTION:Join us at the Ellisville Public Library as we discuss this month’s graphic novel selection! \nPlease note that this class is for adults (18+) only. It is not appropriate for younger readers.
URL:https://laurel.lib.ms.us/event/graphic-novel-club-ell/
LOCATION:Ellisville Public Library\, 201 Poplar St\, Ellisville\, MS\, 39437\, United States
CATEGORIES:Ellisville Branch
END:VEVENT
BEGIN:VEVENT
DTSTART;TZID=America/Chicago:20250819T090000
DTEND;TZID=America/Chicago:20250819T100000
DTSTAMP:20260420T201525
CREATED:20250703T135644Z
LAST-MODIFIED:20250703T135645Z
UID:10135579-1755594000-1755597600@laurel.lib.ms.us
SUMMARY:Baby + Me @LAU
DESCRIPTION:A program exploring books\, songs\, and fun activities designed for babies and toddlers
URL:https://laurel.lib.ms.us/event/baby-me-ljcl-2-2/2025-08-19/
LOCATION:Laurel-Jones County Library\, 530 Commerce St\, Laurel\, MS\, 39440\, United States
CATEGORIES:Laurel Branch
ATTACH;FMTTYPE=image/png:https://laurel.lib.ms.us/wp-content/uploads/2023/02/Baby-Me.png
END:VEVENT
BEGIN:VEVENT
DTSTART;TZID=America/Chicago:20250819T100000
DTEND;TZID=America/Chicago:20250819T110000
DTSTAMP:20260420T201525
CREATED:20231206T171508Z
LAST-MODIFIED:20260411T134634Z
UID:10137345-1755597600-1755601200@laurel.lib.ms.us
SUMMARY:Storytime @LAU
DESCRIPTION:Join us every week for a story and a craft!
URL:https://laurel.lib.ms.us/event/storytime-ljcl-2/2025-08-19/
LOCATION:Laurel-Jones County Library\, 530 Commerce St\, Laurel\, MS\, 39440\, United States
CATEGORIES:Laurel Branch
ATTACH;FMTTYPE=image/png:https://laurel.lib.ms.us/wp-content/uploads/2023/02/Storytime.png
END:VEVENT
BEGIN:VEVENT
DTSTART;TZID=America/Chicago:20250821T090000
DTEND;TZID=America/Chicago:20250821T100000
DTSTAMP:20260420T201525
CREATED:20231206T170135Z
LAST-MODIFIED:20250205T162916Z
UID:10135697-1755766800-1755770400@laurel.lib.ms.us
SUMMARY:Baby + Me @ELL
DESCRIPTION:A program exploring books\, songs\, and fun activities designed for babies and toddlers.
URL:https://laurel.lib.ms.us/event/baby-me-epl-2/2025-08-21/
LOCATION:Ellisville Public Library\, 201 Poplar St\, Ellisville\, MS\, 39437\, United States
CATEGORIES:Ellisville Branch
ATTACH;FMTTYPE=image/png:https://laurel.lib.ms.us/wp-content/uploads/2023/02/Baby-Me.png
END:VEVENT
BEGIN:VEVENT
DTSTART;TZID=America/Chicago:20250821T100000
DTEND;TZID=America/Chicago:20250821T110000
DTSTAMP:20260420T201525
CREATED:20231206T171105Z
LAST-MODIFIED:20250205T162906Z
UID:10135667-1755770400-1755774000@laurel.lib.ms.us
SUMMARY:Storytime @ELL
DESCRIPTION:Join us every week for a story and a craft!
URL:https://laurel.lib.ms.us/event/storytime-epl-2/2025-08-21/
LOCATION:Ellisville Public Library\, 201 Poplar St\, Ellisville\, MS\, 39437\, United States
CATEGORIES:Ellisville Branch
ATTACH;FMTTYPE=image/png:https://laurel.lib.ms.us/wp-content/uploads/2023/02/Storytime.png
END:VEVENT
BEGIN:VEVENT
DTSTART;TZID=America/Chicago:20250823T090000
DTEND;TZID=America/Chicago:20250823T110000
DTSTAMP:20260420T201525
CREATED:20250702T175707Z
LAST-MODIFIED:20250702T175707Z
UID:10137185-1755939600-1755946800@laurel.lib.ms.us
SUMMARY:Checkmates Chess Social & Cube Corner @LAU
DESCRIPTION:Come play chess and solve cubes with other chess & cubing enthusiasts at our combination chess and cubing group!
URL:https://laurel.lib.ms.us/event/checkmates-chess-social-cube-corner-lau/2025-08-23/
LOCATION:Laurel-Jones County Library\, 530 Commerce St\, Laurel\, MS\, 39440\, United States
CATEGORIES:Laurel Branch
END:VEVENT
BEGIN:VEVENT
DTSTART;TZID=America/Chicago:20250823T101500
DTEND;TZID=America/Chicago:20250823T130000
DTSTAMP:20260420T201525
CREATED:20250124T192338Z
LAST-MODIFIED:20250124T192338Z
UID:10132087-1755944100-1755954000@laurel.lib.ms.us
SUMMARY:JCGHO @LAU
DESCRIPTION:The Jones County Genealogical and Historical Organization (JCGHO) hosts a monthly meeting in the upstairs meeting room on the fourth Saturday of every month at 10:15 a.m.
URL:https://laurel.lib.ms.us/event/jcgho-ljcl-2/2025-08-23/
LOCATION:Laurel-Jones County Library\, 530 Commerce St\, Laurel\, MS\, 39440\, United States
CATEGORIES:Laurel Branch
ATTACH;FMTTYPE=image/png:https://laurel.lib.ms.us/wp-content/uploads/2023/02/JCGHO.png
END:VEVENT
BEGIN:VEVENT
DTSTART;TZID=America/Chicago:20250825T143000
DTEND;TZID=America/Chicago:20250825T153000
DTSTAMP:20260420T201525
CREATED:20250807T184617Z
LAST-MODIFIED:20250807T184618Z
UID:10137607-1756132200-1756135800@laurel.lib.ms.us
SUMMARY:Senior Circle @LAU
DESCRIPTION:Senior Circle will be a two-hour program for Seniors to experience:\n \n\nSocial Interaction\nInteractive Games\nThemed Events\nMemory Time\nGuest Speakers\nand more!
URL:https://laurel.lib.ms.us/event/senior-social-circle-3-2-2-3-2/
CATEGORIES:Laurel Branch
ATTACH;FMTTYPE=image/png:https://laurel.lib.ms.us/wp-content/uploads/2025/07/Header-Senior-Circle.png
END:VEVENT
BEGIN:VEVENT
DTSTART;TZID=America/Chicago:20250826T090000
DTEND;TZID=America/Chicago:20250826T100000
DTSTAMP:20260420T201525
CREATED:20250703T135644Z
LAST-MODIFIED:20250703T135645Z
UID:10135580-1756198800-1756202400@laurel.lib.ms.us
SUMMARY:Baby + Me @LAU
DESCRIPTION:A program exploring books\, songs\, and fun activities designed for babies and toddlers
URL:https://laurel.lib.ms.us/event/baby-me-ljcl-2-2/2025-08-26/
LOCATION:Laurel-Jones County Library\, 530 Commerce St\, Laurel\, MS\, 39440\, United States
CATEGORIES:Laurel Branch
ATTACH;FMTTYPE=image/png:https://laurel.lib.ms.us/wp-content/uploads/2023/02/Baby-Me.png
END:VEVENT
BEGIN:VEVENT
DTSTART;TZID=America/Chicago:20250826T100000
DTEND;TZID=America/Chicago:20250826T110000
DTSTAMP:20260420T201525
CREATED:20231206T171508Z
LAST-MODIFIED:20260411T134634Z
UID:10137346-1756202400-1756206000@laurel.lib.ms.us
SUMMARY:Storytime @LAU
DESCRIPTION:Join us every week for a story and a craft!
URL:https://laurel.lib.ms.us/event/storytime-ljcl-2/2025-08-26/
LOCATION:Laurel-Jones County Library\, 530 Commerce St\, Laurel\, MS\, 39440\, United States
CATEGORIES:Laurel Branch
ATTACH;FMTTYPE=image/png:https://laurel.lib.ms.us/wp-content/uploads/2023/02/Storytime.png
END:VEVENT
BEGIN:VEVENT
DTSTART;TZID=America/Chicago:20250827T100000
DTEND;TZID=America/Chicago:20250827T110000
DTSTAMP:20260420T201525
CREATED:20250807T191554Z
LAST-MODIFIED:20250813T131811Z
UID:10138174-1756288800-1756292400@laurel.lib.ms.us
SUMMARY:Tell Me About the South Mississippi Fair @LAU
DESCRIPTION:Come hear all about what’s going on at the Fair and How you can be a part! Exhibits\, contests\, entertainment\, rodeo\, and more!  
URL:https://laurel.lib.ms.us/event/tell-me-about-the-south-ms-fair-lau/
LOCATION:Laurel-Jones County Library\, 530 Commerce St\, Laurel\, MS\, 39440\, United States
CATEGORIES:Laurel Branch
END:VEVENT
BEGIN:VEVENT
DTSTART;TZID=America/Chicago:20250828T090000
DTEND;TZID=America/Chicago:20250828T100000
DTSTAMP:20260420T201525
CREATED:20231206T170135Z
LAST-MODIFIED:20250205T162916Z
UID:10135698-1756371600-1756375200@laurel.lib.ms.us
SUMMARY:Baby + Me @ELL
DESCRIPTION:A program exploring books\, songs\, and fun activities designed for babies and toddlers.
URL:https://laurel.lib.ms.us/event/baby-me-epl-2/2025-08-28/
LOCATION:Ellisville Public Library\, 201 Poplar St\, Ellisville\, MS\, 39437\, United States
CATEGORIES:Ellisville Branch
ATTACH;FMTTYPE=image/png:https://laurel.lib.ms.us/wp-content/uploads/2023/02/Baby-Me.png
END:VEVENT
BEGIN:VEVENT
DTSTART;TZID=America/Chicago:20250828T100000
DTEND;TZID=America/Chicago:20250828T110000
DTSTAMP:20260420T201525
CREATED:20231206T171105Z
LAST-MODIFIED:20250205T162906Z
UID:10135668-1756375200-1756378800@laurel.lib.ms.us
SUMMARY:Storytime @ELL
DESCRIPTION:Join us every week for a story and a craft!
URL:https://laurel.lib.ms.us/event/storytime-epl-2/2025-08-28/
LOCATION:Ellisville Public Library\, 201 Poplar St\, Ellisville\, MS\, 39437\, United States
CATEGORIES:Ellisville Branch
ATTACH;FMTTYPE=image/png:https://laurel.lib.ms.us/wp-content/uploads/2023/02/Storytime.png
END:VEVENT
BEGIN:VEVENT
DTSTART;TZID=America/Chicago:20250829T140000
DTEND;TZID=America/Chicago:20250829T150000
DTSTAMP:20260420T201525
CREATED:20250811T144026Z
LAST-MODIFIED:20250811T144552Z
UID:10138176-1756476000-1756479600@laurel.lib.ms.us
SUMMARY:Author Spotlight: Jason Markiewitz @LAU
DESCRIPTION:The Friends of the Laurel-Jones County Library will be hosting an Author Spotlight on Friday\, August 29 with Jason Markiewitz.  His book is Sarajevo Roses.\n\nJason Markiewitz has spent more than 27 years in the United States Air Force\, serving in South Korea\, Italy\, Afghanistan\, and the Balkans\, along with numerous stateside locations. During his assignment to Headquarters\, Allied Forces Southern Europe\, Naples\, Italy\, in 2002-2003\, he was forward deployed to the Balkans as part of a NATO contingent and it was that experience that shaped this book.  In addition to being an author\, he is an actor\, a voice actor\, an award-winning audiobook narrator\, and an audio drama producer.  He is married to his high school sweetheart and they share three wonderful children together.\n\nSarajevo Roses is a collection of poetry with accompanying photographs that takes a first-hand look at the after-effects of the second Kosovo war. Verse by verse the reader will be taken behind the scenes\, through the rubble\, and deep into the countryside to experience the devastation of the past\, the pain of the present\, and the hope for a better tomorrow.
URL:https://laurel.lib.ms.us/event/local-author-spotlight-jason-markiewitz-lau/
LOCATION:Laurel-Jones County Library\, 530 Commerce St\, Laurel\, MS\, 39440\, United States
CATEGORIES:Laurel Branch
ATTACH;FMTTYPE=image/png:https://laurel.lib.ms.us/wp-content/uploads/2023/10/Header-Author-Event.png
END:VEVENT
BEGIN:VEVENT
DTSTART;TZID=America/Chicago:20250829T180000
DTEND;TZID=America/Chicago:20250829T200000
DTSTAMP:20260420T201525
CREATED:20250731T163419Z
LAST-MODIFIED:20250731T163419Z
UID:10137613-1756490400-1756497600@laurel.lib.ms.us
SUMMARY:BINGO @LAU
DESCRIPTION:Play BINGO\, win prizes! 1 free card per person. Get an additional card with your library card! Concessions available.
URL:https://laurel.lib.ms.us/event/bingo-night-ljcl-3-2-2/2025-08-29/
LOCATION:Laurel-Jones County Library\, 530 Commerce St\, Laurel\, MS\, 39440\, United States
CATEGORIES:Laurel Branch
ATTACH;FMTTYPE=image/png:https://laurel.lib.ms.us/wp-content/uploads/2025/07/Header-Bingo.png
END:VEVENT
END:VCALENDAR