BEGIN:VCALENDAR
VERSION:2.0
PRODID:-//Laurel Library - ECPv6.15.20//NONSGML v1.0//EN
CALSCALE:GREGORIAN
METHOD:PUBLISH
X-WR-CALNAME:Laurel Library
X-ORIGINAL-URL:https://laurel.lib.ms.us
X-WR-CALDESC:Events for Laurel Library
REFRESH-INTERVAL;VALUE=DURATION:PT1H
X-Robots-Tag:noindex
X-PUBLISHED-TTL:PT1H
BEGIN:VTIMEZONE
TZID:America/Chicago
BEGIN:DAYLIGHT
TZOFFSETFROM:-0600
TZOFFSETTO:-0500
TZNAME:CDT
DTSTART:20220313T080000
END:DAYLIGHT
BEGIN:STANDARD
TZOFFSETFROM:-0500
TZOFFSETTO:-0600
TZNAME:CST
DTSTART:20221106T070000
END:STANDARD
BEGIN:DAYLIGHT
TZOFFSETFROM:-0600
TZOFFSETTO:-0500
TZNAME:CDT
DTSTART:20230312T080000
END:DAYLIGHT
BEGIN:STANDARD
TZOFFSETFROM:-0500
TZOFFSETTO:-0600
TZNAME:CST
DTSTART:20231105T070000
END:STANDARD
BEGIN:DAYLIGHT
TZOFFSETFROM:-0600
TZOFFSETTO:-0500
TZNAME:CDT
DTSTART:20240310T080000
END:DAYLIGHT
BEGIN:STANDARD
TZOFFSETFROM:-0500
TZOFFSETTO:-0600
TZNAME:CST
DTSTART:20241103T070000
END:STANDARD
END:VTIMEZONE
BEGIN:VEVENT
DTSTART;TZID=America/Chicago:20230603T100000
DTEND;TZID=America/Chicago:20230603T120000
DTSTAMP:20260421T212449
CREATED:20230317T152518Z
LAST-MODIFIED:20250523T131710Z
UID:10132607-1685786400-1685793600@laurel.lib.ms.us
SUMMARY:Get Crafty: Friendship Bracelets (Ticketed) @LAU
DESCRIPTION:Now on a new day! Learn to make a braided bracelet at the library’s Get Crafty craft class!  \nTickets on sale now! They can be bought at either library location or on our Eventbrite. \n  \nChildren under 14 must have an adult present at all times.
URL:https://laurel.lib.ms.us/event/get-crafty-cross-stitch-ticketed-ljcl-4-2/
LOCATION:Laurel-Jones County Library\, 530 Commerce St\, Laurel\, MS\, 39440\, United States
CATEGORIES:Laurel Branch
END:VEVENT
BEGIN:VEVENT
DTSTART;TZID=America/Chicago:20230606T170000
DTEND;TZID=America/Chicago:20230606T200000
DTSTAMP:20260421T212449
CREATED:20230509T163521Z
LAST-MODIFIED:20250523T132745Z
UID:10134023-1686070800-1686081600@laurel.lib.ms.us
SUMMARY:McAlister's Fundraiser
DESCRIPTION:Eat at McAlister’s Deli today between 5pm and 8 pm and a portion of the cost your meal will be donated to the library!
URL:https://laurel.lib.ms.us/event/mcalisters-fundraiser/
LOCATION:McAlister’s Deli\, 1106 Sawmill Rd\, Laurel\, MS\, 39440\, United States
CATEGORIES:General
END:VEVENT
BEGIN:VEVENT
DTSTART;TZID=America/Chicago:20230610T100000
DTEND;TZID=America/Chicago:20230610T120000
DTSTAMP:20260421T212449
CREATED:20230317T152600Z
LAST-MODIFIED:20250205T162230Z
UID:10133314-1686391200-1686398400@laurel.lib.ms.us
SUMMARY:Get Crafty: Friendship Bracelets (Ticketed) @ELL
DESCRIPTION:Now on a new day! Learn to make a braided bracelet at the library’s Get Crafty craft class!\n \nTickets on sale now! They can be bought at either library location or on our Eventbrite. \n  \nChildren under 14 must have an adult present at all times.
URL:https://laurel.lib.ms.us/event/get-crafty-cross-stitch-ticketed-epl-4-2/
LOCATION:Ellisville Public Library\, 201 Poplar St\, Ellisville\, MS\, 39437\, United States
CATEGORIES:Ellisville Branch
END:VEVENT
BEGIN:VEVENT
DTSTART;TZID=America/Chicago:20230614T093000
DTEND;TZID=America/Chicago:20230614T113000
DTSTAMP:20260421T212449
CREATED:20230417T184051Z
LAST-MODIFIED:20250523T132043Z
UID:10133973-1686735000-1686742200@laurel.lib.ms.us
SUMMARY:Sewing Class: Aprons (Ticketed) @LAU
DESCRIPTION:Learn to sew your own apron! Tickets available at the library or on the library’s Eventbrite now!
URL:https://laurel.lib.ms.us/event/sewing-class-aprons-ticketed-ljcl/
LOCATION:Laurel-Jones County Library\, 530 Commerce St\, Laurel\, MS\, 39440\, United States
CATEGORIES:Laurel Branch
END:VEVENT
BEGIN:VEVENT
DTSTART;TZID=America/Chicago:20230621T100000
DTEND;TZID=America/Chicago:20230621T120000
DTSTAMP:20260421T212449
CREATED:20230509T163042Z
LAST-MODIFIED:20250523T132109Z
UID:10134022-1687341600-1687348800@laurel.lib.ms.us
SUMMARY:Senior BINGO @LAU
DESCRIPTION:For ages 60 and up. \nBingo cards are $.50 each. Limit 6 cards. \nShow your library card and get a free card.
URL:https://laurel.lib.ms.us/event/senior-bingo-lau/
LOCATION:Laurel-Jones County Library\, 530 Commerce St\, Laurel\, MS\, 39440\, United States
CATEGORIES:Laurel Branch
END:VEVENT
END:VCALENDAR