BEGIN:VCALENDAR
VERSION:2.0
PRODID:-//Laurel Library - ECPv6.15.20//NONSGML v1.0//EN
CALSCALE:GREGORIAN
METHOD:PUBLISH
X-ORIGINAL-URL:https://laurel.lib.ms.us
X-WR-CALDESC:Events for Laurel Library
REFRESH-INTERVAL;VALUE=DURATION:PT1H
X-Robots-Tag:noindex
X-PUBLISHED-TTL:PT1H
BEGIN:VTIMEZONE
TZID:America/Chicago
BEGIN:DAYLIGHT
TZOFFSETFROM:-0600
TZOFFSETTO:-0500
TZNAME:CDT
DTSTART:20220313T080000
END:DAYLIGHT
BEGIN:STANDARD
TZOFFSETFROM:-0500
TZOFFSETTO:-0600
TZNAME:CST
DTSTART:20221106T070000
END:STANDARD
BEGIN:DAYLIGHT
TZOFFSETFROM:-0600
TZOFFSETTO:-0500
TZNAME:CDT
DTSTART:20230312T080000
END:DAYLIGHT
BEGIN:STANDARD
TZOFFSETFROM:-0500
TZOFFSETTO:-0600
TZNAME:CST
DTSTART:20231105T070000
END:STANDARD
BEGIN:DAYLIGHT
TZOFFSETFROM:-0600
TZOFFSETTO:-0500
TZNAME:CDT
DTSTART:20240310T080000
END:DAYLIGHT
BEGIN:STANDARD
TZOFFSETFROM:-0500
TZOFFSETTO:-0600
TZNAME:CST
DTSTART:20241103T070000
END:STANDARD
END:VTIMEZONE
BEGIN:VEVENT
DTSTART;TZID=America/Chicago:20230304T183000
DTEND;TZID=America/Chicago:20230304T203000
DTSTAMP:20260422T020328
CREATED:20230127T162403Z
LAST-MODIFIED:20250523T131531Z
UID:10132723-1677954600-1677961800@laurel.lib.ms.us
SUMMARY:Murder at Mardi Gras Dessert Party (Ticketed) @LJCL
DESCRIPTION:Enjoy desserts and a game of “Murder at Mardi Gras” in the library! Tickets available now on Eventbrite!
URL:https://laurel.lib.ms.us/event/murder-at-mardi-gras-dessert-party-ticketed-ljcl/
LOCATION:Laurel-Jones County Library\, 530 Commerce St\, Laurel\, MS\, 39440\, United States
CATEGORIES:Laurel Branch
END:VEVENT
BEGIN:VEVENT
DTSTART;TZID=America/Chicago:20230320T090000
DTEND;TZID=America/Chicago:20230320T110000
DTSTAMP:20260422T020328
CREATED:20230214T193140Z
LAST-MODIFIED:20250523T132843Z
UID:10133051-1679302800-1679310000@laurel.lib.ms.us
SUMMARY:Sewing Class: Table Runner (Ticketed) @LJCL
DESCRIPTION:Would you like to learn to sew? Join us on Monday\, March 20\, 9-11 am at the Laurel Library for a fun introduction to sewing. We will be showing you how to do a simple table runner. Previous sewing experience is NOT required\, and we will provide all the supplies you will need. Tickets on sale now on our Eventbrite.
URL:https://laurel.lib.ms.us/event/sewing-class-table-runner-ticketed-ljcl/
LOCATION:Laurel-Jones County Library\, 530 Commerce St\, Laurel\, MS\, 39440\, United States
CATEGORIES:Laurel Branch
END:VEVENT
BEGIN:VEVENT
DTSTART;TZID=America/Chicago:20230322T100000
DTEND;TZID=America/Chicago:20230322T120000
DTSTAMP:20260422T020328
CREATED:20230213T211911Z
LAST-MODIFIED:20250523T132857Z
UID:10132604-1679479200-1679486400@laurel.lib.ms.us
SUMMARY:Get Crafty: Hand-Sewn Toy (Ticketed) @LJCL
DESCRIPTION:Learn how to make a simple hand-sewn plush toy with a simple pattern and customizable ears! If you have a special fabric (old shirt\, bed sheet\, anything) you would like to use\, bring it! Tickets on sale now on our Eventbrite!
URL:https://laurel.lib.ms.us/event/get-crafty-cross-stitch-ticketed-ljcl-3/
LOCATION:Laurel-Jones County Library\, 530 Commerce St\, Laurel\, MS\, 39440\, United States
CATEGORIES:Laurel Branch
END:VEVENT
BEGIN:VEVENT
DTSTART;TZID=America/Chicago:20230322T130000
DTEND;TZID=America/Chicago:20230322T150000
DTSTAMP:20260422T020328
CREATED:20230213T212314Z
LAST-MODIFIED:20250205T162203Z
UID:10132663-1679490000-1679497200@laurel.lib.ms.us
SUMMARY:Get Crafty: Hand-Sewn Toy (Ticketed) @EPL
DESCRIPTION:Learn how to make a simple hand-sewn plush toy with a simple pattern and customizable ears! If you have a special fabric (old shirt\, bed sheet\, anything) you would like to use\, bring it! Get your ticket now on our Eventbrite!
URL:https://laurel.lib.ms.us/event/get-crafty-cross-stitch-ticketed-epl-3/
LOCATION:Ellisville Public Library\, 201 Poplar St\, Ellisville\, MS\, 39437\, United States
CATEGORIES:Ellisville Branch
END:VEVENT
BEGIN:VEVENT
DTSTART;TZID=America/Chicago:20230325T103000
DTEND;TZID=America/Chicago:20230325T123000
DTSTAMP:20260422T020328
CREATED:20230214T192942Z
LAST-MODIFIED:20250523T132901Z
UID:10133050-1679740200-1679747400@laurel.lib.ms.us
SUMMARY:How to Publish with Amazon Kindle Direct Publishing Workshop (Ticketed) @LJCL
DESCRIPTION:Pamela has used Amazon Kindle Direct Publishing to self-publish five books. It can be daunting when first learning how to maneuver through the KDP/AMAZON website and its templates. Pamela wants to show those interested in publishing how to use this free resource\, discuss the pros and cons\, provide tips on how to get started\, discuss copyright issues\, formatting options\, and cover design choices. The focus will be on print options rather than e-books. Tickets on sale on our Eventbrite now.
URL:https://laurel.lib.ms.us/event/publishing-class-ticketed-ljcl/
LOCATION:Laurel-Jones County Library\, 530 Commerce St\, Laurel\, MS\, 39440\, United States
CATEGORIES:Laurel Branch
END:VEVENT
END:VCALENDAR