BEGIN:VCALENDAR
VERSION:2.0
PRODID:-//Laurel Library - ECPv6.15.20//NONSGML v1.0//EN
CALSCALE:GREGORIAN
METHOD:PUBLISH
X-WR-CALNAME:Laurel Library
X-ORIGINAL-URL:https://laurel.lib.ms.us
X-WR-CALDESC:Events for Laurel Library
REFRESH-INTERVAL;VALUE=DURATION:PT1H
X-Robots-Tag:noindex
X-PUBLISHED-TTL:PT1H
BEGIN:VTIMEZONE
TZID:America/Chicago
BEGIN:DAYLIGHT
TZOFFSETFROM:-0600
TZOFFSETTO:-0500
TZNAME:CDT
DTSTART:20250309T080000
END:DAYLIGHT
BEGIN:STANDARD
TZOFFSETFROM:-0500
TZOFFSETTO:-0600
TZNAME:CST
DTSTART:20251102T070000
END:STANDARD
BEGIN:DAYLIGHT
TZOFFSETFROM:-0600
TZOFFSETTO:-0500
TZNAME:CDT
DTSTART:20260308T080000
END:DAYLIGHT
BEGIN:STANDARD
TZOFFSETFROM:-0500
TZOFFSETTO:-0600
TZNAME:CST
DTSTART:20261101T070000
END:STANDARD
BEGIN:DAYLIGHT
TZOFFSETFROM:-0600
TZOFFSETTO:-0500
TZNAME:CDT
DTSTART:20270314T080000
END:DAYLIGHT
BEGIN:STANDARD
TZOFFSETFROM:-0500
TZOFFSETTO:-0600
TZNAME:CST
DTSTART:20271107T070000
END:STANDARD
END:VTIMEZONE
BEGIN:VEVENT
DTSTART;TZID=America/Chicago:20260303T090000
DTEND;TZID=America/Chicago:20260303T110000
DTSTAMP:20260421T200608
CREATED:20251219T190449Z
LAST-MODIFIED:20251219T190449Z
UID:10139623-1772528400-1772535600@laurel.lib.ms.us
SUMMARY:Salvation Army at the Library @LAU
DESCRIPTION:Need some extra help with utilities or rent?  Having trouble navigating the health system or signing up for assistance?  Need to find shelter?  Come meet a case manager right here in the library and find out what help is available to you!\n\n\nFood Pantry resources\n\n\nHelp signing up for a food card\n\n\nRent and utility assistance\n\n\nClothing vouchers\n\n\nSheter intake and information\n\n\nHomeless services\n\n\nHelp with apartment applications.
URL:https://laurel.lib.ms.us/event/salvation-army-at-the-library-lau/2026-03-03/
LOCATION:Laurel-Jones County Library\, 530 Commerce St\, Laurel\, MS\, 39440\, United States
CATEGORIES:Laurel Branch
END:VEVENT
BEGIN:VEVENT
DTSTART;TZID=America/Chicago:20260304T091500
DTEND;TZID=America/Chicago:20260304T111500
DTSTAMP:20260421T200608
CREATED:20260219T192319Z
LAST-MODIFIED:20260406T160332Z
UID:10140598-1772615700-1772622900@laurel.lib.ms.us
SUMMARY:Computer Q & A @LAU
DESCRIPTION:Come join us for a question-and-answer session about anything computer and internet-related\, including laptops\, smartphones\, Apple\, Android\, Windows\, Google\, and more!
URL:https://laurel.lib.ms.us/event/computer-q-a-lau/2026-03-04/
LOCATION:Laurel-Jones County Library\, 530 Commerce St\, Laurel\, MS\, 39440\, United States
CATEGORIES:Laurel Branch
ATTACH;FMTTYPE=image/png:https://laurel.lib.ms.us/wp-content/uploads/2026/02/Website-Header-Computer-Classes.png
END:VEVENT
BEGIN:VEVENT
DTSTART;TZID=America/Chicago:20260310T090000
DTEND;TZID=America/Chicago:20260310T100000
DTSTAMP:20260421T200608
CREATED:20260115T163901Z
LAST-MODIFIED:20260115T164250Z
UID:10140162-1773133200-1773136800@laurel.lib.ms.us
SUMMARY:Any Time is 3Ts Time
DESCRIPTION:Parents and caregivers of children ages 0-5\, come learn how you can build your child’s brain through everyday moments. \n\nDiscover how simple talk and play can boost your child’s brainpower.\nMeet and connect with other parents and caregivers in your community.\nTake home free resources to use with your child.\nEnjoy snacks\, giveaways\, and more!\n\n  \nFind a session near you! \nLaurel-Jones County Library \n530 Commerce Street \nLaurel\, MS 39440 \nSession 1: January 27th @ 9:00 AM \nSession 2: February 10th @ 9:00 AM \nSession 3: February 24th @ 9:00 AM \nSession 4: March 10th @ 9:00 AM \nJames Townley Center \n516 S. 13th Ave \nLaurel\, MS 39440 \nSession 1: January 27th @ 11:00 AM \nSession 2: February 10th @ 11:00 AM \nSession 3: February 24th @ 11:00 AM \nSession 4: March 10th @ 11:00 AM \n  \nFor more information\, email Kayla Denton at kndenton@olemiss.edu
URL:https://laurel.lib.ms.us/event/any-time-is-3ts-time/2026-03-10/
LOCATION:Laurel-Jones County Library\, 530 Commerce St\, Laurel\, MS\, 39440\, United States
CATEGORIES:Laurel Branch
END:VEVENT
BEGIN:VEVENT
DTSTART;TZID=America/Chicago:20260310T090000
DTEND;TZID=America/Chicago:20260310T110000
DTSTAMP:20260421T200608
CREATED:20251219T190449Z
LAST-MODIFIED:20251219T190449Z
UID:10139624-1773133200-1773140400@laurel.lib.ms.us
SUMMARY:Salvation Army at the Library @LAU
DESCRIPTION:Need some extra help with utilities or rent?  Having trouble navigating the health system or signing up for assistance?  Need to find shelter?  Come meet a case manager right here in the library and find out what help is available to you!\n\n\nFood Pantry resources\n\n\nHelp signing up for a food card\n\n\nRent and utility assistance\n\n\nClothing vouchers\n\n\nSheter intake and information\n\n\nHomeless services\n\n\nHelp with apartment applications.
URL:https://laurel.lib.ms.us/event/salvation-army-at-the-library-lau/2026-03-10/
LOCATION:Laurel-Jones County Library\, 530 Commerce St\, Laurel\, MS\, 39440\, United States
CATEGORIES:Laurel Branch
END:VEVENT
BEGIN:VEVENT
DTSTART;TZID=America/Chicago:20260310T160000
DTEND;TZID=America/Chicago:20260310T170000
DTSTAMP:20260421T200608
CREATED:20251212T204607Z
LAST-MODIFIED:20251212T220715Z
UID:10139438-1773158400-1773162000@laurel.lib.ms.us
SUMMARY:Pokémon Trainers Club @LAU
DESCRIPTION:Join us on the 2nd & 4th Tuesday of every month to hang out with other Pokémon fanatics of all ages (Yes\, adults. You\, too!)! Show off your cards\, physical or on the app! Battle against each other in Scarlet (or Violet)! Fight over which team will reign supreme in the Jones County War Memorial gym next door! Rep your favorite Pokémon with your merch collection! Discuss the newest episode of the anime! Read the old manga! A parent or adult guardian must accompany trainers under the age of 14.
URL:https://laurel.lib.ms.us/event/pokemon-trainers-club-lau/2026-03-10/
LOCATION:Laurel-Jones County Library\, 530 Commerce St\, Laurel\, MS\, 39440\, United States
CATEGORIES:Laurel Branch
ATTACH;FMTTYPE=image/png:https://laurel.lib.ms.us/wp-content/uploads/2025/07/Header-Pokemon-Trainers-Club.png
END:VEVENT
BEGIN:VEVENT
DTSTART;TZID=America/Chicago:20260310T180000
DTEND;TZID=America/Chicago:20260310T190000
DTSTAMP:20260421T200608
CREATED:20250807T183852Z
LAST-MODIFIED:20250807T183852Z
UID:10132454-1773165600-1773169200@laurel.lib.ms.us
SUMMARY:LEGO® Club @LAU
DESCRIPTION:Join us each month to to complete a LEGO® challenge!
URL:https://laurel.lib.ms.us/event/lego-club-3/2026-03-10/
LOCATION:Laurel-Jones County Library\, 530 Commerce St\, Laurel\, MS\, 39440\, United States
CATEGORIES:Laurel Branch
ATTACH;FMTTYPE=image/png:https://laurel.lib.ms.us/wp-content/uploads/2023/02/LEGO-Club.png
END:VEVENT
BEGIN:VEVENT
DTSTART;TZID=America/Chicago:20260311T091500
DTEND;TZID=America/Chicago:20260311T111500
DTSTAMP:20260421T200609
CREATED:20260219T192436Z
LAST-MODIFIED:20260406T160303Z
UID:10140604-1773220500-1773227700@laurel.lib.ms.us
SUMMARY:Computer 101 @LAU
DESCRIPTION:Learn the very basics of computers: terms\, parts\, cut\, paste\, and more!
URL:https://laurel.lib.ms.us/event/computer-101-lau/2026-03-11/
LOCATION:Laurel-Jones County Library\, 530 Commerce St\, Laurel\, MS\, 39440\, United States
CATEGORIES:Laurel Branch
ATTACH;FMTTYPE=image/png:https://laurel.lib.ms.us/wp-content/uploads/2026/02/Website-Header-Computer-Classes.png
END:VEVENT
BEGIN:VEVENT
DTSTART;TZID=America/Chicago:20260312T120000
DTEND;TZID=America/Chicago:20260312T130000
DTSTAMP:20260421T200609
CREATED:20250702T181940Z
LAST-MODIFIED:20250702T181940Z
UID:10131614-1773316800-1773320400@laurel.lib.ms.us
SUMMARY:Bookworms Book Club @LAU
DESCRIPTION:Join us as we discuss this month’s book selection!
URL:https://laurel.lib.ms.us/event/book-worms-book-club-12pm-2-2/2026-03-12/
LOCATION:Laurel-Jones County Library\, 530 Commerce St\, Laurel\, MS\, 39440\, United States
CATEGORIES:Laurel Branch
ATTACH;FMTTYPE=image/png:https://laurel.lib.ms.us/wp-content/uploads/2023/02/Laurel-Bookclub.png
END:VEVENT
BEGIN:VEVENT
DTSTART;TZID=America/Chicago:20260312T173000
DTEND;TZID=America/Chicago:20260312T183000
DTSTAMP:20260421T200609
CREATED:20250509T204449Z
LAST-MODIFIED:20250509T204449Z
UID:10135267-1773336600-1773340200@laurel.lib.ms.us
SUMMARY:Books & Brew Book Club @ELL
DESCRIPTION:Join us with at the Ellisville Public Library as we discuss this month’s book selection!
URL:https://laurel.lib.ms.us/event/books-brew-book-club-2-2-2-3/2026-03-12/
LOCATION:Ellisville Public Library\, 201 Poplar St\, Ellisville\, MS\, 39437\, United States
CATEGORIES:Ellisville Branch
ATTACH;FMTTYPE=image/png:https://laurel.lib.ms.us/wp-content/uploads/2023/02/Ellisville-Book-Club.png
END:VEVENT
BEGIN:VEVENT
DTSTART;TZID=America/Chicago:20260312T173000
DTEND;TZID=America/Chicago:20260312T183000
DTSTAMP:20260421T200609
CREATED:20260420T142034Z
LAST-MODIFIED:20260420T142034Z
UID:10140861-1773336600-1773340200@laurel.lib.ms.us
SUMMARY:Graphic Novel Club @ELL
DESCRIPTION:Join us at the Ellisville Public Library as we discuss this month’s graphic novel selection! \nPlease note that this class is for adults (18+) only. It is not appropriate for younger readers.
URL:https://laurel.lib.ms.us/event/graphic-novel-club-ell/
LOCATION:Ellisville Public Library\, 201 Poplar St\, Ellisville\, MS\, 39437\, United States
CATEGORIES:Ellisville Branch
END:VEVENT
BEGIN:VEVENT
DTSTART;TZID=America/Chicago:20260314T090000
DTEND;TZID=America/Chicago:20260314T100000
DTSTAMP:20260421T200609
CREATED:20250722T151739Z
LAST-MODIFIED:20250722T153930Z
UID:10137879-1773478800-1773482400@laurel.lib.ms.us
SUMMARY:Pokémon Go Walking Club @LAU
DESCRIPTION:Play Pokémon Go downtown with other Pokémon trainers of all ages (This still includes you\, adults.)! We’ll meet at the library and walk together downtown\, following routes and stopping for raids. Make sure you wear comfortable\, weather-appropriate clothing and sunscreen. Don’t forget your water bottle and your phone! In case of unfavorable weather (too hot\, too cold\, too rainy\, etc.)\, we will stay at the library to battle\, trade\, and fight over the gym next door. \nA parent or adult guardian must accompany trainers under the age of 14.
URL:https://laurel.lib.ms.us/event/pokemon-go-walking-club/2026-03-14/
LOCATION:Laurel-Jones County Library\, 530 Commerce St\, Laurel\, MS\, 39440\, United States
CATEGORIES:Laurel Branch
ATTACH;FMTTYPE=image/png:https://laurel.lib.ms.us/wp-content/uploads/2025/07/Header-Pokemon-Go-Walking-Club.png
END:VEVENT
BEGIN:VEVENT
DTSTART;TZID=America/Chicago:20260314T090000
DTEND;TZID=America/Chicago:20260314T110000
DTSTAMP:20260421T200609
CREATED:20250731T161850Z
LAST-MODIFIED:20250731T161850Z
UID:10135806-1773478800-1773486000@laurel.lib.ms.us
SUMMARY:Checkmates Chess Social & Cube Corner @LAU
DESCRIPTION:Come play chess and solve cubes with other chess & cubing enthusiasts at our combination chess and cubing group!
URL:https://laurel.lib.ms.us/event/chess-hours-lau-2-2/2026-03-14/
LOCATION:Laurel-Jones County Library\, 530 Commerce St\, Laurel\, MS\, 39440\, United States
CATEGORIES:Laurel Branch
ATTACH;FMTTYPE=image/png:https://laurel.lib.ms.us/wp-content/uploads/2025/05/Header-Checkmates-Cube-Corner.png
END:VEVENT
BEGIN:VEVENT
DTSTART;TZID=America/Chicago:20260317T090000
DTEND;TZID=America/Chicago:20260317T110000
DTSTAMP:20260421T200609
CREATED:20251219T190449Z
LAST-MODIFIED:20251219T190449Z
UID:10139625-1773738000-1773745200@laurel.lib.ms.us
SUMMARY:Salvation Army at the Library @LAU
DESCRIPTION:Need some extra help with utilities or rent?  Having trouble navigating the health system or signing up for assistance?  Need to find shelter?  Come meet a case manager right here in the library and find out what help is available to you!\n\n\nFood Pantry resources\n\n\nHelp signing up for a food card\n\n\nRent and utility assistance\n\n\nClothing vouchers\n\n\nSheter intake and information\n\n\nHomeless services\n\n\nHelp with apartment applications.
URL:https://laurel.lib.ms.us/event/salvation-army-at-the-library-lau/2026-03-17/
LOCATION:Laurel-Jones County Library\, 530 Commerce St\, Laurel\, MS\, 39440\, United States
CATEGORIES:Laurel Branch
END:VEVENT
BEGIN:VEVENT
DTSTART;TZID=America/Chicago:20260317T140000
DTEND;TZID=America/Chicago:20260317T150000
DTSTAMP:20260421T200609
CREATED:20260203T213243Z
LAST-MODIFIED:20260203T213318Z
UID:10138457-1773756000-1773759600@laurel.lib.ms.us
SUMMARY:Discovering AI : A Hands-on Workshop for Seniors @LAU
DESCRIPTION:Presented by Greg Butler \nLearning Modules: \n\nUnderstand what AI is in simple terms\nLearn safe AI practices\nUse AI for lists\, planning\, and reminders\n… and more\n\n$5.00 per session or buy 4 receive 4 free. \nRegistration required. You can register in-person at the library or you can click here to register online. \nCertificate of Completion for each course.
URL:https://laurel.lib.ms.us/event/a-i-for-seniors-lau-2/2026-03-17/
LOCATION:Laurel-Jones County Library\, 530 Commerce St\, Laurel\, MS\, 39440\, United States
CATEGORIES:Laurel Branch
END:VEVENT
BEGIN:VEVENT
DTSTART;TZID=America/Chicago:20260318T091500
DTEND;TZID=America/Chicago:20260318T091500
DTSTAMP:20260421T200609
CREATED:20260219T192533Z
LAST-MODIFIED:20260406T160315Z
UID:10140610-1773825300-1773825300@laurel.lib.ms.us
SUMMARY:Email 101 @LAU
DESCRIPTION:Learn how to set up an email account\, manage emails\, downloads\, safety\, and more!
URL:https://laurel.lib.ms.us/event/email101-lau/2026-03-18/
LOCATION:Laurel-Jones County Library\, 530 Commerce St\, Laurel\, MS\, 39440\, United States
CATEGORIES:Laurel Branch
ATTACH;FMTTYPE=image/png:https://laurel.lib.ms.us/wp-content/uploads/2026/02/Website-Header-Computer-Classes.png
END:VEVENT
BEGIN:VEVENT
DTSTART;TZID=America/Chicago:20260318T100000
DTEND;TZID=America/Chicago:20260318T120000
DTSTAMP:20260421T200609
CREATED:20260206T145721Z
LAST-MODIFIED:20260206T145721Z
UID:10140521-1773828000-1773835200@laurel.lib.ms.us
SUMMARY:Master Gardener Moment @LAU
DESCRIPTION:
URL:https://laurel.lib.ms.us/event/master-gardener-moment-lau/
LOCATION:Laurel-Jones County Library\, 530 Commerce St\, Laurel\, MS\, 39440\, United States
CATEGORIES:Laurel Branch
END:VEVENT
BEGIN:VEVENT
DTSTART;TZID=America/Chicago:20260319T143000
DTEND;TZID=America/Chicago:20260319T163000
DTSTAMP:20260421T200609
CREATED:20251208T142636Z
LAST-MODIFIED:20251208T142636Z
UID:10138314-1773930600-1773937800@laurel.lib.ms.us
SUMMARY:LEGO® Club @ELL
DESCRIPTION:Join us each month to to complete a LEGO® challenge!
URL:https://laurel.lib.ms.us/event/lego-club-ell-3/2026-03-19/
LOCATION:Ellisville Public Library\, 201 Poplar St\, Ellisville\, MS\, 39437\, United States
CATEGORIES:Ellisville Branch
ATTACH;FMTTYPE=image/png:https://laurel.lib.ms.us/wp-content/uploads/2023/02/LEGO-Club.png
END:VEVENT
BEGIN:VEVENT
DTSTART;TZID=America/Chicago:20260320T133000
DTEND;TZID=America/Chicago:20260320T150000
DTSTAMP:20260421T200609
CREATED:20260206T145915Z
LAST-MODIFIED:20260206T145915Z
UID:10140522-1774013400-1774018800@laurel.lib.ms.us
SUMMARY:Movie Time @LAU
DESCRIPTION:Come watch a free movie at the Laurel-Jones County Library. Bring your own snacks!
URL:https://laurel.lib.ms.us/event/movie-time-lau-2/
LOCATION:Laurel-Jones County Library\, 530 Commerce St\, Laurel\, MS\, 39440\, United States
CATEGORIES:Laurel Branch
END:VEVENT
BEGIN:VEVENT
DTSTART;TZID=America/Chicago:20260321T090000
DTEND;TZID=America/Chicago:20260321T110000
DTSTAMP:20260421T200609
CREATED:20260130T182954Z
LAST-MODIFIED:20260130T182954Z
UID:10140390-1774083600-1774090800@laurel.lib.ms.us
SUMMARY:Ellisville Chess Club @ELL
DESCRIPTION:Come play chess with other chess enthusiasts at our chess group! Open to all ages and skill levels!
URL:https://laurel.lib.ms.us/event/ellisville-chess-club-ell/2026-03-21/
LOCATION:Ellisville Public Library\, 201 Poplar St\, Ellisville\, MS\, 39437\, United States
CATEGORIES:Ellisville Branch
END:VEVENT
BEGIN:VEVENT
DTSTART;TZID=America/Chicago:20260323T143000
DTEND;TZID=America/Chicago:20260323T153000
DTSTAMP:20260421T200609
CREATED:20250827T135327Z
LAST-MODIFIED:20250827T135348Z
UID:10136579-1774276200-1774279800@laurel.lib.ms.us
SUMMARY:Senior Circle @LAU
DESCRIPTION:Senior Circle is program for Seniors to experience:\n \n\nSocial Interaction\nInteractive Games\nThemed Events\nMemory Time\nGuest Speakers\nand more!\n\nThis month’s theme is March Madness Games\, Prizes\, and Fun.
URL:https://laurel.lib.ms.us/event/senior-circle-lau-7/
CATEGORIES:Laurel Branch
ATTACH;FMTTYPE=image/png:https://laurel.lib.ms.us/wp-content/uploads/2025/07/Header-Senior-Circle.png
END:VEVENT
BEGIN:VEVENT
DTSTART;TZID=America/Chicago:20260323T160000
DTEND;TZID=America/Chicago:20260323T180000
DTSTAMP:20260421T200609
CREATED:20260325T130550Z
LAST-MODIFIED:20260325T130551Z
UID:10138253-1774281600-1774288800@laurel.lib.ms.us
SUMMARY:Sensory Time @LAU
DESCRIPTION:Looking for a sensory-friendly\, inclusive library experience? Join us for a program specially created for individuals with special needs\, along with their families and caregivers. \nWhat to Expect: \n\nStories\nHands-on sensory activities\nA calm\, low-distraction environment\nAccess to a designated Chill Zone\n\nWe welcome individuals of all ages and abilities and strive to create a warm\, supportive space for everyone. \n  \n Please Note: \nThis is a special event for individuals with special needs and their caregivers. \nThis is not a drop-off event—parents or caregivers must remain in the library at all times. \nCome explore the world with us—just in a different way!  \n  \nWe want all our patrons to feel welcome. If you need special accommodations\, please contact Karyn Walsh at 601-428-4313.
URL:https://laurel.lib.ms.us/event/sensory-day-lau-5-3/2026-03-23/
LOCATION:Laurel-Jones County Library\, 530 Commerce St\, Laurel\, MS\, 39440\, United States
CATEGORIES:Laurel Branch
END:VEVENT
BEGIN:VEVENT
DTSTART;TZID=America/Chicago:20260324T090000
DTEND;TZID=America/Chicago:20260324T110000
DTSTAMP:20260421T200609
CREATED:20251219T190449Z
LAST-MODIFIED:20251219T190449Z
UID:10139626-1774342800-1774350000@laurel.lib.ms.us
SUMMARY:Salvation Army at the Library @LAU
DESCRIPTION:Need some extra help with utilities or rent?  Having trouble navigating the health system or signing up for assistance?  Need to find shelter?  Come meet a case manager right here in the library and find out what help is available to you!\n\n\nFood Pantry resources\n\n\nHelp signing up for a food card\n\n\nRent and utility assistance\n\n\nClothing vouchers\n\n\nSheter intake and information\n\n\nHomeless services\n\n\nHelp with apartment applications.
URL:https://laurel.lib.ms.us/event/salvation-army-at-the-library-lau/2026-03-24/
LOCATION:Laurel-Jones County Library\, 530 Commerce St\, Laurel\, MS\, 39440\, United States
CATEGORIES:Laurel Branch
END:VEVENT
BEGIN:VEVENT
DTSTART;TZID=America/Chicago:20260324T140000
DTEND;TZID=America/Chicago:20260324T150000
DTSTAMP:20260421T200609
CREATED:20260203T213243Z
LAST-MODIFIED:20260203T213318Z
UID:10138458-1774360800-1774364400@laurel.lib.ms.us
SUMMARY:Discovering AI : A Hands-on Workshop for Seniors @LAU
DESCRIPTION:Presented by Greg Butler \nLearning Modules: \n\nUnderstand what AI is in simple terms\nLearn safe AI practices\nUse AI for lists\, planning\, and reminders\n… and more\n\n$5.00 per session or buy 4 receive 4 free. \nRegistration required. You can register in-person at the library or you can click here to register online. \nCertificate of Completion for each course.
URL:https://laurel.lib.ms.us/event/a-i-for-seniors-lau-2/2026-03-24/
LOCATION:Laurel-Jones County Library\, 530 Commerce St\, Laurel\, MS\, 39440\, United States
CATEGORIES:Laurel Branch
END:VEVENT
BEGIN:VEVENT
DTSTART;TZID=America/Chicago:20260324T160000
DTEND;TZID=America/Chicago:20260324T170000
DTSTAMP:20260421T200609
CREATED:20251212T204622Z
LAST-MODIFIED:20251212T204622Z
UID:10139558-1774368000-1774371600@laurel.lib.ms.us
SUMMARY:Pokémon Trainers Club @LAU
DESCRIPTION:Join us every week to hang out with other Pokémon fanatics of all ages (Yes\, adults. You\, too!)! Show off your cards\, physical or on the app! Battle against each other in Scarlet (or Violet)! Fight over which team will reign supreme in the Jones County War Memorial gym next door! Rep your favorite Pokémon with your merch collection! Discuss the newest episode of the anime! Read the old manga! A parent or adult guardian must accompany trainers under the age of 14.
URL:https://laurel.lib.ms.us/event/pokemon-trainers-club-lau-2/2026-03-24/
LOCATION:Laurel-Jones County Library\, 530 Commerce St\, Laurel\, MS\, 39440\, United States
CATEGORIES:Laurel Branch
ATTACH;FMTTYPE=image/png:https://laurel.lib.ms.us/wp-content/uploads/2025/07/Header-Pokemon-Trainers-Club.png
END:VEVENT
BEGIN:VEVENT
DTSTART;TZID=America/Chicago:20260325T091500
DTEND;TZID=America/Chicago:20260325T091500
DTSTAMP:20260421T200609
CREATED:20260219T192638Z
LAST-MODIFIED:20260406T160324Z
UID:10140608-1774430100-1774430100@laurel.lib.ms.us
SUMMARY:Internet 101 @LAU
DESCRIPTION:Learn what a browser and web address are\, how to navigate websites\, use search engines\, and more!
URL:https://laurel.lib.ms.us/event/internet-101-lau/2026-03-25/
LOCATION:Laurel-Jones County Library\, 530 Commerce St\, Laurel\, MS\, 39440\, United States
CATEGORIES:Laurel Branch
ATTACH;FMTTYPE=image/png:https://laurel.lib.ms.us/wp-content/uploads/2026/02/Website-Header-Computer-Classes.png
END:VEVENT
BEGIN:VEVENT
DTSTART;TZID=America/Chicago:20260327T180000
DTEND;TZID=America/Chicago:20260327T200000
DTSTAMP:20260421T200609
CREATED:20250731T163419Z
LAST-MODIFIED:20250731T163419Z
UID:10136647-1774634400-1774641600@laurel.lib.ms.us
SUMMARY:BINGO @LAU
DESCRIPTION:Play BINGO\, win prizes! 1 free card per person. Get an additional card with your library card! Concessions available.
URL:https://laurel.lib.ms.us/event/bingo-night-ljcl-3-2-2/2026-03-27/
LOCATION:Laurel-Jones County Library\, 530 Commerce St\, Laurel\, MS\, 39440\, United States
CATEGORIES:Laurel Branch
ATTACH;FMTTYPE=image/png:https://laurel.lib.ms.us/wp-content/uploads/2025/07/Header-Bingo.png
END:VEVENT
BEGIN:VEVENT
DTSTART;TZID=America/Chicago:20260328T100000
DTEND;TZID=America/Chicago:20260328T130000
DTSTAMP:20260421T200609
CREATED:20260115T213937Z
LAST-MODIFIED:20260115T213938Z
UID:10140224-1774692000-1774702800@laurel.lib.ms.us
SUMMARY:JCGHO @LAU
DESCRIPTION:The Jones County Genealogical and Historical Organization (JCGHO) hosts a monthly meeting in the upstairs meeting room on the fourth Saturday of every month at 10:15 a.m.
URL:https://laurel.lib.ms.us/event/jcgho-ljcl-2-2/2026-03-28/
LOCATION:Laurel-Jones County Library\, 530 Commerce St\, Laurel\, MS\, 39440\, United States
CATEGORIES:Laurel Branch
ATTACH;FMTTYPE=image/png:https://laurel.lib.ms.us/wp-content/uploads/2023/02/JCGHO.png
END:VEVENT
BEGIN:VEVENT
DTSTART;TZID=America/Chicago:20260331T090000
DTEND;TZID=America/Chicago:20260331T110000
DTSTAMP:20260421T200609
CREATED:20251219T190449Z
LAST-MODIFIED:20251219T190449Z
UID:10139627-1774947600-1774954800@laurel.lib.ms.us
SUMMARY:Salvation Army at the Library @LAU
DESCRIPTION:Need some extra help with utilities or rent?  Having trouble navigating the health system or signing up for assistance?  Need to find shelter?  Come meet a case manager right here in the library and find out what help is available to you!\n\n\nFood Pantry resources\n\n\nHelp signing up for a food card\n\n\nRent and utility assistance\n\n\nClothing vouchers\n\n\nSheter intake and information\n\n\nHomeless services\n\n\nHelp with apartment applications.
URL:https://laurel.lib.ms.us/event/salvation-army-at-the-library-lau/2026-03-31/
LOCATION:Laurel-Jones County Library\, 530 Commerce St\, Laurel\, MS\, 39440\, United States
CATEGORIES:Laurel Branch
END:VEVENT
BEGIN:VEVENT
DTSTART;TZID=America/Chicago:20260331T140000
DTEND;TZID=America/Chicago:20260331T150000
DTSTAMP:20260421T200609
CREATED:20260203T213243Z
LAST-MODIFIED:20260203T213318Z
UID:10140455-1774965600-1774969200@laurel.lib.ms.us
SUMMARY:Discovering AI : A Hands-on Workshop for Seniors @LAU
DESCRIPTION:Presented by Greg Butler \nLearning Modules: \n\nUnderstand what AI is in simple terms\nLearn safe AI practices\nUse AI for lists\, planning\, and reminders\n… and more\n\n$5.00 per session or buy 4 receive 4 free. \nRegistration required. You can register in-person at the library or you can click here to register online. \nCertificate of Completion for each course.
URL:https://laurel.lib.ms.us/event/a-i-for-seniors-lau-2/2026-03-31/
LOCATION:Laurel-Jones County Library\, 530 Commerce St\, Laurel\, MS\, 39440\, United States
CATEGORIES:Laurel Branch
END:VEVENT
END:VCALENDAR