BEGIN:VCALENDAR
VERSION:2.0
PRODID:-//Laurel Library - ECPv6.15.20//NONSGML v1.0//EN
CALSCALE:GREGORIAN
METHOD:PUBLISH
X-ORIGINAL-URL:https://laurel.lib.ms.us
X-WR-CALDESC:Events for Laurel Library
REFRESH-INTERVAL;VALUE=DURATION:PT1H
X-Robots-Tag:noindex
X-PUBLISHED-TTL:PT1H
BEGIN:VTIMEZONE
TZID:America/Chicago
BEGIN:DAYLIGHT
TZOFFSETFROM:-0600
TZOFFSETTO:-0500
TZNAME:CDT
DTSTART:20240310T080000
END:DAYLIGHT
BEGIN:STANDARD
TZOFFSETFROM:-0500
TZOFFSETTO:-0600
TZNAME:CST
DTSTART:20241103T070000
END:STANDARD
BEGIN:DAYLIGHT
TZOFFSETFROM:-0600
TZOFFSETTO:-0500
TZNAME:CDT
DTSTART:20250309T080000
END:DAYLIGHT
BEGIN:STANDARD
TZOFFSETFROM:-0500
TZOFFSETTO:-0600
TZNAME:CST
DTSTART:20251102T070000
END:STANDARD
BEGIN:DAYLIGHT
TZOFFSETFROM:-0600
TZOFFSETTO:-0500
TZNAME:CDT
DTSTART:20260308T080000
END:DAYLIGHT
BEGIN:STANDARD
TZOFFSETFROM:-0500
TZOFFSETTO:-0600
TZNAME:CST
DTSTART:20261101T070000
END:STANDARD
END:VTIMEZONE
BEGIN:VEVENT
DTSTART;TZID=America/Chicago:20250508T173000
DTEND;TZID=America/Chicago:20250508T183000
DTSTAMP:20260422T204243
CREATED:20240312T142750Z
LAST-MODIFIED:20250205T162938Z
UID:10135257-1746725400-1746729000@laurel.lib.ms.us
SUMMARY:Books & Brew Book Club @ELL
DESCRIPTION:Join us with at the Ellisville Public Library as we discuss this month’s book selection!
URL:https://laurel.lib.ms.us/event/books-brew-book-club-2-2-2/2025-05-08/
LOCATION:Ellisville Public Library\, 201 Poplar St\, Ellisville\, MS\, 39437\, United States
CATEGORIES:Ellisville Branch
ATTACH;FMTTYPE=image/png:https://laurel.lib.ms.us/wp-content/uploads/2023/02/Ellisville-Book-Club.png
END:VEVENT
BEGIN:VEVENT
DTSTART;TZID=America/Chicago:20250510T090000
DTEND;TZID=America/Chicago:20250510T110000
DTSTAMP:20260422T204243
CREATED:20250509T194600Z
LAST-MODIFIED:20250509T195644Z
UID:10135796-1746867600-1746874800@laurel.lib.ms.us
SUMMARY:Checkmates Chess Social & Cube Corner @LAU
DESCRIPTION:Come play chess and solve cubes with other chess & cubing enthusiasts at our combination chess and cubing group!
URL:https://laurel.lib.ms.us/event/chess-hours-lau-2/2025-05-10/
LOCATION:Laurel-Jones County Library\, 530 Commerce St\, Laurel\, MS\, 39440\, United States
CATEGORIES:Laurel Branch
END:VEVENT
BEGIN:VEVENT
DTSTART;TZID=America/Chicago:20250513T180000
DTEND;TZID=America/Chicago:20250513T190000
DTSTAMP:20260422T204243
CREATED:20230127T154814Z
LAST-MODIFIED:20250522T150523Z
UID:10132444-1747159200-1747162800@laurel.lib.ms.us
SUMMARY:LEGO® Club @LAU
DESCRIPTION:Join us each month to to complete a LEGO® challenge!
URL:https://laurel.lib.ms.us/event/lego-club/2025-05-13/
LOCATION:Laurel-Jones County Library\, 530 Commerce St\, Laurel\, MS\, 39440\, United States
CATEGORIES:Laurel Branch
ATTACH;FMTTYPE=image/png:https://laurel.lib.ms.us/wp-content/uploads/2023/02/LEGO-Club.png
END:VEVENT
BEGIN:VEVENT
DTSTART;TZID=America/Chicago:20250515T180000
DTEND;TZID=America/Chicago:20250515T190000
DTSTAMP:20260422T204243
CREATED:20230328T154217Z
LAST-MODIFIED:20250205T162213Z
UID:10134398-1747332000-1747335600@laurel.lib.ms.us
SUMMARY:LEGO® Club @ELL
DESCRIPTION:Join us each month to to complete a LEGO® challenge!
URL:https://laurel.lib.ms.us/event/lego-club-epl/2025-05-15/
LOCATION:Ellisville Public Library\, 201 Poplar St\, Ellisville\, MS\, 39437\, United States
CATEGORIES:Ellisville Branch
ATTACH;FMTTYPE=image/png:https://laurel.lib.ms.us/wp-content/uploads/2023/02/LEGO-Club.png
END:VEVENT
BEGIN:VEVENT
DTSTART;TZID=America/Chicago:20250517T110000
DTEND;TZID=America/Chicago:20250517T120000
DTSTAMP:20260422T204243
CREATED:20230908T194016Z
LAST-MODIFIED:20250522T150620Z
UID:10136757-1747479600-1747483200@laurel.lib.ms.us
SUMMARY:The 641 Cookbook Club @LAU
DESCRIPTION:Bring your prepared dish for everyone to sample and recipe to share!
URL:https://laurel.lib.ms.us/event/the-641-cookbook-club-2-3-2/2025-05-17/
LOCATION:Laurel-Jones County Library\, 530 Commerce St\, Laurel\, MS\, 39440\, United States
CATEGORIES:Laurel Branch
ATTACH;FMTTYPE=image/png:https://laurel.lib.ms.us/wp-content/uploads/2023/02/The-641-Cookbook-Club.png
END:VEVENT
BEGIN:VEVENT
DTSTART;TZID=America/Chicago:20250519T143000
DTEND;TZID=America/Chicago:20250519T153000
DTSTAMP:20260422T204243
CREATED:20250407T211243Z
LAST-MODIFIED:20250407T211254Z
UID:10136571-1747665000-1747668600@laurel.lib.ms.us
SUMMARY:Senior Circle @LAU
DESCRIPTION:Senior Circle will be a two-hour program for Seniors to experience:\n \n\nSocial Interaction\nInteractive Games\nThemed Events\nMemory Time\nGuest Speakers\nand more!
URL:https://laurel.lib.ms.us/event/senior-circle-lau/
CATEGORIES:Laurel Branch
END:VEVENT
BEGIN:VEVENT
DTSTART;TZID=America/Chicago:20250527T170000
DTEND;TZID=America/Chicago:20250527T190000
DTSTAMP:20260422T204243
CREATED:20250108T174236Z
LAST-MODIFIED:20250701T201908Z
UID:10136685-1748365200-1748372400@laurel.lib.ms.us
SUMMARY:Book Talk @LAU
DESCRIPTION:Come enjoy the company of fellow readers at our NEW after-hours book club!  Book Talk is a no pressure\, no assigned reading book club for book lovers to share their thoughts on whatever they’re currently reading with others.  From 5-6 PM we will have a quiet reading hour for you to just unwind from the day with your book.  Group discussion starts at 6 PM where we go around sharing what we like/dislike about our current reads and get or give book recommendations.  This is a book club for adults (age 18+); Readers of any genre and any format (physical\, ebook\, audio) are welcome!
URL:https://laurel.lib.ms.us/event/book-talk-lau/2025-05-27/
LOCATION:Laurel-Jones County Library\, 530 Commerce St\, Laurel\, MS\, 39440\, United States
CATEGORIES:Laurel Branch
END:VEVENT
BEGIN:VEVENT
DTSTART;TZID=America/Chicago:20250530T180000
DTEND;TZID=America/Chicago:20250530T200000
DTSTAMP:20260422T204243
CREATED:20250123T193215Z
LAST-MODIFIED:20250522T150611Z
UID:10136640-1748628000-1748635200@laurel.lib.ms.us
SUMMARY:BINGO @LAU
DESCRIPTION:Play BINGO\, win prizes! 1 free card per person. Get an additional card with your library card! Concessions available.
URL:https://laurel.lib.ms.us/event/bingo-night-ljcl-3/2025-05-30/
LOCATION:Laurel-Jones County Library\, 530 Commerce St\, Laurel\, MS\, 39440\, United States
CATEGORIES:Laurel Branch
END:VEVENT
BEGIN:VEVENT
DTSTART;TZID=America/Chicago:20250531T101500
DTEND;TZID=America/Chicago:20250531T101500
DTSTAMP:20260422T204243
CREATED:20250407T211601Z
LAST-MODIFIED:20250407T211656Z
UID:10132084-1748686500-1748686500@laurel.lib.ms.us
SUMMARY:JCGHO @LAU
DESCRIPTION:The Jones County Genealogical and Historical Organization (JCGHO) hosts a monthly meeting in the upstairs meeting room on the fourth Saturday of every month at 10:15 a.m.
URL:https://laurel.lib.ms.us/event/jcgho-lau-2/
LOCATION:Laurel-Jones County Library\, 530 Commerce St\, Laurel\, MS\, 39440\, United States
CATEGORIES:Laurel Branch
ATTACH;FMTTYPE=image/png:https://laurel.lib.ms.us/wp-content/uploads/2023/02/JCGHO.png
END:VEVENT
END:VCALENDAR