BEGIN:VCALENDAR
VERSION:2.0
PRODID:-//Laurel Library - ECPv6.15.20//NONSGML v1.0//EN
CALSCALE:GREGORIAN
METHOD:PUBLISH
X-WR-CALNAME:Laurel Library
X-ORIGINAL-URL:https://laurel.lib.ms.us
X-WR-CALDESC:Events for Laurel Library
REFRESH-INTERVAL;VALUE=DURATION:PT1H
X-Robots-Tag:noindex
X-PUBLISHED-TTL:PT1H
BEGIN:VTIMEZONE
TZID:America/Chicago
BEGIN:DAYLIGHT
TZOFFSETFROM:-0600
TZOFFSETTO:-0500
TZNAME:CDT
DTSTART:20240310T080000
END:DAYLIGHT
BEGIN:STANDARD
TZOFFSETFROM:-0500
TZOFFSETTO:-0600
TZNAME:CST
DTSTART:20241103T070000
END:STANDARD
BEGIN:DAYLIGHT
TZOFFSETFROM:-0600
TZOFFSETTO:-0500
TZNAME:CDT
DTSTART:20250309T080000
END:DAYLIGHT
BEGIN:STANDARD
TZOFFSETFROM:-0500
TZOFFSETTO:-0600
TZNAME:CST
DTSTART:20251102T070000
END:STANDARD
BEGIN:DAYLIGHT
TZOFFSETFROM:-0600
TZOFFSETTO:-0500
TZNAME:CDT
DTSTART:20260308T080000
END:DAYLIGHT
BEGIN:STANDARD
TZOFFSETFROM:-0500
TZOFFSETTO:-0600
TZNAME:CST
DTSTART:20261101T070000
END:STANDARD
END:VTIMEZONE
BEGIN:VEVENT
DTSTART;TZID=America/Chicago:20250308T090000
DTEND;TZID=America/Chicago:20250308T110000
DTSTAMP:20260423T010340
CREATED:20240807T151705Z
LAST-MODIFIED:20250124T175244Z
UID:10135794-1741424400-1741431600@laurel.lib.ms.us
SUMMARY:Checkmates Chess Social @LAU
DESCRIPTION:Come play chess with other chess enthusiasts!
URL:https://laurel.lib.ms.us/event/chess-hours-lau/2025-03-08/
LOCATION:Laurel-Jones County Library\, 530 Commerce St\, Laurel\, MS\, 39440\, United States
CATEGORIES:Laurel Branch
END:VEVENT
BEGIN:VEVENT
DTSTART;TZID=America/Chicago:20250311T130000
DTEND;TZID=America/Chicago:20250311T150000
DTSTAMP:20260423T010340
CREATED:20250205T163843Z
LAST-MODIFIED:20250205T163843Z
UID:10136861-1741698000-1741705200@laurel.lib.ms.us
SUMMARY:Pop-Up Game Day @LAU
DESCRIPTION:Come play games at the library. We supply the games\, you supply yourself (and maybe a friend)! We have card games\, board games\, and puzzles!
URL:https://laurel.lib.ms.us/event/pop-up-game-day-lau/
LOCATION:Laurel-Jones County Library\, 530 Commerce St\, Laurel\, MS\, 39440\, United States
CATEGORIES:Laurel Branch
ATTACH;FMTTYPE=image/png:https://laurel.lib.ms.us/wp-content/uploads/2023/02/Generic-Game-Event.png
END:VEVENT
BEGIN:VEVENT
DTSTART;TZID=America/Chicago:20250311T180000
DTEND;TZID=America/Chicago:20250311T190000
DTSTAMP:20260423T010340
CREATED:20230127T154814Z
LAST-MODIFIED:20250522T150523Z
UID:10132442-1741716000-1741719600@laurel.lib.ms.us
SUMMARY:LEGO® Club @LAU
DESCRIPTION:Join us each month to to complete a LEGO® challenge!
URL:https://laurel.lib.ms.us/event/lego-club/2025-03-11/
LOCATION:Laurel-Jones County Library\, 530 Commerce St\, Laurel\, MS\, 39440\, United States
CATEGORIES:Laurel Branch
ATTACH;FMTTYPE=image/png:https://laurel.lib.ms.us/wp-content/uploads/2023/02/LEGO-Club.png
END:VEVENT
BEGIN:VEVENT
DTSTART;TZID=America/Chicago:20250312T130000
DTEND;TZID=America/Chicago:20250312T140000
DTSTAMP:20260423T010340
CREATED:20250115T144036Z
LAST-MODIFIED:20250220T153543Z
UID:10136618-1741784400-1741788000@laurel.lib.ms.us
SUMMARY:Local Author Spotlight: Dr. Patricia Tibbs @LAU
DESCRIPTION:
URL:https://laurel.lib.ms.us/event/local-author-author-spotlight-dr-patricia-tibbs-lau/
LOCATION:Laurel-Jones County Library\, 530 Commerce St\, Laurel\, MS\, 39440\, United States
CATEGORIES:Laurel Branch
ATTACH;FMTTYPE=image/png:https://laurel.lib.ms.us/wp-content/uploads/2023/10/Header-Author-Event.png
END:VEVENT
BEGIN:VEVENT
DTSTART;TZID=America/Chicago:20250313T130000
DTEND;TZID=America/Chicago:20250313T150000
DTSTAMP:20260423T010340
CREATED:20250312T155930Z
LAST-MODIFIED:20250312T155931Z
UID:10136868-1741870800-1741878000@laurel.lib.ms.us
SUMMARY:Movie Day: Captain Underpants @LAU
DESCRIPTION:We’ll be showing Captain Underpants on March 13th!
URL:https://laurel.lib.ms.us/event/movie-day-lau-2/
LOCATION:Laurel-Jones County Library\, 530 Commerce St\, Laurel\, MS\, 39440\, United States
CATEGORIES:Laurel Branch
ATTACH;FMTTYPE=image/png:https://laurel.lib.ms.us/wp-content/uploads/2023/02/Generic-Movie-Event.png
END:VEVENT
BEGIN:VEVENT
DTSTART;TZID=America/Chicago:20250313T173000
DTEND;TZID=America/Chicago:20250313T183000
DTSTAMP:20260423T010340
CREATED:20240312T142750Z
LAST-MODIFIED:20250205T162938Z
UID:10135255-1741887000-1741890600@laurel.lib.ms.us
SUMMARY:Books & Brew Book Club @ELL
DESCRIPTION:Join us with at the Ellisville Public Library as we discuss this month’s book selection!
URL:https://laurel.lib.ms.us/event/books-brew-book-club-2-2-2/2025-03-13/
LOCATION:Ellisville Public Library\, 201 Poplar St\, Ellisville\, MS\, 39437\, United States
CATEGORIES:Ellisville Branch
ATTACH;FMTTYPE=image/png:https://laurel.lib.ms.us/wp-content/uploads/2023/02/Ellisville-Book-Club.png
END:VEVENT
BEGIN:VEVENT
DTSTART;TZID=America/Chicago:20250318T130000
DTEND;TZID=America/Chicago:20250318T150000
DTSTAMP:20260423T010340
CREATED:20250213T170159Z
LAST-MODIFIED:20250522T151249Z
UID:10136862-1742302800-1742310000@laurel.lib.ms.us
SUMMARY:Pop-Up Game Day
DESCRIPTION:Come play games at the library. We supply the games\, you supply yourself (and maybe a friend)! We have card games\, board games\, and puzzles!
URL:https://laurel.lib.ms.us/event/pop-up-game-day-lau-2/
CATEGORIES:General
ATTACH;FMTTYPE=image/png:https://laurel.lib.ms.us/wp-content/uploads/2023/02/Generic-Game-Event.png
END:VEVENT
BEGIN:VEVENT
DTSTART;TZID=America/Chicago:20250320T130000
DTEND;TZID=America/Chicago:20250320T150000
DTSTAMP:20260423T010340
CREATED:20250205T164454Z
LAST-MODIFIED:20250312T155848Z
UID:10136874-1742475600-1742482800@laurel.lib.ms.us
SUMMARY:Movie Day @LAU
DESCRIPTION:We’ll be showing Captain Underpants on March 13th and The Wild Robot on March 20th.
URL:https://laurel.lib.ms.us/event/movie-day-lau/
LOCATION:Laurel-Jones County Library\, 530 Commerce St\, Laurel\, MS\, 39440\, United States
CATEGORIES:Laurel Branch
ATTACH;FMTTYPE=image/png:https://laurel.lib.ms.us/wp-content/uploads/2023/02/Generic-Movie-Event.png
END:VEVENT
BEGIN:VEVENT
DTSTART;TZID=America/Chicago:20250320T130000
DTEND;TZID=America/Chicago:20250320T150000
DTSTAMP:20260423T010340
CREATED:20250312T160008Z
LAST-MODIFIED:20250312T160009Z
UID:10136869-1742475600-1742482800@laurel.lib.ms.us
SUMMARY:Movie Day: The Wild Robot @LAU
DESCRIPTION:We’ll be showing The Wild Robot on March 20th!
URL:https://laurel.lib.ms.us/event/movie-day-lau-3/
LOCATION:Laurel-Jones County Library\, 530 Commerce St\, Laurel\, MS\, 39440\, United States
CATEGORIES:Laurel Branch
ATTACH;FMTTYPE=image/png:https://laurel.lib.ms.us/wp-content/uploads/2023/02/Generic-Movie-Event.png
END:VEVENT
BEGIN:VEVENT
DTSTART;TZID=America/Chicago:20250320T180000
DTEND;TZID=America/Chicago:20250320T190000
DTSTAMP:20260423T010340
CREATED:20230328T154217Z
LAST-MODIFIED:20250205T162213Z
UID:10134396-1742493600-1742497200@laurel.lib.ms.us
SUMMARY:LEGO® Club @ELL
DESCRIPTION:Join us each month to to complete a LEGO® challenge!
URL:https://laurel.lib.ms.us/event/lego-club-epl/2025-03-20/
LOCATION:Ellisville Public Library\, 201 Poplar St\, Ellisville\, MS\, 39437\, United States
CATEGORIES:Ellisville Branch
ATTACH;FMTTYPE=image/png:https://laurel.lib.ms.us/wp-content/uploads/2023/02/LEGO-Club.png
END:VEVENT
BEGIN:VEVENT
DTSTART;TZID=America/Chicago:20250322T101500
DTEND;TZID=America/Chicago:20250322T130000
DTSTAMP:20260423T010340
CREATED:20250124T192338Z
LAST-MODIFIED:20250124T192338Z
UID:10132082-1742638500-1742648400@laurel.lib.ms.us
SUMMARY:JCGHO @LAU
DESCRIPTION:The Jones County Genealogical and Historical Organization (JCGHO) hosts a monthly meeting in the upstairs meeting room on the fourth Saturday of every month at 10:15 a.m.
URL:https://laurel.lib.ms.us/event/jcgho-ljcl-2/2025-03-22/
LOCATION:Laurel-Jones County Library\, 530 Commerce St\, Laurel\, MS\, 39440\, United States
CATEGORIES:Laurel Branch
ATTACH;FMTTYPE=image/png:https://laurel.lib.ms.us/wp-content/uploads/2023/02/JCGHO.png
END:VEVENT
BEGIN:VEVENT
DTSTART;TZID=America/Chicago:20250324T143000
DTEND;TZID=America/Chicago:20250324T153000
DTSTAMP:20260423T010340
CREATED:20250114T164329Z
LAST-MODIFIED:20250124T175322Z
UID:10136569-1742826600-1742830200@laurel.lib.ms.us
SUMMARY:Senior Circle @LAU
DESCRIPTION:Senior Circle will be a two-hour program for Seniors to experience:\n \n\nSocial Interaction\nInteractive Games\nThemed Events\nMemory Time\nGuest Speakers\nand more!
URL:https://laurel.lib.ms.us/event/senior-social-circle-3-2-2/2025-03-24/
CATEGORIES:Laurel Branch
END:VEVENT
BEGIN:VEVENT
DTSTART;TZID=America/Chicago:20250325T170000
DTEND;TZID=America/Chicago:20250325T190000
DTSTAMP:20260423T010340
CREATED:20250108T174236Z
LAST-MODIFIED:20250701T201908Z
UID:10136683-1742922000-1742929200@laurel.lib.ms.us
SUMMARY:Book Talk @LAU
DESCRIPTION:Come enjoy the company of fellow readers at our NEW after-hours book club!  Book Talk is a no pressure\, no assigned reading book club for book lovers to share their thoughts on whatever they’re currently reading with others.  From 5-6 PM we will have a quiet reading hour for you to just unwind from the day with your book.  Group discussion starts at 6 PM where we go around sharing what we like/dislike about our current reads and get or give book recommendations.  This is a book club for adults (age 18+); Readers of any genre and any format (physical\, ebook\, audio) are welcome!
URL:https://laurel.lib.ms.us/event/book-talk-lau/2025-03-25/
LOCATION:Laurel-Jones County Library\, 530 Commerce St\, Laurel\, MS\, 39440\, United States
CATEGORIES:Laurel Branch
END:VEVENT
BEGIN:VEVENT
DTSTART;TZID=America/Chicago:20250328T180000
DTEND;TZID=America/Chicago:20250328T200000
DTSTAMP:20260423T010340
CREATED:20250123T193215Z
LAST-MODIFIED:20250522T150611Z
UID:10136638-1743184800-1743192000@laurel.lib.ms.us
SUMMARY:BINGO @LAU
DESCRIPTION:Play BINGO\, win prizes! 1 free card per person. Get an additional card with your library card! Concessions available.
URL:https://laurel.lib.ms.us/event/bingo-night-ljcl-3/2025-03-28/
LOCATION:Laurel-Jones County Library\, 530 Commerce St\, Laurel\, MS\, 39440\, United States
CATEGORIES:Laurel Branch
END:VEVENT
END:VCALENDAR