BEGIN:VCALENDAR
VERSION:2.0
PRODID:-//Laurel Library - ECPv6.15.20//NONSGML v1.0//EN
CALSCALE:GREGORIAN
METHOD:PUBLISH
X-WR-CALNAME:Laurel Library
X-ORIGINAL-URL:https://laurel.lib.ms.us
X-WR-CALDESC:Events for Laurel Library
REFRESH-INTERVAL;VALUE=DURATION:PT1H
X-Robots-Tag:noindex
X-PUBLISHED-TTL:PT1H
BEGIN:VTIMEZONE
TZID:America/Chicago
BEGIN:DAYLIGHT
TZOFFSETFROM:-0600
TZOFFSETTO:-0500
TZNAME:CDT
DTSTART:20240310T080000
END:DAYLIGHT
BEGIN:STANDARD
TZOFFSETFROM:-0500
TZOFFSETTO:-0600
TZNAME:CST
DTSTART:20241103T070000
END:STANDARD
BEGIN:DAYLIGHT
TZOFFSETFROM:-0600
TZOFFSETTO:-0500
TZNAME:CDT
DTSTART:20250309T080000
END:DAYLIGHT
BEGIN:STANDARD
TZOFFSETFROM:-0500
TZOFFSETTO:-0600
TZNAME:CST
DTSTART:20251102T070000
END:STANDARD
BEGIN:DAYLIGHT
TZOFFSETFROM:-0600
TZOFFSETTO:-0500
TZNAME:CDT
DTSTART:20260308T080000
END:DAYLIGHT
BEGIN:STANDARD
TZOFFSETFROM:-0500
TZOFFSETTO:-0600
TZNAME:CST
DTSTART:20261101T070000
END:STANDARD
END:VTIMEZONE
BEGIN:VEVENT
DTSTART;TZID=America/Chicago:20250211T180000
DTEND;TZID=America/Chicago:20250211T190000
DTSTAMP:20260423T074407
CREATED:20230127T154814Z
LAST-MODIFIED:20250522T150523Z
UID:10132441-1739296800-1739300400@laurel.lib.ms.us
SUMMARY:LEGO® Club @LAU
DESCRIPTION:Join us each month to to complete a LEGO® challenge!
URL:https://laurel.lib.ms.us/event/lego-club/2025-02-11/
LOCATION:Laurel-Jones County Library\, 530 Commerce St\, Laurel\, MS\, 39440\, United States
CATEGORIES:Laurel Branch
ATTACH;FMTTYPE=image/png:https://laurel.lib.ms.us/wp-content/uploads/2023/02/LEGO-Club.png
END:VEVENT
BEGIN:VEVENT
DTSTART;TZID=America/Chicago:20250213T173000
DTEND;TZID=America/Chicago:20250213T183000
DTSTAMP:20260423T074407
CREATED:20240312T142750Z
LAST-MODIFIED:20250205T162938Z
UID:10135254-1739467800-1739471400@laurel.lib.ms.us
SUMMARY:Books & Brew Book Club @ELL
DESCRIPTION:Join us with at the Ellisville Public Library as we discuss this month’s book selection!
URL:https://laurel.lib.ms.us/event/books-brew-book-club-2-2-2/2025-02-13/
LOCATION:Ellisville Public Library\, 201 Poplar St\, Ellisville\, MS\, 39437\, United States
CATEGORIES:Ellisville Branch
ATTACH;FMTTYPE=image/png:https://laurel.lib.ms.us/wp-content/uploads/2023/02/Ellisville-Book-Club.png
END:VEVENT
BEGIN:VEVENT
DTSTART;TZID=America/Chicago:20250214T100000
DTEND;TZID=America/Chicago:20250214T110000
DTSTAMP:20260423T074407
CREATED:20241119T165036Z
LAST-MODIFIED:20250522T151025Z
UID:10132135-1739527200-1739530800@laurel.lib.ms.us
SUMMARY:Coffee Connection @LAU
DESCRIPTION:Join us for a relaxing time of coffee and conversation!
URL:https://laurel.lib.ms.us/event/coffee-coloring-ljcl-2-2/2025-02-14/
LOCATION:Laurel-Jones County Library\, 530 Commerce St\, Laurel\, MS\, 39440\, United States
CATEGORIES:Laurel Branch
END:VEVENT
BEGIN:VEVENT
DTSTART;TZID=America/Chicago:20250214T150000
DTEND;TZID=America/Chicago:20250214T160000
DTSTAMP:20260423T074407
CREATED:20241119T165215Z
LAST-MODIFIED:20250220T153335Z
UID:10136425-1739545200-1739548800@laurel.lib.ms.us
SUMMARY:Coffee Connection @ELL
DESCRIPTION:Join us for a relaxing time of coffee and conversation!
URL:https://laurel.lib.ms.us/event/coffee-connection-ell/2025-02-14/
LOCATION:Ellisville Public Library\, 201 Poplar St\, Ellisville\, MS\, 39437\, United States
CATEGORIES:Ellisville Branch
END:VEVENT
BEGIN:VEVENT
DTSTART;TZID=America/Chicago:20250215T110000
DTEND;TZID=America/Chicago:20250215T120000
DTSTAMP:20260423T074407
CREATED:20230908T194016Z
LAST-MODIFIED:20250522T150620Z
UID:10136754-1739617200-1739620800@laurel.lib.ms.us
SUMMARY:The 641 Cookbook Club @LAU
DESCRIPTION:Bring your prepared dish for everyone to sample and recipe to share!
URL:https://laurel.lib.ms.us/event/the-641-cookbook-club-2-3-2/2025-02-15/
LOCATION:Laurel-Jones County Library\, 530 Commerce St\, Laurel\, MS\, 39440\, United States
CATEGORIES:Laurel Branch
ATTACH;FMTTYPE=image/png:https://laurel.lib.ms.us/wp-content/uploads/2023/02/The-641-Cookbook-Club.png
END:VEVENT
BEGIN:VEVENT
DTSTART;TZID=America/Chicago:20250220T180000
DTEND;TZID=America/Chicago:20250220T190000
DTSTAMP:20260423T074407
CREATED:20230328T154217Z
LAST-MODIFIED:20250205T162213Z
UID:10134395-1740074400-1740078000@laurel.lib.ms.us
SUMMARY:LEGO® Club @ELL
DESCRIPTION:Join us each month to to complete a LEGO® challenge!
URL:https://laurel.lib.ms.us/event/lego-club-epl/2025-02-20/
LOCATION:Ellisville Public Library\, 201 Poplar St\, Ellisville\, MS\, 39437\, United States
CATEGORIES:Ellisville Branch
ATTACH;FMTTYPE=image/png:https://laurel.lib.ms.us/wp-content/uploads/2023/02/LEGO-Club.png
END:VEVENT
BEGIN:VEVENT
DTSTART;TZID=America/Chicago:20250222T101500
DTEND;TZID=America/Chicago:20250222T130000
DTSTAMP:20260423T074407
CREATED:20250124T192338Z
LAST-MODIFIED:20250124T192338Z
UID:10132081-1740219300-1740229200@laurel.lib.ms.us
SUMMARY:JCGHO @LAU
DESCRIPTION:The Jones County Genealogical and Historical Organization (JCGHO) hosts a monthly meeting in the upstairs meeting room on the fourth Saturday of every month at 10:15 a.m.
URL:https://laurel.lib.ms.us/event/jcgho-ljcl-2/2025-02-22/
LOCATION:Laurel-Jones County Library\, 530 Commerce St\, Laurel\, MS\, 39440\, United States
CATEGORIES:Laurel Branch
ATTACH;FMTTYPE=image/png:https://laurel.lib.ms.us/wp-content/uploads/2023/02/JCGHO.png
END:VEVENT
BEGIN:VEVENT
DTSTART;TZID=America/Chicago:20250224T143000
DTEND;TZID=America/Chicago:20250224T153000
DTSTAMP:20260423T074407
CREATED:20250123T200816Z
LAST-MODIFIED:20250205T161442Z
UID:10135502-1740407400-1740411000@laurel.lib.ms.us
SUMMARY:Senior Circle @LAU
DESCRIPTION:Senior Circle is a program for Seniors to experience:\n \n\nSocial Interaction\nInteractive Games\nThemed Events\nMemory Time\nGuest Speakers\nand more!
URL:https://laurel.lib.ms.us/event/senior-social-circle-3-2-2-2/
LOCATION:Laurel-Jones County Library\, 530 Commerce St\, Laurel\, MS\, 39440\, United States
CATEGORIES:Laurel Branch
END:VEVENT
BEGIN:VEVENT
DTSTART;TZID=America/Chicago:20250225T170000
DTEND;TZID=America/Chicago:20250225T190000
DTSTAMP:20260423T074407
CREATED:20250108T174236Z
LAST-MODIFIED:20250701T201908Z
UID:10136682-1740502800-1740510000@laurel.lib.ms.us
SUMMARY:Book Talk @LAU
DESCRIPTION:Come enjoy the company of fellow readers at our NEW after-hours book club!  Book Talk is a no pressure\, no assigned reading book club for book lovers to share their thoughts on whatever they’re currently reading with others.  From 5-6 PM we will have a quiet reading hour for you to just unwind from the day with your book.  Group discussion starts at 6 PM where we go around sharing what we like/dislike about our current reads and get or give book recommendations.  This is a book club for adults (age 18+); Readers of any genre and any format (physical\, ebook\, audio) are welcome!
URL:https://laurel.lib.ms.us/event/book-talk-lau/2025-02-25/
LOCATION:Laurel-Jones County Library\, 530 Commerce St\, Laurel\, MS\, 39440\, United States
CATEGORIES:Laurel Branch
END:VEVENT
BEGIN:VEVENT
DTSTART;TZID=America/Chicago:20250226T140000
DTEND;TZID=America/Chicago:20250226T160000
DTSTAMP:20260423T074407
CREATED:20250220T152817Z
LAST-MODIFIED:20250220T153618Z
UID:10136873-1740578400-1740585600@laurel.lib.ms.us
SUMMARY:Local Black Author Showcase @LAU
DESCRIPTION:Sponsored by the Friends of the Laurel-Jones County Library.
URL:https://laurel.lib.ms.us/event/local-black-author-showcase-lau/
LOCATION:Laurel-Jones County Library\, 530 Commerce St\, Laurel\, MS\, 39440\, United States
CATEGORIES:Laurel Branch
END:VEVENT
BEGIN:VEVENT
DTSTART;TZID=America/Chicago:20250228T180000
DTEND;TZID=America/Chicago:20250228T200000
DTSTAMP:20260423T074407
CREATED:20250123T193215Z
LAST-MODIFIED:20250522T150611Z
UID:10136637-1740765600-1740772800@laurel.lib.ms.us
SUMMARY:BINGO @LAU
DESCRIPTION:Play BINGO\, win prizes! 1 free card per person. Get an additional card with your library card! Concessions available.
URL:https://laurel.lib.ms.us/event/bingo-night-ljcl-3/2025-02-28/
LOCATION:Laurel-Jones County Library\, 530 Commerce St\, Laurel\, MS\, 39440\, United States
CATEGORIES:Laurel Branch
END:VEVENT
END:VCALENDAR