BEGIN:VCALENDAR
VERSION:2.0
PRODID:-//Laurel Library - ECPv6.15.20//NONSGML v1.0//EN
CALSCALE:GREGORIAN
METHOD:PUBLISH
X-ORIGINAL-URL:https://laurel.lib.ms.us
X-WR-CALDESC:Events for Laurel Library
REFRESH-INTERVAL;VALUE=DURATION:PT1H
X-Robots-Tag:noindex
X-PUBLISHED-TTL:PT1H
BEGIN:VTIMEZONE
TZID:America/Chicago
BEGIN:DAYLIGHT
TZOFFSETFROM:-0600
TZOFFSETTO:-0500
TZNAME:CDT
DTSTART:20240310T080000
END:DAYLIGHT
BEGIN:STANDARD
TZOFFSETFROM:-0500
TZOFFSETTO:-0600
TZNAME:CST
DTSTART:20241103T070000
END:STANDARD
BEGIN:DAYLIGHT
TZOFFSETFROM:-0600
TZOFFSETTO:-0500
TZNAME:CDT
DTSTART:20250309T080000
END:DAYLIGHT
BEGIN:STANDARD
TZOFFSETFROM:-0500
TZOFFSETTO:-0600
TZNAME:CST
DTSTART:20251102T070000
END:STANDARD
BEGIN:DAYLIGHT
TZOFFSETFROM:-0600
TZOFFSETTO:-0500
TZNAME:CDT
DTSTART:20260308T080000
END:DAYLIGHT
BEGIN:STANDARD
TZOFFSETFROM:-0500
TZOFFSETTO:-0600
TZNAME:CST
DTSTART:20261101T070000
END:STANDARD
END:VTIMEZONE
BEGIN:VEVENT
DTSTART;TZID=America/Chicago:20250109T173000
DTEND;TZID=America/Chicago:20250109T183000
DTSTAMP:20260423T093312
CREATED:20240312T142750Z
LAST-MODIFIED:20250205T162938Z
UID:10135253-1736443800-1736447400@laurel.lib.ms.us
SUMMARY:Books & Brew Book Club @ELL
DESCRIPTION:Join us with at the Ellisville Public Library as we discuss this month’s book selection!
URL:https://laurel.lib.ms.us/event/books-brew-book-club-2-2-2/2025-01-09/
LOCATION:Ellisville Public Library\, 201 Poplar St\, Ellisville\, MS\, 39437\, United States
CATEGORIES:Ellisville Branch
ATTACH;FMTTYPE=image/png:https://laurel.lib.ms.us/wp-content/uploads/2023/02/Ellisville-Book-Club.png
END:VEVENT
BEGIN:VEVENT
DTSTART;TZID=America/Chicago:20250110T100000
DTEND;TZID=America/Chicago:20250110T110000
DTSTAMP:20260423T093312
CREATED:20241119T165036Z
LAST-MODIFIED:20250522T151025Z
UID:10132134-1736503200-1736506800@laurel.lib.ms.us
SUMMARY:Coffee Connection @LAU
DESCRIPTION:Join us for a relaxing time of coffee and conversation!
URL:https://laurel.lib.ms.us/event/coffee-coloring-ljcl-2-2/2025-01-10/
LOCATION:Laurel-Jones County Library\, 530 Commerce St\, Laurel\, MS\, 39440\, United States
CATEGORIES:Laurel Branch
END:VEVENT
BEGIN:VEVENT
DTSTART;TZID=America/Chicago:20250110T150000
DTEND;TZID=America/Chicago:20250110T160000
DTSTAMP:20260423T093312
CREATED:20241119T165215Z
LAST-MODIFIED:20250220T153335Z
UID:10136424-1736521200-1736524800@laurel.lib.ms.us
SUMMARY:Coffee Connection @ELL
DESCRIPTION:Join us for a relaxing time of coffee and conversation!
URL:https://laurel.lib.ms.us/event/coffee-connection-ell/2025-01-10/
LOCATION:Ellisville Public Library\, 201 Poplar St\, Ellisville\, MS\, 39437\, United States
CATEGORIES:Ellisville Branch
END:VEVENT
BEGIN:VEVENT
DTSTART;TZID=America/Chicago:20250111T090000
DTEND;TZID=America/Chicago:20250111T110000
DTSTAMP:20260423T093312
CREATED:20240807T151705Z
LAST-MODIFIED:20250124T175244Z
UID:10135792-1736586000-1736593200@laurel.lib.ms.us
SUMMARY:Checkmates Chess Social @LAU
DESCRIPTION:Come play chess with other chess enthusiasts!
URL:https://laurel.lib.ms.us/event/chess-hours-lau/2025-01-11/
LOCATION:Laurel-Jones County Library\, 530 Commerce St\, Laurel\, MS\, 39440\, United States
CATEGORIES:Laurel Branch
END:VEVENT
BEGIN:VEVENT
DTSTART;TZID=America/Chicago:20250114T180000
DTEND;TZID=America/Chicago:20250114T190000
DTSTAMP:20260423T093312
CREATED:20230127T154814Z
LAST-MODIFIED:20250522T150523Z
UID:10132440-1736877600-1736881200@laurel.lib.ms.us
SUMMARY:LEGO® Club @LAU
DESCRIPTION:Join us each month to to complete a LEGO® challenge!
URL:https://laurel.lib.ms.us/event/lego-club/2025-01-14/
LOCATION:Laurel-Jones County Library\, 530 Commerce St\, Laurel\, MS\, 39440\, United States
CATEGORIES:Laurel Branch
ATTACH;FMTTYPE=image/png:https://laurel.lib.ms.us/wp-content/uploads/2023/02/LEGO-Club.png
END:VEVENT
BEGIN:VEVENT
DTSTART;TZID=America/Chicago:20250118T100000
DTEND;TZID=America/Chicago:20250118T120000
DTSTAMP:20260423T093312
CREATED:20250108T222243Z
LAST-MODIFIED:20250522T151029Z
UID:10134632-1737194400-1737201600@laurel.lib.ms.us
SUMMARY:The 641 Cookbook Club @ELL
DESCRIPTION:Bring your prepared dish for everyone to sample and recipe to share!  \n  \nPlease note that we are meeting at the Ellisville Public Library instead of the Laurel-Jones County Library this month due to the parade.
URL:https://laurel.lib.ms.us/event/the-641-cookbook-club-lau-3/
LOCATION:Ellisville Public Library\, 201 Poplar St\, Ellisville\, MS\, 39437\, United States
CATEGORIES:Ellisville Branch
ATTACH;FMTTYPE=image/png:https://laurel.lib.ms.us/wp-content/uploads/2023/02/The-641-Cookbook-Club.png
END:VEVENT
BEGIN:VEVENT
DTSTART;TZID=America/Chicago:20250125T101500
DTEND;TZID=America/Chicago:20250125T130000
DTSTAMP:20260423T093312
CREATED:20250124T192338Z
LAST-MODIFIED:20250124T192338Z
UID:10132080-1737800100-1737810000@laurel.lib.ms.us
SUMMARY:JCGHO @LAU
DESCRIPTION:The Jones County Genealogical and Historical Organization (JCGHO) hosts a monthly meeting in the upstairs meeting room on the fourth Saturday of every month at 10:15 a.m.
URL:https://laurel.lib.ms.us/event/jcgho-ljcl-2/2025-01-25/
LOCATION:Laurel-Jones County Library\, 530 Commerce St\, Laurel\, MS\, 39440\, United States
CATEGORIES:Laurel Branch
ATTACH;FMTTYPE=image/png:https://laurel.lib.ms.us/wp-content/uploads/2023/02/JCGHO.png
END:VEVENT
BEGIN:VEVENT
DTSTART;TZID=America/Chicago:20250128T170000
DTEND;TZID=America/Chicago:20250128T190000
DTSTAMP:20260423T093312
CREATED:20250108T174236Z
LAST-MODIFIED:20250701T201908Z
UID:10136681-1738083600-1738090800@laurel.lib.ms.us
SUMMARY:Book Talk @LAU
DESCRIPTION:Come enjoy the company of fellow readers at our NEW after-hours book club!  Book Talk is a no pressure\, no assigned reading book club for book lovers to share their thoughts on whatever they’re currently reading with others.  From 5-6 PM we will have a quiet reading hour for you to just unwind from the day with your book.  Group discussion starts at 6 PM where we go around sharing what we like/dislike about our current reads and get or give book recommendations.  This is a book club for adults (age 18+); Readers of any genre and any format (physical\, ebook\, audio) are welcome!
URL:https://laurel.lib.ms.us/event/book-talk-lau/2025-01-28/
LOCATION:Laurel-Jones County Library\, 530 Commerce St\, Laurel\, MS\, 39440\, United States
CATEGORIES:Laurel Branch
END:VEVENT
BEGIN:VEVENT
DTSTART;TZID=America/Chicago:20250131T180000
DTEND;TZID=America/Chicago:20250131T200000
DTSTAMP:20260423T093312
CREATED:20250123T193215Z
LAST-MODIFIED:20250522T150611Z
UID:10131659-1738346400-1738353600@laurel.lib.ms.us
SUMMARY:BINGO @LAU
DESCRIPTION:Play BINGO\, win prizes! 1 free card per person. Get an additional card with your library card! Concessions available.
URL:https://laurel.lib.ms.us/event/bingo-night-ljcl-3/2025-01-31/
LOCATION:Laurel-Jones County Library\, 530 Commerce St\, Laurel\, MS\, 39440\, United States
CATEGORIES:Laurel Branch
END:VEVENT
END:VCALENDAR