BEGIN:VCALENDAR
VERSION:2.0
PRODID:-//Laurel Library - ECPv6.15.20//NONSGML v1.0//EN
CALSCALE:GREGORIAN
METHOD:PUBLISH
X-WR-CALNAME:Laurel Library
X-ORIGINAL-URL:https://laurel.lib.ms.us
X-WR-CALDESC:Events for Laurel Library
REFRESH-INTERVAL;VALUE=DURATION:PT1H
X-Robots-Tag:noindex
X-PUBLISHED-TTL:PT1H
BEGIN:VTIMEZONE
TZID:America/Chicago
BEGIN:DAYLIGHT
TZOFFSETFROM:-0600
TZOFFSETTO:-0500
TZNAME:CDT
DTSTART:20230312T080000
END:DAYLIGHT
BEGIN:STANDARD
TZOFFSETFROM:-0500
TZOFFSETTO:-0600
TZNAME:CST
DTSTART:20231105T070000
END:STANDARD
BEGIN:DAYLIGHT
TZOFFSETFROM:-0600
TZOFFSETTO:-0500
TZNAME:CDT
DTSTART:20240310T080000
END:DAYLIGHT
BEGIN:STANDARD
TZOFFSETFROM:-0500
TZOFFSETTO:-0600
TZNAME:CST
DTSTART:20241103T070000
END:STANDARD
BEGIN:DAYLIGHT
TZOFFSETFROM:-0600
TZOFFSETTO:-0500
TZNAME:CDT
DTSTART:20250309T080000
END:DAYLIGHT
BEGIN:STANDARD
TZOFFSETFROM:-0500
TZOFFSETTO:-0600
TZNAME:CST
DTSTART:20251102T070000
END:STANDARD
END:VTIMEZONE
BEGIN:VEVENT
DTSTART;TZID=America/Chicago:20241203T100000
DTEND;TZID=America/Chicago:20241203T123000
DTSTAMP:20260423T111107
CREATED:20241119T170332Z
LAST-MODIFIED:20250523T130422Z
UID:10136478-1733220000-1733229000@laurel.lib.ms.us
SUMMARY:The Promise of Good Things: Floral Design for the Fall and Winter Holiday Season @LAU
DESCRIPTION:It’s time to learn about holiday floral designs made from Mississippi-grown materials! Join us in Laurel and learn about the beautiful evergreens\, berries\, branches\, cones and how they can be combined with other materials to make stunning holiday arrangements. In this morning program\, floral enthusiasts\, floral designers\, gardeners\, flower farmers\, and anyone who loves flowers will gain valuable ideas for seasonal floral designs. \nSpeakers for the event include Dr. Tricia Knight\, Research Professor; Dr. Christine Coker\, Extension/Research Professor; and Dr. Jim DelPrince\, Extension Associate Professor. These speakers will provide information about woody plant materials that can be grown\, cut\, and arranged in Mississippi and beyond. \nLearn more about the MSU Extension Master Floral Designer program!
URL:https://laurel.lib.ms.us/event/the-promise-of-good-things-floral-design-for-the-fall-and-winter-holiday-season-lau/
LOCATION:Laurel-Jones County Library\, 530 Commerce St\, Laurel\, MS\, 39440\, United States
CATEGORIES:Laurel Branch
END:VEVENT
BEGIN:VEVENT
DTSTART;TZID=America/Chicago:20241210T180000
DTEND;TZID=America/Chicago:20241210T190000
DTSTAMP:20260423T111107
CREATED:20230127T154814Z
LAST-MODIFIED:20250522T150523Z
UID:10136490-1733853600-1733857200@laurel.lib.ms.us
SUMMARY:LEGO® Club @LAU
DESCRIPTION:Join us each month to to complete a LEGO® challenge!
URL:https://laurel.lib.ms.us/event/lego-club/2024-12-10/
LOCATION:Laurel-Jones County Library\, 530 Commerce St\, Laurel\, MS\, 39440\, United States
CATEGORIES:Laurel Branch
ATTACH;FMTTYPE=image/png:https://laurel.lib.ms.us/wp-content/uploads/2023/02/LEGO-Club.png
END:VEVENT
BEGIN:VEVENT
DTSTART;TZID=America/Chicago:20241213T100000
DTEND;TZID=America/Chicago:20241213T110000
DTSTAMP:20260423T111107
CREATED:20241119T165036Z
LAST-MODIFIED:20250522T151025Z
UID:10132133-1734084000-1734087600@laurel.lib.ms.us
SUMMARY:Coffee Connection @LAU
DESCRIPTION:Join us for a relaxing time of coffee and conversation!
URL:https://laurel.lib.ms.us/event/coffee-coloring-ljcl-2-2/2024-12-13/
LOCATION:Laurel-Jones County Library\, 530 Commerce St\, Laurel\, MS\, 39440\, United States
CATEGORIES:Laurel Branch
END:VEVENT
BEGIN:VEVENT
DTSTART;TZID=America/Chicago:20241213T150000
DTEND;TZID=America/Chicago:20241213T160000
DTSTAMP:20260423T111107
CREATED:20241119T165215Z
LAST-MODIFIED:20250220T153335Z
UID:10136423-1734102000-1734105600@laurel.lib.ms.us
SUMMARY:Coffee Connection @ELL
DESCRIPTION:Join us for a relaxing time of coffee and conversation!
URL:https://laurel.lib.ms.us/event/coffee-connection-ell/2024-12-13/
LOCATION:Ellisville Public Library\, 201 Poplar St\, Ellisville\, MS\, 39437\, United States
CATEGORIES:Ellisville Branch
END:VEVENT
BEGIN:VEVENT
DTSTART;TZID=America/Chicago:20241213T180000
DTEND;TZID=America/Chicago:20241213T190000
DTSTAMP:20260423T111107
CREATED:20241122T200902Z
LAST-MODIFIED:20250523T130426Z
UID:10136495-1734112800-1734116400@laurel.lib.ms.us
SUMMARY:Mocktails and Masterpieces @LAU
DESCRIPTION:Join us for a fun-filled evening of painting your own monochromatic masterpiece while sipping on delicious mocktails\, perfect for serving this holiday season! \n  \nClick here to purchase your tickets!
URL:https://laurel.lib.ms.us/event/mocktails-and-masterpieces-lau/
LOCATION:Laurel-Jones County Library\, 530 Commerce St\, Laurel\, MS\, 39440\, United States
CATEGORIES:Laurel Branch
END:VEVENT
BEGIN:VEVENT
DTSTART;TZID=America/Chicago:20241214T090000
DTEND;TZID=America/Chicago:20241214T110000
DTSTAMP:20260423T111107
CREATED:20240807T151705Z
LAST-MODIFIED:20250124T175244Z
UID:10135791-1734166800-1734174000@laurel.lib.ms.us
SUMMARY:Checkmates Chess Social @LAU
DESCRIPTION:Come play chess with other chess enthusiasts!
URL:https://laurel.lib.ms.us/event/chess-hours-lau/2024-12-14/
LOCATION:Laurel-Jones County Library\, 530 Commerce St\, Laurel\, MS\, 39440\, United States
CATEGORIES:Laurel Branch
END:VEVENT
BEGIN:VEVENT
DTSTART;TZID=America/Chicago:20241214T100000
DTEND;TZID=America/Chicago:20241214T120000
DTSTAMP:20260423T111107
CREATED:20231206T152157Z
LAST-MODIFIED:20250523T130440Z
UID:10134631-1734170400-1734177600@laurel.lib.ms.us
SUMMARY:The 641 Cookbook Club @LAU
DESCRIPTION:Bring your prepared dish for everyone to sample and recipe to share!
URL:https://laurel.lib.ms.us/event/the-641-cookbook-club-lau-2/
LOCATION:Laurel-Jones County Library\, 530 Commerce St\, Laurel\, MS\, 39440\, United States
CATEGORIES:Laurel Branch
ATTACH;FMTTYPE=image/png:https://laurel.lib.ms.us/wp-content/uploads/2023/02/The-641-Cookbook-Club.png
END:VEVENT
BEGIN:VEVENT
DTSTART;TZID=America/Chicago:20241214T100000
DTEND;TZID=America/Chicago:20241214T120000
DTSTAMP:20260423T111107
CREATED:20241010T132232Z
LAST-MODIFIED:20250523T130446Z
UID:10135930-1734170400-1734177600@laurel.lib.ms.us
SUMMARY:Writer's Camp @ELL
DESCRIPTION:Come join us at the Ellisville Public Library for a unique event focused on honing your storytelling skills! Whether you’re an experienced writer or just starting out\, this workshop is perfect for anyone looking to delve into the art of telling a true-life story. Learn how to captivate your audience\, evoke emotions\, and bring your personal experiences to life on paper. There is a $10 fee per person to attend workshop. Get a chance to share your story ideas with instructors. \nIf you have a question\, contact: HeartsCompassImprint@yahoo.com
URL:https://laurel.lib.ms.us/event/writers-camp-ell-5/
LOCATION:Ellisville Public Library\, 201 Poplar St\, Ellisville\, MS\, 39437\, United States
CATEGORIES:Ellisville Branch
ORGANIZER;CN="Pamela Hatch":MAILTO:HeartsCompassImprint@yahoo.com
END:VEVENT
BEGIN:VEVENT
DTSTART;TZID=America/Chicago:20241218T100000
DTEND;TZID=America/Chicago:20241218T120000
DTSTAMP:20260423T111107
CREATED:20241119T164524Z
LAST-MODIFIED:20250523T130452Z
UID:10137103-1734516000-1734523200@laurel.lib.ms.us
SUMMARY:Computer Help @ELL
DESCRIPTION:Computer classes for those interested in learning about the basics of computer use and internet access. \n  \nFor questions concerning Computer Help\, please contact Wesley Austin at waustin@laurel.lib.ms.us
URL:https://laurel.lib.ms.us/event/computer-help-epl-2-2-2/2024-12-18/
LOCATION:Ellisville Public Library\, 201 Poplar St\, Ellisville\, MS\, 39437\, United States
CATEGORIES:Ellisville Branch
END:VEVENT
END:VCALENDAR