BEGIN:VCALENDAR
VERSION:2.0
PRODID:-//Laurel Library - ECPv6.15.20//NONSGML v1.0//EN
CALSCALE:GREGORIAN
METHOD:PUBLISH
X-ORIGINAL-URL:https://laurel.lib.ms.us
X-WR-CALDESC:Events for Laurel Library
REFRESH-INTERVAL;VALUE=DURATION:PT1H
X-Robots-Tag:noindex
X-PUBLISHED-TTL:PT1H
BEGIN:VTIMEZONE
TZID:America/Chicago
BEGIN:DAYLIGHT
TZOFFSETFROM:-0600
TZOFFSETTO:-0500
TZNAME:CDT
DTSTART:20230312T080000
END:DAYLIGHT
BEGIN:STANDARD
TZOFFSETFROM:-0500
TZOFFSETTO:-0600
TZNAME:CST
DTSTART:20231105T070000
END:STANDARD
BEGIN:DAYLIGHT
TZOFFSETFROM:-0600
TZOFFSETTO:-0500
TZNAME:CDT
DTSTART:20240310T080000
END:DAYLIGHT
BEGIN:STANDARD
TZOFFSETFROM:-0500
TZOFFSETTO:-0600
TZNAME:CST
DTSTART:20241103T070000
END:STANDARD
BEGIN:DAYLIGHT
TZOFFSETFROM:-0600
TZOFFSETTO:-0500
TZNAME:CDT
DTSTART:20250309T080000
END:DAYLIGHT
BEGIN:STANDARD
TZOFFSETFROM:-0500
TZOFFSETTO:-0600
TZNAME:CST
DTSTART:20251102T070000
END:STANDARD
END:VTIMEZONE
BEGIN:VEVENT
DTSTART;TZID=America/Chicago:20240904T100000
DTEND;TZID=America/Chicago:20240904T120000
DTSTAMP:20260423T185637
CREATED:20231206T154857Z
LAST-MODIFIED:20250523T132524Z
UID:10131719-1725444000-1725451200@laurel.lib.ms.us
SUMMARY:Computer Help @LAU
DESCRIPTION:Computer classes for those interested in learning about the basics of computer use and internet access. \n For questions concerning Computer Help\, please contact Wesley Austin at waustin@laurel.lib.ms.us
URL:https://laurel.lib.ms.us/event/computer-help-ljcl-2/2024-09-04/
LOCATION:Laurel-Jones County Library\, 530 Commerce St\, Laurel\, MS\, 39440\, United States
CATEGORIES:Laurel Branch
END:VEVENT
BEGIN:VEVENT
DTSTART;TZID=America/Chicago:20240907T100000
DTEND;TZID=America/Chicago:20240907T120000
DTSTAMP:20260423T185637
CREATED:20240807T150302Z
LAST-MODIFIED:20250523T133301Z
UID:10135780-1725703200-1725710400@laurel.lib.ms.us
SUMMARY:Back to Hogwarts @LAU
DESCRIPTION:More information coming soon.
URL:https://laurel.lib.ms.us/event/back-to-hogwarts-lau/
LOCATION:Laurel-Jones County Library\, 530 Commerce St\, Laurel\, MS\, 39440\, United States
CATEGORIES:Laurel Branch
END:VEVENT
BEGIN:VEVENT
DTSTART;TZID=America/Chicago:20240910T180000
DTEND;TZID=America/Chicago:20240910T190000
DTSTAMP:20260423T185637
CREATED:20230127T154814Z
LAST-MODIFIED:20250522T150523Z
UID:10132436-1725991200-1725994800@laurel.lib.ms.us
SUMMARY:LEGO® Club @LAU
DESCRIPTION:Join us each month to to complete a LEGO® challenge!
URL:https://laurel.lib.ms.us/event/lego-club/2024-09-10/
LOCATION:Laurel-Jones County Library\, 530 Commerce St\, Laurel\, MS\, 39440\, United States
CATEGORIES:Laurel Branch
ATTACH;FMTTYPE=image/png:https://laurel.lib.ms.us/wp-content/uploads/2023/02/LEGO-Club.png
END:VEVENT
BEGIN:VEVENT
DTSTART;TZID=America/Chicago:20240913T100000
DTEND;TZID=America/Chicago:20240913T110000
DTSTAMP:20260423T185637
CREATED:20231206T160301Z
LAST-MODIFIED:20250523T132452Z
UID:10132130-1726221600-1726225200@laurel.lib.ms.us
SUMMARY:Coloring & Coffee @LAU
DESCRIPTION:Join us for a relaxing time of coloring and conversation!
URL:https://laurel.lib.ms.us/event/coffee-coloring-ljcl-2/2024-09-13/
LOCATION:Laurel-Jones County Library\, 530 Commerce St\, Laurel\, MS\, 39440\, United States
CATEGORIES:Laurel Branch
END:VEVENT
BEGIN:VEVENT
DTSTART;TZID=America/Chicago:20240914T090000
DTEND;TZID=America/Chicago:20240914T110000
DTSTAMP:20260423T185637
CREATED:20240807T151705Z
LAST-MODIFIED:20250124T175244Z
UID:10135788-1726304400-1726311600@laurel.lib.ms.us
SUMMARY:Checkmates Chess Social @LAU
DESCRIPTION:Come play chess with other chess enthusiasts!
URL:https://laurel.lib.ms.us/event/chess-hours-lau/2024-09-14/
LOCATION:Laurel-Jones County Library\, 530 Commerce St\, Laurel\, MS\, 39440\, United States
CATEGORIES:Laurel Branch
END:VEVENT
BEGIN:VEVENT
DTSTART;TZID=America/Chicago:20240914T100000
DTEND;TZID=America/Chicago:20240914T120000
DTSTAMP:20260423T185637
CREATED:20240823T184436Z
LAST-MODIFIED:20250523T130833Z
UID:10135865-1726308000-1726315200@laurel.lib.ms.us
SUMMARY:Writer's Camp @ELL
DESCRIPTION:Welcome to WRITER’S CAMP – The Power of Words! Join us at the Ellisville Public Library for a day filled with creativity and inspiration. This event is perfect for aspiring writers\, seasoned authors\, and anyone who simply loves words. Immerse yourself in workshops\, discussions\, and activities designed to ignite your passion for writing. Connect with like-minded individuals and unleash the power of your words. \nPart of an ongoing series of workshops by WRITER’S CAMP designed to help individuals learn new writing skills\, build confidence as a writer\, and offer publishing opportunities. \nThis workshop focuses on the power of words and making sure you as author have chosen the right word to use for your project\, your audience\, and your purpose. \n\n\n\n\n\n\n\nRegister on Eventbrite. Presented by Pamela Hatch.
URL:https://laurel.lib.ms.us/event/writers-camp-ell-2/
LOCATION:Ellisville Public Library\, 201 Poplar St\, Ellisville\, MS\, 39437\, United States
CATEGORIES:Ellisville Branch
ORGANIZER;CN="Pamela Hatch":MAILTO:HeartsCompassImprint@yahoo.com
END:VEVENT
BEGIN:VEVENT
DTSTART;TZID=America/Chicago:20240918T100000
DTEND;TZID=America/Chicago:20240918T120000
DTSTAMP:20260423T185637
CREATED:20231206T154743Z
LAST-MODIFIED:20250522T150039Z
UID:10134912-1726653600-1726660800@laurel.lib.ms.us
SUMMARY:Computer Help @ELL
DESCRIPTION:Computer classes for those interested in learning about the basics of computer use and internet access. \n  \nFor questions concerning Computer Help\, please contact Wesley Austin at waustin@laurel.lib.ms.us
URL:https://laurel.lib.ms.us/event/computer-help-epl-2-2/2024-09-18/
LOCATION:Ellisville Public Library\, 201 Poplar St\, Ellisville\, MS\, 39437\, United States
CATEGORIES:Ellisville Branch
END:VEVENT
BEGIN:VEVENT
DTSTART;TZID=America/Chicago:20240919T120000
DTEND;TZID=America/Chicago:20240919T130000
DTSTAMP:20260423T185637
CREATED:20240910T145948Z
LAST-MODIFIED:20250523T133311Z
UID:10131596-1726747200-1726750800@laurel.lib.ms.us
SUMMARY:Book Worms Book Club @LAU
DESCRIPTION:Postponed due to weather! Join us as we discuss this month’s book selection!
URL:https://laurel.lib.ms.us/event/book-worms-book-club-lau-2/
LOCATION:Laurel-Jones County Library\, 530 Commerce St\, Laurel\, MS\, 39440\, United States
CATEGORIES:Laurel Branch
ATTACH;FMTTYPE=image/png:https://laurel.lib.ms.us/wp-content/uploads/2023/02/Laurel-Bookclub.png
END:VEVENT
BEGIN:VEVENT
DTSTART;TZID=America/Chicago:20240919T173000
DTEND;TZID=America/Chicago:20240919T183000
DTSTAMP:20260423T185637
CREATED:20240910T180914Z
LAST-MODIFIED:20250523T130838Z
UID:10135249-1726767000-1726770600@laurel.lib.ms.us
SUMMARY:Books & Brew Book Club @ELL
DESCRIPTION:Postponed due to weather. Join us with at the Ellisville Public Library as we discuss this month’s book selection!
URL:https://laurel.lib.ms.us/event/books-brew-book-club-ell-2/
LOCATION:Ellisville Public Library\, 201 Poplar St\, Ellisville\, MS\, 39437\, United States
CATEGORIES:Ellisville Branch
ATTACH;FMTTYPE=image/png:https://laurel.lib.ms.us/wp-content/uploads/2023/02/Ellisville-Book-Club.png
END:VEVENT
BEGIN:VEVENT
DTSTART;TZID=America/Chicago:20240921T110000
DTEND;TZID=America/Chicago:20240921T120000
DTSTAMP:20260423T185637
CREATED:20230908T194016Z
LAST-MODIFIED:20250522T150620Z
UID:10136752-1726916400-1726920000@laurel.lib.ms.us
SUMMARY:The 641 Cookbook Club @LAU
DESCRIPTION:Bring your prepared dish for everyone to sample and recipe to share!
URL:https://laurel.lib.ms.us/event/the-641-cookbook-club-2-3-2/2024-09-21/
LOCATION:Laurel-Jones County Library\, 530 Commerce St\, Laurel\, MS\, 39440\, United States
CATEGORIES:Laurel Branch
ATTACH;FMTTYPE=image/png:https://laurel.lib.ms.us/wp-content/uploads/2023/02/The-641-Cookbook-Club.png
END:VEVENT
BEGIN:VEVENT
DTSTART;TZID=America/Chicago:20240923T140000
DTEND;TZID=America/Chicago:20240923T153000
DTSTAMP:20260423T185637
CREATED:20240718T131844Z
LAST-MODIFIED:20250523T130603Z
UID:10135547-1727100000-1727105400@laurel.lib.ms.us
SUMMARY:Senior Circle @LAU
DESCRIPTION:Senior Circle will be a two-hour program for Seniors to experience:\n \n\nSocial Interaction\nInteractive Games\nThemed Events\nMemory Time\nGuest Speakers\nand more!
URL:https://laurel.lib.ms.us/event/senior-social-circle-3-2/2024-09-23/
LOCATION:MS
CATEGORIES:Laurel Branch
END:VEVENT
BEGIN:VEVENT
DTSTART;TZID=America/Chicago:20240928T101500
DTEND;TZID=America/Chicago:20240928T130000
DTSTAMP:20260423T185637
CREATED:20230126T211121Z
LAST-MODIFIED:20250205T162518Z
UID:10132078-1727518500-1727528400@laurel.lib.ms.us
SUMMARY:JCGHO @LAU
DESCRIPTION:The Jones County Genealogical and Historical Organization (JCGHO) hosts a monthly meeting in the upstairs meeting room on the fourth Saturday of every month at 10:15 a.m.
URL:https://laurel.lib.ms.us/event/jcgho-ljcl/2024-09-28/
LOCATION:Laurel-Jones County Library\, 530 Commerce St\, Laurel\, MS\, 39440\, United States
CATEGORIES:Laurel Branch
ATTACH;FMTTYPE=image/png:https://laurel.lib.ms.us/wp-content/uploads/2023/02/JCGHO.png
END:VEVENT
END:VCALENDAR