BEGIN:VCALENDAR
VERSION:2.0
PRODID:-//Laurel Library - ECPv6.15.20//NONSGML v1.0//EN
CALSCALE:GREGORIAN
METHOD:PUBLISH
X-ORIGINAL-URL:https://laurel.lib.ms.us
X-WR-CALDESC:Events for Laurel Library
REFRESH-INTERVAL;VALUE=DURATION:PT1H
X-Robots-Tag:noindex
X-PUBLISHED-TTL:PT1H
BEGIN:VTIMEZONE
TZID:America/Chicago
BEGIN:DAYLIGHT
TZOFFSETFROM:-0600
TZOFFSETTO:-0500
TZNAME:CDT
DTSTART:20230312T080000
END:DAYLIGHT
BEGIN:STANDARD
TZOFFSETFROM:-0500
TZOFFSETTO:-0600
TZNAME:CST
DTSTART:20231105T070000
END:STANDARD
BEGIN:DAYLIGHT
TZOFFSETFROM:-0600
TZOFFSETTO:-0500
TZNAME:CDT
DTSTART:20240310T080000
END:DAYLIGHT
BEGIN:STANDARD
TZOFFSETFROM:-0500
TZOFFSETTO:-0600
TZNAME:CST
DTSTART:20241103T070000
END:STANDARD
BEGIN:DAYLIGHT
TZOFFSETFROM:-0600
TZOFFSETTO:-0500
TZNAME:CDT
DTSTART:20250309T080000
END:DAYLIGHT
BEGIN:STANDARD
TZOFFSETFROM:-0500
TZOFFSETTO:-0600
TZNAME:CST
DTSTART:20251102T070000
END:STANDARD
END:VTIMEZONE
BEGIN:VEVENT
DTSTART;TZID=America/Chicago:20240501T100000
DTEND;TZID=America/Chicago:20240501T120000
DTSTAMP:20260424T000238
CREATED:20231206T154857Z
LAST-MODIFIED:20250523T132524Z
UID:10131715-1714557600-1714564800@laurel.lib.ms.us
SUMMARY:Computer Help @LAU
DESCRIPTION:Computer classes for those interested in learning about the basics of computer use and internet access. \n For questions concerning Computer Help\, please contact Wesley Austin at waustin@laurel.lib.ms.us
URL:https://laurel.lib.ms.us/event/computer-help-ljcl-2/2024-05-01/
LOCATION:Laurel-Jones County Library\, 530 Commerce St\, Laurel\, MS\, 39440\, United States
CATEGORIES:Laurel Branch
END:VEVENT
BEGIN:VEVENT
DTSTART;TZID=America/Chicago:20240509T173000
DTEND;TZID=America/Chicago:20240509T183000
DTSTAMP:20260424T000238
CREATED:20240312T142750Z
LAST-MODIFIED:20250205T162938Z
UID:10135245-1715275800-1715279400@laurel.lib.ms.us
SUMMARY:Books & Brew Book Club @ELL
DESCRIPTION:Join us with at the Ellisville Public Library as we discuss this month’s book selection!
URL:https://laurel.lib.ms.us/event/books-brew-book-club-2-2-2/2024-05-09/
LOCATION:Ellisville Public Library\, 201 Poplar St\, Ellisville\, MS\, 39437\, United States
CATEGORIES:Ellisville Branch
ATTACH;FMTTYPE=image/png:https://laurel.lib.ms.us/wp-content/uploads/2023/02/Ellisville-Book-Club.png
END:VEVENT
BEGIN:VEVENT
DTSTART;TZID=America/Chicago:20240510T100000
DTEND;TZID=America/Chicago:20240510T110000
DTSTAMP:20260424T000238
CREATED:20231206T160301Z
LAST-MODIFIED:20250523T132452Z
UID:10132126-1715335200-1715338800@laurel.lib.ms.us
SUMMARY:Coloring & Coffee @LAU
DESCRIPTION:Join us for a relaxing time of coloring and conversation!
URL:https://laurel.lib.ms.us/event/coffee-coloring-ljcl-2/2024-05-10/
LOCATION:Laurel-Jones County Library\, 530 Commerce St\, Laurel\, MS\, 39440\, United States
CATEGORIES:Laurel Branch
END:VEVENT
BEGIN:VEVENT
DTSTART;TZID=America/Chicago:20240514T180000
DTEND;TZID=America/Chicago:20240514T190000
DTSTAMP:20260424T000238
CREATED:20230127T154814Z
LAST-MODIFIED:20250522T150523Z
UID:10132432-1715709600-1715713200@laurel.lib.ms.us
SUMMARY:LEGO® Club @LAU
DESCRIPTION:Join us each month to to complete a LEGO® challenge!
URL:https://laurel.lib.ms.us/event/lego-club/2024-05-14/
LOCATION:Laurel-Jones County Library\, 530 Commerce St\, Laurel\, MS\, 39440\, United States
CATEGORIES:Laurel Branch
ATTACH;FMTTYPE=image/png:https://laurel.lib.ms.us/wp-content/uploads/2023/02/LEGO-Club.png
END:VEVENT
BEGIN:VEVENT
DTSTART;TZID=America/Chicago:20240515T100000
DTEND;TZID=America/Chicago:20240515T120000
DTSTAMP:20260424T000238
CREATED:20231206T154743Z
LAST-MODIFIED:20250522T150039Z
UID:10134909-1715767200-1715774400@laurel.lib.ms.us
SUMMARY:Computer Help @ELL
DESCRIPTION:Computer classes for those interested in learning about the basics of computer use and internet access. \n  \nFor questions concerning Computer Help\, please contact Wesley Austin at waustin@laurel.lib.ms.us
URL:https://laurel.lib.ms.us/event/computer-help-epl-2-2/2024-05-15/
LOCATION:Ellisville Public Library\, 201 Poplar St\, Ellisville\, MS\, 39437\, United States
CATEGORIES:Ellisville Branch
END:VEVENT
BEGIN:VEVENT
DTSTART;TZID=America/Chicago:20240516T180000
DTEND;TZID=America/Chicago:20240516T190000
DTSTAMP:20260424T000238
CREATED:20230328T154217Z
LAST-MODIFIED:20250205T162213Z
UID:10134386-1715882400-1715886000@laurel.lib.ms.us
SUMMARY:LEGO® Club @ELL
DESCRIPTION:Join us each month to to complete a LEGO® challenge!
URL:https://laurel.lib.ms.us/event/lego-club-epl/2024-05-16/
LOCATION:Ellisville Public Library\, 201 Poplar St\, Ellisville\, MS\, 39437\, United States
CATEGORIES:Ellisville Branch
ATTACH;FMTTYPE=image/png:https://laurel.lib.ms.us/wp-content/uploads/2023/02/LEGO-Club.png
END:VEVENT
BEGIN:VEVENT
DTSTART;TZID=America/Chicago:20240518T110000
DTEND;TZID=America/Chicago:20240518T120000
DTSTAMP:20260424T000238
CREATED:20230908T194016Z
LAST-MODIFIED:20250522T150620Z
UID:10136749-1716030000-1716033600@laurel.lib.ms.us
SUMMARY:The 641 Cookbook Club @LAU
DESCRIPTION:Bring your prepared dish for everyone to sample and recipe to share!
URL:https://laurel.lib.ms.us/event/the-641-cookbook-club-2-3-2/2024-05-18/
LOCATION:Laurel-Jones County Library\, 530 Commerce St\, Laurel\, MS\, 39440\, United States
CATEGORIES:Laurel Branch
ATTACH;FMTTYPE=image/png:https://laurel.lib.ms.us/wp-content/uploads/2023/02/The-641-Cookbook-Club.png
END:VEVENT
BEGIN:VEVENT
DTSTART;TZID=America/Chicago:20240520T140000
DTEND;TZID=America/Chicago:20240520T153000
DTSTAMP:20260424T000238
CREATED:20231206T164305Z
LAST-MODIFIED:20250523T133059Z
UID:10135059-1716213600-1716219000@laurel.lib.ms.us
SUMMARY:Senior Social Circle @LAU
DESCRIPTION:A program for senior citizens to socialize.
URL:https://laurel.lib.ms.us/event/senior-social-circle-2/
LOCATION:MS
CATEGORIES:Laurel Branch
END:VEVENT
BEGIN:VEVENT
DTSTART;TZID=America/Chicago:20240525T101500
DTEND;TZID=America/Chicago:20240525T130000
DTSTAMP:20260424T000238
CREATED:20240404T134642Z
LAST-MODIFIED:20250523T133109Z
UID:10132074-1716632100-1716642000@laurel.lib.ms.us
SUMMARY:JCGHO @The Deason Home
DESCRIPTION:The Jones County Genealogical and Historical Organization (JCGHO) hosts a monthly meeting in the upstairs meeting room on the fourth Saturday of every month at 10:15 a.m. \nThis month we will be having a special meeting at the Deason Home in Ellisville.
URL:https://laurel.lib.ms.us/event/jcgho-lau/
LOCATION:The Deason Home\, 410 Deason St\, Ellisville\, 39437\, United States
CATEGORIES:Laurel Branch
ATTACH;FMTTYPE=image/png:https://laurel.lib.ms.us/wp-content/uploads/2023/02/JCGHO.png
END:VEVENT
END:VCALENDAR