BEGIN:VCALENDAR
VERSION:2.0
PRODID:-//Laurel Library - ECPv6.15.20//NONSGML v1.0//EN
CALSCALE:GREGORIAN
METHOD:PUBLISH
X-WR-CALNAME:Laurel Library
X-ORIGINAL-URL:https://laurel.lib.ms.us
X-WR-CALDESC:Events for Laurel Library
REFRESH-INTERVAL;VALUE=DURATION:PT1H
X-Robots-Tag:noindex
X-PUBLISHED-TTL:PT1H
BEGIN:VTIMEZONE
TZID:America/Chicago
BEGIN:DAYLIGHT
TZOFFSETFROM:-0600
TZOFFSETTO:-0500
TZNAME:CDT
DTSTART:20250309T080000
END:DAYLIGHT
BEGIN:STANDARD
TZOFFSETFROM:-0500
TZOFFSETTO:-0600
TZNAME:CST
DTSTART:20251102T070000
END:STANDARD
BEGIN:DAYLIGHT
TZOFFSETFROM:-0600
TZOFFSETTO:-0500
TZNAME:CDT
DTSTART:20260308T080000
END:DAYLIGHT
BEGIN:STANDARD
TZOFFSETFROM:-0500
TZOFFSETTO:-0600
TZNAME:CST
DTSTART:20261101T070000
END:STANDARD
BEGIN:DAYLIGHT
TZOFFSETFROM:-0600
TZOFFSETTO:-0500
TZNAME:CDT
DTSTART:20270314T080000
END:DAYLIGHT
BEGIN:STANDARD
TZOFFSETFROM:-0500
TZOFFSETTO:-0600
TZNAME:CST
DTSTART:20271107T070000
END:STANDARD
END:VTIMEZONE
BEGIN:VEVENT
DTSTART;TZID=America/Chicago:20260612T130000
DTEND;TZID=America/Chicago:20260612T143000
DTSTAMP:20260423T183500
CREATED:20260420T144217Z
LAST-MODIFIED:20260420T144217Z
UID:10139054-1781269200-1781274600@laurel.lib.ms.us
SUMMARY:LOTTIE the Trolley @Sandersville
DESCRIPTION:You can find us in Sandersville at Main St. & Hwy 11.
URL:https://laurel.lib.ms.us/event/lottie-the-trolley-sandersville-12-2/2026-06-12/
LOCATION:Sandersville\, Main St.\, Sandersville\, MS\, United States
CATEGORIES:LOTTIE the Trolley
ATTACH;FMTTYPE=image/png:https://laurel.lib.ms.us/wp-content/uploads/2025/07/Header-Trolley-Stops.png
END:VEVENT
BEGIN:VEVENT
DTSTART;TZID=America/Chicago:20260611T130000
DTEND;TZID=America/Chicago:20260611T150000
DTSTAMP:20260423T183500
CREATED:20260420T144739Z
LAST-MODIFIED:20260423T141410Z
UID:10141115-1781182800-1781190000@laurel.lib.ms.us
SUMMARY:Splash Day @ELL
DESCRIPTION:Cool off at City Park next to the library with inflatable water slides and outdoor fun. Bring the whole family for a refreshing afternoon of play.
URL:https://laurel.lib.ms.us/event/splash-day-ell-3/
LOCATION:Ellisville City Park\, 402 N Church St\, Ellisville\, MS\, 39437\, United States
CATEGORIES:Ellisville Branch
ATTACH;FMTTYPE=image/png:https://laurel.lib.ms.us/wp-content/uploads/2026/04/Website-Header-SRP-2026.png
END:VEVENT
BEGIN:VEVENT
DTSTART;TZID=America/Chicago:20260611T120000
DTEND;TZID=America/Chicago:20260611T130000
DTSTAMP:20260423T183500
CREATED:20260420T144917Z
LAST-MODIFIED:20260423T141406Z
UID:10141116-1781179200-1781182800@laurel.lib.ms.us
SUMMARY:Splash Day (Sensory Sensitivity Hour)@ELL
DESCRIPTION:Cool off at City Park next to the library with inflatable water slides and outdoor fun. Bring the whole family for a refreshing afternoon of play. \nThis hour is exclusively for those with sensory sensitivities. Anyone without sensory sensitivities will need to wait until the 1 pm program to come play.
URL:https://laurel.lib.ms.us/event/splash-day-sensory-sensitivity-hourell/
LOCATION:Ellisville City Park\, 402 N Church St\, Ellisville\, MS\, 39437\, United States
CATEGORIES:Ellisville Branch
ATTACH;FMTTYPE=image/png:https://laurel.lib.ms.us/wp-content/uploads/2026/04/Website-Header-SRP-2026.png
END:VEVENT
BEGIN:VEVENT
DTSTART;TZID=America/Chicago:20260611T090000
DTEND;TZID=America/Chicago:20260611T100000
DTSTAMP:20260423T183500
CREATED:20231206T170135Z
LAST-MODIFIED:20250205T162916Z
UID:10130700-1781168400-1781172000@laurel.lib.ms.us
SUMMARY:Baby + Me @ELL
DESCRIPTION:A program exploring books\, songs\, and fun activities designed for babies and toddlers.
URL:https://laurel.lib.ms.us/event/baby-me-epl-2/2026-06-11/
LOCATION:Ellisville Public Library\, 201 Poplar St\, Ellisville\, MS\, 39437\, United States
CATEGORIES:Ellisville Branch
ATTACH;FMTTYPE=image/png:https://laurel.lib.ms.us/wp-content/uploads/2023/02/Baby-Me.png
END:VEVENT
BEGIN:VEVENT
DTSTART;VALUE=DATE:20260611
DTEND;VALUE=DATE:20260612
DTSTAMP:20260423T183500
CREATED:20230126T193949Z
LAST-MODIFIED:20260403T135022Z
UID:10136121-1781136000-1781222399@laurel.lib.ms.us
SUMMARY:Fine Free Thursday
DESCRIPTION:Return overdue books on Thursdays to have your overdue fines waived! \nPlease note that there are some rules that apply: \n\nFFT only applies to the overdue fines for books\, audiobooks\, and magazines. Other charges\, such as DVD fines\, item replacement charges\, collection agency fees\, damages\, postage\, etc.\, will not be waived.\nBooks must be returned to the desk. Fines will not be waived on books in the drop box.\nMonthly and yearly caps are in place for the amount of fines waived.\nFines are capped at $60.
URL:https://laurel.lib.ms.us/event/fine-free-thursday/2026-06-11/
LOCATION:MS
CATEGORIES:General
ATTACH;FMTTYPE=image/png:https://laurel.lib.ms.us/wp-content/uploads/2023/01/Website-Header-Fine-Free-Thursday.png
END:VEVENT
BEGIN:VEVENT
DTSTART;TZID=America/Chicago:20260610T150000
DTEND;TZID=America/Chicago:20260610T163000
DTSTAMP:20260423T183500
CREATED:20260420T144036Z
LAST-MODIFIED:20260420T144037Z
UID:10138934-1781103600-1781109000@laurel.lib.ms.us
SUMMARY:LOTTIE the Trolley @Soso
DESCRIPTION:You can find us in Soso at First Baptist Church (271 Frosty Hinton Rd).
URL:https://laurel.lib.ms.us/event/lottie-the-trolley-soso-8-2/2026-06-10/
LOCATION:First Baptist Church\, 271 Frosty Hinton Rd\, Soso\, United States
CATEGORIES:LOTTIE the Trolley
ATTACH;FMTTYPE=image/png:https://laurel.lib.ms.us/wp-content/uploads/2025/07/Header-Trolley-Stops.png
END:VEVENT
BEGIN:VEVENT
DTSTART;TZID=America/Chicago:20260610T091500
DTEND;TZID=America/Chicago:20260610T111500
DTSTAMP:20260423T183500
CREATED:20260420T144439Z
LAST-MODIFIED:20260420T144527Z
UID:10141114-1781082900-1781090100@laurel.lib.ms.us
SUMMARY:Computer Q & A @LAU
DESCRIPTION:Come join us for a question-and-answer session about anything computer and internet-related\, including laptops\, smartphones\, Apple\, Android\, Windows\, Google\, and more!
URL:https://laurel.lib.ms.us/event/computer-q-a-lau-2/2026-06-10/
LOCATION:Laurel-Jones County Library\, 530 Commerce St\, Laurel\, MS\, 39440\, United States
CATEGORIES:Laurel Branch
ATTACH;FMTTYPE=image/png:https://laurel.lib.ms.us/wp-content/uploads/2026/02/Website-Header-Computer-Classes.png
END:VEVENT
BEGIN:VEVENT
DTSTART;TZID=America/Chicago:20260609T170000
DTEND;TZID=America/Chicago:20260609T180000
DTSTAMP:20260423T183500
CREATED:20240724T213123Z
LAST-MODIFIED:20250522T150553Z
UID:10135408-1781024400-1781028000@laurel.lib.ms.us
SUMMARY:The Tween Teen Thing @LAU
DESCRIPTION:A monthly program for kids aged 10 to 15. Theme changes every month!
URL:https://laurel.lib.ms.us/event/the-tween-thing-2-2/2026-06-09/
LOCATION:Laurel-Jones County Library\, 530 Commerce St\, Laurel\, MS\, 39440\, United States
CATEGORIES:Laurel Branch
END:VEVENT
BEGIN:VEVENT
DTSTART;TZID=America/Chicago:20260609T160000
DTEND;TZID=America/Chicago:20260609T170000
DTSTAMP:20260423T183500
CREATED:20251212T204607Z
LAST-MODIFIED:20251212T220715Z
UID:10139441-1781020800-1781024400@laurel.lib.ms.us
SUMMARY:Pokémon Trainers Club @LAU
DESCRIPTION:Join us on the 2nd & 4th Tuesday of every month to hang out with other Pokémon fanatics of all ages (Yes\, adults. You\, too!)! Show off your cards\, physical or on the app! Battle against each other in Scarlet (or Violet)! Fight over which team will reign supreme in the Jones County War Memorial gym next door! Rep your favorite Pokémon with your merch collection! Discuss the newest episode of the anime! Read the old manga! A parent or adult guardian must accompany trainers under the age of 14.
URL:https://laurel.lib.ms.us/event/pokemon-trainers-club-lau/2026-06-09/
LOCATION:Laurel-Jones County Library\, 530 Commerce St\, Laurel\, MS\, 39440\, United States
CATEGORIES:Laurel Branch
ATTACH;FMTTYPE=image/png:https://laurel.lib.ms.us/wp-content/uploads/2025/07/Header-Pokemon-Trainers-Club.png
END:VEVENT
BEGIN:VEVENT
DTSTART;TZID=America/Chicago:20260609T100000
DTEND;TZID=America/Chicago:20260609T190000
DTSTAMP:20260423T183500
CREATED:20260411T135239Z
LAST-MODIFIED:20260423T143851Z
UID:10140812-1780999200-1781031600@laurel.lib.ms.us
SUMMARY:All Day LEGO®/STEAM Day @LAU
DESCRIPTION:Drop in to build\, create\, and explore LEGO and STEAM activities. LEGO creations may even be displayed in the library throughout the month.
URL:https://laurel.lib.ms.us/event/all-day-lego-club-lau/
LOCATION:Laurel-Jones County Library\, 530 Commerce St\, Laurel\, MS\, 39440\, United States
CATEGORIES:Laurel Branch
ATTACH;FMTTYPE=image/png:https://laurel.lib.ms.us/wp-content/uploads/2026/04/Website-Header-SRP-2026.png
END:VEVENT
BEGIN:VEVENT
DTSTART;TZID=America/Chicago:20260609T090000
DTEND;TZID=America/Chicago:20260609T100000
DTSTAMP:20260423T183500
CREATED:20250703T135644Z
LAST-MODIFIED:20250703T135645Z
UID:10131224-1780995600-1780999200@laurel.lib.ms.us
SUMMARY:Baby + Me @LAU
DESCRIPTION:A program exploring books\, songs\, and fun activities designed for babies and toddlers
URL:https://laurel.lib.ms.us/event/baby-me-ljcl-2-2/2026-06-09/
LOCATION:Laurel-Jones County Library\, 530 Commerce St\, Laurel\, MS\, 39440\, United States
CATEGORIES:Laurel Branch
ATTACH;FMTTYPE=image/png:https://laurel.lib.ms.us/wp-content/uploads/2023/02/Baby-Me.png
END:VEVENT
BEGIN:VEVENT
DTSTART;VALUE=DATE:20260607
DTEND;VALUE=DATE:20260608
DTSTAMP:20260423T183500
CREATED:20260106T213401Z
LAST-MODIFIED:20260106T213423Z
UID:10139909-1780790400-1780876799@laurel.lib.ms.us
SUMMARY:Closed on Sunday
DESCRIPTION:The Laurel-Jones County Library System is closed on Sundays.
URL:https://laurel.lib.ms.us/event/closed-on-sunday/2026-06-07/
LOCATION:MS
CATEGORIES:Closures
ATTACH;FMTTYPE=image/png:https://laurel.lib.ms.us/wp-content/uploads/2023/02/Generic-Closed.png
END:VEVENT
BEGIN:VEVENT
DTSTART;TZID=America/Chicago:20260604T160000
DTEND;TZID=America/Chicago:20260604T170000
DTSTAMP:20260423T183500
CREATED:20260420T144142Z
LAST-MODIFIED:20260423T140721Z
UID:10140992-1780588800-1780592400@laurel.lib.ms.us
SUMMARY:Summer Reading Kick-Off  (Sensory Sensitivity Hour)@ELL
DESCRIPTION:Join us to celebrate the start of Summer Reading with fun\, dinosaur-themed crafts and activities for all ages. Stop by to register and get ready for a summer full of reading and fun. \nThis hour is exclusively for those with sensory sensitivities.
URL:https://laurel.lib.ms.us/event/summer-reading-kick-off-sensory-sensitivity-hourell/
LOCATION:Ellisville Public Library\, 201 Poplar St\, Ellisville\, MS\, 39437\, United States
CATEGORIES:Ellisville Branch
ATTACH;FMTTYPE=image/png:https://laurel.lib.ms.us/wp-content/uploads/2026/04/Website-Header-SRP-2026.png
END:VEVENT
BEGIN:VEVENT
DTSTART;TZID=America/Chicago:20260604T150000
DTEND;TZID=America/Chicago:20260604T160000
DTSTAMP:20260423T183500
CREATED:20260420T152039Z
LAST-MODIFIED:20260420T152039Z
UID:10141358-1780585200-1780588800@laurel.lib.ms.us
SUMMARY:LOTTIE the Trolley @Moss
DESCRIPTION:You can find us at the Dollar General in Moss (5334 MS-15 N\, Laurel\, MS 39443).
URL:https://laurel.lib.ms.us/event/lottie-the-trolley-moss/2026-06-04/
LOCATION:Dollar General in Moss\, 5334 MS-15 N\, Laurel\, MS\, 39443\, United States
CATEGORIES:LOTTIE the Trolley
ATTACH;FMTTYPE=image/png:https://laurel.lib.ms.us/wp-content/uploads/2025/07/Header-Trolley-Stops.png
END:VEVENT
BEGIN:VEVENT
DTSTART;TZID=America/Chicago:20260604T140000
DTEND;TZID=America/Chicago:20260604T160000
DTSTAMP:20260423T183500
CREATED:20260411T134247Z
LAST-MODIFIED:20260423T140717Z
UID:10140796-1780581600-1780588800@laurel.lib.ms.us
SUMMARY:Summer Reading Kick-Off @ELL
DESCRIPTION:Join us to celebrate the start of Summer Reading with fun\, dinosaur-themed crafts and activities for all ages. Stop by to register and get ready for a summer full of reading and fun.
URL:https://laurel.lib.ms.us/event/summer-reading-kick-off-ell-2/
LOCATION:Ellisville Public Library\, 201 Poplar St\, Ellisville\, MS\, 39437\, United States
CATEGORIES:Ellisville Branch
ATTACH;FMTTYPE=image/png:https://laurel.lib.ms.us/wp-content/uploads/2026/04/Website-Header-SRP-2026.png
END:VEVENT
BEGIN:VEVENT
DTSTART;TZID=America/Chicago:20260604T090000
DTEND;TZID=America/Chicago:20260604T100000
DTSTAMP:20260423T183500
CREATED:20231206T170135Z
LAST-MODIFIED:20250205T162916Z
UID:10130699-1780563600-1780567200@laurel.lib.ms.us
SUMMARY:Baby + Me @ELL
DESCRIPTION:A program exploring books\, songs\, and fun activities designed for babies and toddlers.
URL:https://laurel.lib.ms.us/event/baby-me-epl-2/2026-06-04/
LOCATION:Ellisville Public Library\, 201 Poplar St\, Ellisville\, MS\, 39437\, United States
CATEGORIES:Ellisville Branch
ATTACH;FMTTYPE=image/png:https://laurel.lib.ms.us/wp-content/uploads/2023/02/Baby-Me.png
END:VEVENT
BEGIN:VEVENT
DTSTART;VALUE=DATE:20260604
DTEND;VALUE=DATE:20260605
DTSTAMP:20260423T183500
CREATED:20230126T193949Z
LAST-MODIFIED:20260403T135022Z
UID:10136120-1780531200-1780617599@laurel.lib.ms.us
SUMMARY:Fine Free Thursday
DESCRIPTION:Return overdue books on Thursdays to have your overdue fines waived! \nPlease note that there are some rules that apply: \n\nFFT only applies to the overdue fines for books\, audiobooks\, and magazines. Other charges\, such as DVD fines\, item replacement charges\, collection agency fees\, damages\, postage\, etc.\, will not be waived.\nBooks must be returned to the desk. Fines will not be waived on books in the drop box.\nMonthly and yearly caps are in place for the amount of fines waived.\nFines are capped at $60.
URL:https://laurel.lib.ms.us/event/fine-free-thursday/2026-06-04/
LOCATION:MS
CATEGORIES:General
ATTACH;FMTTYPE=image/png:https://laurel.lib.ms.us/wp-content/uploads/2023/01/Website-Header-Fine-Free-Thursday.png
END:VEVENT
BEGIN:VEVENT
DTSTART;TZID=America/Chicago:20260602T160000
DTEND;TZID=America/Chicago:20260602T170000
DTSTAMP:20260423T183500
CREATED:20260420T143312Z
LAST-MODIFIED:20260423T140648Z
UID:10140933-1780416000-1780419600@laurel.lib.ms.us
SUMMARY:Summer Reading Kick-Off (Sensory Sensitivity Hour) @LAU
DESCRIPTION:Kick off Summer Reading with dinosaur-themed crafts and activities for all ages while registering for the program. We will also feature local organizations sharing community resources. \nThis hour is exclusively for those with sensory sensitivities.
URL:https://laurel.lib.ms.us/event/summer-reading-kick-off-sensory-sensitivity-hour-lau/
LOCATION:Laurel-Jones County Library\, 530 Commerce St\, Laurel\, MS\, 39440\, United States
CATEGORIES:Laurel Branch
ATTACH;FMTTYPE=image/png:https://laurel.lib.ms.us/wp-content/uploads/2026/04/Website-Header-SRP-2026.png
END:VEVENT
BEGIN:VEVENT
DTSTART;TZID=America/Chicago:20260602T140000
DTEND;TZID=America/Chicago:20260602T160000
DTSTAMP:20260423T183500
CREATED:20260411T134053Z
LAST-MODIFIED:20260423T140643Z
UID:10140795-1780408800-1780416000@laurel.lib.ms.us
SUMMARY:Summer Reading Kick-Off @LAU
DESCRIPTION:Kick off Summer Reading with dinosaur-themed crafts and activities for all ages while registering for the program. We will also feature local organizations sharing community resources.
URL:https://laurel.lib.ms.us/event/summer-reading-kick-off-lau-2/
LOCATION:Laurel-Jones County Library\, 530 Commerce St\, Laurel\, MS\, 39440\, United States
CATEGORIES:Laurel Branch
ATTACH;FMTTYPE=image/png:https://laurel.lib.ms.us/wp-content/uploads/2026/04/Website-Header-SRP-2026.png
END:VEVENT
BEGIN:VEVENT
DTSTART;TZID=America/Chicago:20260602T093000
DTEND;TZID=America/Chicago:20260602T103000
DTSTAMP:20260423T183500
CREATED:20260420T151458Z
LAST-MODIFIED:20260420T151458Z
UID:10141354-1780392600-1780396200@laurel.lib.ms.us
SUMMARY:LOTTIE the Trolley @Moselle
DESCRIPTION:You can find us at the Moselle Memorial Baptist Church (6 Beason Rd\, Moselle\, MS 39459).
URL:https://laurel.lib.ms.us/event/lottie-the-trolley-moselle/2026-06-02/
LOCATION:Moselle Memorial Baptist Church\, 6 Beason Rd\, Moselle\, Mississippi\, 39459\, United States
CATEGORIES:LOTTIE the Trolley
ATTACH;FMTTYPE=image/png:https://laurel.lib.ms.us/wp-content/uploads/2025/07/Header-Trolley-Stops.png
END:VEVENT
BEGIN:VEVENT
DTSTART;TZID=America/Chicago:20260602T090000
DTEND;TZID=America/Chicago:20260602T100000
DTSTAMP:20260423T183500
CREATED:20250703T135644Z
LAST-MODIFIED:20250703T135645Z
UID:10131223-1780390800-1780394400@laurel.lib.ms.us
SUMMARY:Baby + Me @LAU
DESCRIPTION:A program exploring books\, songs\, and fun activities designed for babies and toddlers
URL:https://laurel.lib.ms.us/event/baby-me-ljcl-2-2/2026-06-02/
LOCATION:Laurel-Jones County Library\, 530 Commerce St\, Laurel\, MS\, 39440\, United States
CATEGORIES:Laurel Branch
ATTACH;FMTTYPE=image/png:https://laurel.lib.ms.us/wp-content/uploads/2023/02/Baby-Me.png
END:VEVENT
BEGIN:VEVENT
DTSTART;TZID=America/Chicago:20260601T141500
DTEND;TZID=America/Chicago:20260601T150000
DTSTAMP:20260423T183500
CREATED:20250807T162842Z
LAST-MODIFIED:20251208T160615Z
UID:10138377-1780323300-1780326000@laurel.lib.ms.us
SUMMARY:Friends Meeting @LAU
DESCRIPTION:
URL:https://laurel.lib.ms.us/event/friends-meeting-lau-4/2026-06-01/
LOCATION:Laurel-Jones County Library\, 530 Commerce St\, Laurel\, MS\, 39440\, United States
CATEGORIES:Laurel Branch
ORGANIZER;CN="Friends of the Laurel-Jones County Library System":MAILTO:friendsjonescountylibrarysys@gmail.com
END:VEVENT
BEGIN:VEVENT
DTSTART;VALUE=DATE:20260531
DTEND;VALUE=DATE:20260601
DTSTAMP:20260423T183500
CREATED:20260106T213401Z
LAST-MODIFIED:20260106T213423Z
UID:10139908-1780185600-1780271999@laurel.lib.ms.us
SUMMARY:Closed on Sunday
DESCRIPTION:The Laurel-Jones County Library System is closed on Sundays.
URL:https://laurel.lib.ms.us/event/closed-on-sunday/2026-05-31/
LOCATION:MS
CATEGORIES:Closures
ATTACH;FMTTYPE=image/png:https://laurel.lib.ms.us/wp-content/uploads/2023/02/Generic-Closed.png
END:VEVENT
BEGIN:VEVENT
DTSTART;TZID=America/Chicago:20260529T180000
DTEND;TZID=America/Chicago:20260529T200000
DTSTAMP:20260423T183500
CREATED:20250731T163419Z
LAST-MODIFIED:20250731T163419Z
UID:10136649-1780077600-1780084800@laurel.lib.ms.us
SUMMARY:BINGO @LAU
DESCRIPTION:Play BINGO\, win prizes! 1 free card per person. Get an additional card with your library card! Concessions available.
URL:https://laurel.lib.ms.us/event/bingo-night-ljcl-3-2-2/2026-05-29/
LOCATION:Laurel-Jones County Library\, 530 Commerce St\, Laurel\, MS\, 39440\, United States
CATEGORIES:Laurel Branch
ATTACH;FMTTYPE=image/png:https://laurel.lib.ms.us/wp-content/uploads/2025/07/Header-Bingo.png
END:VEVENT
BEGIN:VEVENT
DTSTART;TZID=America/Chicago:20260529T150000
DTEND;TZID=America/Chicago:20260529T160000
DTSTAMP:20260423T183500
CREATED:20260420T141110Z
LAST-MODIFIED:20260420T141119Z
UID:10139172-1780066800-1780070400@laurel.lib.ms.us
SUMMARY:LOTTIE the Trolley @Bogue Homa CERF
DESCRIPTION:You can find us at the Bogue Homa CERF building (8 Tomechi Anowa Dr.\, Heidelberg ).
URL:https://laurel.lib.ms.us/event/lottie-the-trolley-bogue-homa-cerf-7/
LOCATION:CERF Building\, 8 Tomechi Anowa Dr.\, Heidelberg\, 39439\, United States
CATEGORIES:LOTTIE the Trolley
ATTACH;FMTTYPE=image/png:https://laurel.lib.ms.us/wp-content/uploads/2025/07/Header-Trolley-Stops.png
END:VEVENT
BEGIN:VEVENT
DTSTART;TZID=America/Chicago:20260529T130000
DTEND;TZID=America/Chicago:20260529T143000
DTSTAMP:20260423T183500
CREATED:20260420T141058Z
LAST-MODIFIED:20260420T141106Z
UID:10139053-1780059600-1780065000@laurel.lib.ms.us
SUMMARY:LOTTIE the Trolley @Sandersville
DESCRIPTION:You can find us in Sandersville at Main St. & Hwy 11.
URL:https://laurel.lib.ms.us/event/lottie-the-trolley-sandersville-14/
LOCATION:Sandersville\, Main St.\, Sandersville\, MS\, United States
CATEGORIES:LOTTIE the Trolley
ATTACH;FMTTYPE=image/png:https://laurel.lib.ms.us/wp-content/uploads/2025/07/Header-Trolley-Stops.png
END:VEVENT
BEGIN:VEVENT
DTSTART;TZID=America/Chicago:20260528T153000
DTEND;TZID=America/Chicago:20260528T163000
DTSTAMP:20260423T183500
CREATED:20260420T140303Z
LAST-MODIFIED:20260420T140303Z
UID:10140830-1779982200-1779985800@laurel.lib.ms.us
SUMMARY:So You Want to Write @LAU
DESCRIPTION:More info coming soon.
URL:https://laurel.lib.ms.us/event/so-you-want-to-write-lau/2026-05-28/
LOCATION:MS
CATEGORIES:Laurel Branch
END:VEVENT
BEGIN:VEVENT
DTSTART;TZID=America/Chicago:20260528T100000
DTEND;TZID=America/Chicago:20260528T110000
DTSTAMP:20260423T183500
CREATED:20231206T171105Z
LAST-MODIFIED:20250205T162906Z
UID:10130959-1779962400-1779966000@laurel.lib.ms.us
SUMMARY:Storytime @ELL
DESCRIPTION:Join us every week for a story and a craft!
URL:https://laurel.lib.ms.us/event/storytime-epl-2/2026-05-28/
LOCATION:Ellisville Public Library\, 201 Poplar St\, Ellisville\, MS\, 39437\, United States
CATEGORIES:Ellisville Branch
ATTACH;FMTTYPE=image/png:https://laurel.lib.ms.us/wp-content/uploads/2023/02/Storytime.png
END:VEVENT
BEGIN:VEVENT
DTSTART;TZID=America/Chicago:20260528T090000
DTEND;TZID=America/Chicago:20260528T100000
DTSTAMP:20260423T183500
CREATED:20231206T170135Z
LAST-MODIFIED:20250205T162916Z
UID:10130698-1779958800-1779962400@laurel.lib.ms.us
SUMMARY:Baby + Me @ELL
DESCRIPTION:A program exploring books\, songs\, and fun activities designed for babies and toddlers.
URL:https://laurel.lib.ms.us/event/baby-me-epl-2/2026-05-28/
LOCATION:Ellisville Public Library\, 201 Poplar St\, Ellisville\, MS\, 39437\, United States
CATEGORIES:Ellisville Branch
ATTACH;FMTTYPE=image/png:https://laurel.lib.ms.us/wp-content/uploads/2023/02/Baby-Me.png
END:VEVENT
BEGIN:VEVENT
DTSTART;VALUE=DATE:20260528
DTEND;VALUE=DATE:20260529
DTSTAMP:20260423T183500
CREATED:20230126T193949Z
LAST-MODIFIED:20260403T135022Z
UID:10136119-1779926400-1780012799@laurel.lib.ms.us
SUMMARY:Fine Free Thursday
DESCRIPTION:Return overdue books on Thursdays to have your overdue fines waived! \nPlease note that there are some rules that apply: \n\nFFT only applies to the overdue fines for books\, audiobooks\, and magazines. Other charges\, such as DVD fines\, item replacement charges\, collection agency fees\, damages\, postage\, etc.\, will not be waived.\nBooks must be returned to the desk. Fines will not be waived on books in the drop box.\nMonthly and yearly caps are in place for the amount of fines waived.\nFines are capped at $60.
URL:https://laurel.lib.ms.us/event/fine-free-thursday/2026-05-28/
LOCATION:MS
CATEGORIES:General
ATTACH;FMTTYPE=image/png:https://laurel.lib.ms.us/wp-content/uploads/2023/01/Website-Header-Fine-Free-Thursday.png
END:VEVENT
END:VCALENDAR