BEGIN:VCALENDAR
VERSION:2.0
PRODID:-//Laurel Library - ECPv6.15.20//NONSGML v1.0//EN
CALSCALE:GREGORIAN
METHOD:PUBLISH
X-ORIGINAL-URL:https://laurel.lib.ms.us
X-WR-CALDESC:Events for Laurel Library
REFRESH-INTERVAL;VALUE=DURATION:PT1H
X-Robots-Tag:noindex
X-PUBLISHED-TTL:PT1H
BEGIN:VTIMEZONE
TZID:America/Chicago
BEGIN:DAYLIGHT
TZOFFSETFROM:-0600
TZOFFSETTO:-0500
TZNAME:CDT
DTSTART:20290311T080000
END:DAYLIGHT
BEGIN:STANDARD
TZOFFSETFROM:-0500
TZOFFSETTO:-0600
TZNAME:CST
DTSTART:20291104T070000
END:STANDARD
BEGIN:DAYLIGHT
TZOFFSETFROM:-0600
TZOFFSETTO:-0500
TZNAME:CDT
DTSTART:20300310T080000
END:DAYLIGHT
BEGIN:STANDARD
TZOFFSETFROM:-0500
TZOFFSETTO:-0600
TZNAME:CST
DTSTART:20301103T070000
END:STANDARD
BEGIN:DAYLIGHT
TZOFFSETFROM:-0600
TZOFFSETTO:-0500
TZNAME:CDT
DTSTART:20310309T080000
END:DAYLIGHT
BEGIN:STANDARD
TZOFFSETFROM:-0500
TZOFFSETTO:-0600
TZNAME:CST
DTSTART:20311102T070000
END:STANDARD
END:VTIMEZONE
BEGIN:VEVENT
DTSTART;TZID=America/Chicago:20300612T150000
DTEND;TZID=America/Chicago:20300612T163000
DTSTAMP:20260421T192943
CREATED:20260420T144036Z
LAST-MODIFIED:20260420T144037Z
UID:10140981-1907506800-1907512200@laurel.lib.ms.us
SUMMARY:LOTTIE the Trolley @Soso
DESCRIPTION:You can find us in Soso at First Baptist Church (271 Frosty Hinton Rd).
URL:https://laurel.lib.ms.us/event/lottie-the-trolley-soso-8-2/2030-06-12/
LOCATION:First Baptist Church\, 271 Frosty Hinton Rd\, Soso\, United States
CATEGORIES:LOTTIE the Trolley
ATTACH;FMTTYPE=image/png:https://laurel.lib.ms.us/wp-content/uploads/2025/07/Header-Trolley-Stops.png
END:VEVENT
BEGIN:VEVENT
DTSTART;TZID=America/Chicago:20300614T130000
DTEND;TZID=America/Chicago:20300614T143000
DTSTAMP:20260421T192943
CREATED:20260420T144217Z
LAST-MODIFIED:20260420T144217Z
UID:10141040-1907672400-1907677800@laurel.lib.ms.us
SUMMARY:LOTTIE the Trolley @Sandersville
DESCRIPTION:You can find us in Sandersville at Main St. & Hwy 11.
URL:https://laurel.lib.ms.us/event/lottie-the-trolley-sandersville-12-2/2030-06-14/
LOCATION:Sandersville\, Main St.\, Sandersville\, MS\, United States
CATEGORIES:LOTTIE the Trolley
ATTACH;FMTTYPE=image/png:https://laurel.lib.ms.us/wp-content/uploads/2025/07/Header-Trolley-Stops.png
END:VEVENT
BEGIN:VEVENT
DTSTART;TZID=America/Chicago:20300614T150000
DTEND;TZID=America/Chicago:20300614T160000
DTSTAMP:20260421T192943
CREATED:20260420T144223Z
LAST-MODIFIED:20260420T144223Z
UID:10141098-1907679600-1907683200@laurel.lib.ms.us
SUMMARY:LOTTIE the Trolley @Bogue Homa CERF
DESCRIPTION:You can find us at the Bogue Homa CERF building (8 Tomechi Anowa Dr.\, Heidelberg ).
URL:https://laurel.lib.ms.us/event/lottie-the-trolley-bogue-homa-cerf-5-2/2030-06-14/
LOCATION:CERF Building\, 8 Tomechi Anowa Dr.\, Heidelberg\, 39439\, United States
CATEGORIES:LOTTIE the Trolley
ATTACH;FMTTYPE=image/png:https://laurel.lib.ms.us/wp-content/uploads/2025/07/Header-Trolley-Stops.png
END:VEVENT
BEGIN:VEVENT
DTSTART;TZID=America/Chicago:20300626T150000
DTEND;TZID=America/Chicago:20300626T163000
DTSTAMP:20260421T192943
CREATED:20260420T145518Z
LAST-MODIFIED:20260420T145518Z
UID:10141280-1908716400-1908721800@laurel.lib.ms.us
SUMMARY:LOTTIE the Trolley @Calhoun
DESCRIPTION:You can find us in Calhoun at the Calhoun Community Center (5204 US-84 W).
URL:https://laurel.lib.ms.us/event/lottie-the-trolley-calhoun-3-2/2030-06-26/
LOCATION:Calhoun Community Center\, 5204 US-84 W\, Laurel\, MS\, 39443\, United States
CATEGORIES:LOTTIE the Trolley
ATTACH;FMTTYPE=image/png:https://laurel.lib.ms.us/wp-content/uploads/2025/07/Header-Trolley-Stops.png
END:VEVENT
BEGIN:VEVENT
DTSTART;TZID=America/Chicago:20300628T130000
DTEND;TZID=America/Chicago:20300628T143000
DTSTAMP:20260421T192943
CREATED:20260420T145454Z
LAST-MODIFIED:20260420T145454Z
UID:10141166-1908882000-1908887400@laurel.lib.ms.us
SUMMARY:LOTTIE the Trolley @Sandersville
DESCRIPTION:You can find us in Sandersville at Main St. & Hwy 11.
URL:https://laurel.lib.ms.us/event/lottie-the-trolley-sandersville-13-2/2030-06-28/
LOCATION:Sandersville\, Main St.\, Sandersville\, MS\, United States
CATEGORIES:LOTTIE the Trolley
ATTACH;FMTTYPE=image/png:https://laurel.lib.ms.us/wp-content/uploads/2025/07/Header-Trolley-Stops.png
END:VEVENT
BEGIN:VEVENT
DTSTART;TZID=America/Chicago:20300628T150000
DTEND;TZID=America/Chicago:20300628T160000
DTSTAMP:20260421T192943
CREATED:20260420T145501Z
LAST-MODIFIED:20260420T145501Z
UID:10141223-1908889200-1908892800@laurel.lib.ms.us
SUMMARY:LOTTIE the Trolley @Bogue Homa CERF
DESCRIPTION:You can find us at the Bogue Homa CERF building (8 Tomechi Anowa Dr.\, Heidelberg ).
URL:https://laurel.lib.ms.us/event/lottie-the-trolley-bogue-homa-cerf-6-2/2030-06-28/
LOCATION:CERF Building\, 8 Tomechi Anowa Dr.\, Heidelberg\, 39439\, United States
CATEGORIES:LOTTIE the Trolley
ATTACH;FMTTYPE=image/png:https://laurel.lib.ms.us/wp-content/uploads/2025/07/Header-Trolley-Stops.png
END:VEVENT
BEGIN:VEVENT
DTSTART;TZID=America/Chicago:20300710T150000
DTEND;TZID=America/Chicago:20300710T163000
DTSTAMP:20260421T192943
CREATED:20260420T144036Z
LAST-MODIFIED:20260420T144037Z
UID:10140982-1909926000-1909931400@laurel.lib.ms.us
SUMMARY:LOTTIE the Trolley @Soso
DESCRIPTION:You can find us in Soso at First Baptist Church (271 Frosty Hinton Rd).
URL:https://laurel.lib.ms.us/event/lottie-the-trolley-soso-8-2/2030-07-10/
LOCATION:First Baptist Church\, 271 Frosty Hinton Rd\, Soso\, United States
CATEGORIES:LOTTIE the Trolley
ATTACH;FMTTYPE=image/png:https://laurel.lib.ms.us/wp-content/uploads/2025/07/Header-Trolley-Stops.png
END:VEVENT
BEGIN:VEVENT
DTSTART;TZID=America/Chicago:20300712T130000
DTEND;TZID=America/Chicago:20300712T143000
DTSTAMP:20260421T192943
CREATED:20260420T144217Z
LAST-MODIFIED:20260420T144217Z
UID:10141041-1910091600-1910097000@laurel.lib.ms.us
SUMMARY:LOTTIE the Trolley @Sandersville
DESCRIPTION:You can find us in Sandersville at Main St. & Hwy 11.
URL:https://laurel.lib.ms.us/event/lottie-the-trolley-sandersville-12-2/2030-07-12/
LOCATION:Sandersville\, Main St.\, Sandersville\, MS\, United States
CATEGORIES:LOTTIE the Trolley
ATTACH;FMTTYPE=image/png:https://laurel.lib.ms.us/wp-content/uploads/2025/07/Header-Trolley-Stops.png
END:VEVENT
BEGIN:VEVENT
DTSTART;TZID=America/Chicago:20300712T150000
DTEND;TZID=America/Chicago:20300712T160000
DTSTAMP:20260421T192943
CREATED:20260420T144223Z
LAST-MODIFIED:20260420T144223Z
UID:10141099-1910098800-1910102400@laurel.lib.ms.us
SUMMARY:LOTTIE the Trolley @Bogue Homa CERF
DESCRIPTION:You can find us at the Bogue Homa CERF building (8 Tomechi Anowa Dr.\, Heidelberg ).
URL:https://laurel.lib.ms.us/event/lottie-the-trolley-bogue-homa-cerf-5-2/2030-07-12/
LOCATION:CERF Building\, 8 Tomechi Anowa Dr.\, Heidelberg\, 39439\, United States
CATEGORIES:LOTTIE the Trolley
ATTACH;FMTTYPE=image/png:https://laurel.lib.ms.us/wp-content/uploads/2025/07/Header-Trolley-Stops.png
END:VEVENT
BEGIN:VEVENT
DTSTART;TZID=America/Chicago:20300724T150000
DTEND;TZID=America/Chicago:20300724T163000
DTSTAMP:20260421T192943
CREATED:20260420T145518Z
LAST-MODIFIED:20260420T145518Z
UID:10141281-1911135600-1911141000@laurel.lib.ms.us
SUMMARY:LOTTIE the Trolley @Calhoun
DESCRIPTION:You can find us in Calhoun at the Calhoun Community Center (5204 US-84 W).
URL:https://laurel.lib.ms.us/event/lottie-the-trolley-calhoun-3-2/2030-07-24/
LOCATION:Calhoun Community Center\, 5204 US-84 W\, Laurel\, MS\, 39443\, United States
CATEGORIES:LOTTIE the Trolley
ATTACH;FMTTYPE=image/png:https://laurel.lib.ms.us/wp-content/uploads/2025/07/Header-Trolley-Stops.png
END:VEVENT
BEGIN:VEVENT
DTSTART;TZID=America/Chicago:20300726T130000
DTEND;TZID=America/Chicago:20300726T143000
DTSTAMP:20260421T192943
CREATED:20260420T145454Z
LAST-MODIFIED:20260420T145454Z
UID:10141167-1911301200-1911306600@laurel.lib.ms.us
SUMMARY:LOTTIE the Trolley @Sandersville
DESCRIPTION:You can find us in Sandersville at Main St. & Hwy 11.
URL:https://laurel.lib.ms.us/event/lottie-the-trolley-sandersville-13-2/2030-07-26/
LOCATION:Sandersville\, Main St.\, Sandersville\, MS\, United States
CATEGORIES:LOTTIE the Trolley
ATTACH;FMTTYPE=image/png:https://laurel.lib.ms.us/wp-content/uploads/2025/07/Header-Trolley-Stops.png
END:VEVENT
BEGIN:VEVENT
DTSTART;TZID=America/Chicago:20300726T150000
DTEND;TZID=America/Chicago:20300726T160000
DTSTAMP:20260421T192943
CREATED:20260420T145501Z
LAST-MODIFIED:20260420T145501Z
UID:10141224-1911308400-1911312000@laurel.lib.ms.us
SUMMARY:LOTTIE the Trolley @Bogue Homa CERF
DESCRIPTION:You can find us at the Bogue Homa CERF building (8 Tomechi Anowa Dr.\, Heidelberg ).
URL:https://laurel.lib.ms.us/event/lottie-the-trolley-bogue-homa-cerf-6-2/2030-07-26/
LOCATION:CERF Building\, 8 Tomechi Anowa Dr.\, Heidelberg\, 39439\, United States
CATEGORIES:LOTTIE the Trolley
ATTACH;FMTTYPE=image/png:https://laurel.lib.ms.us/wp-content/uploads/2025/07/Header-Trolley-Stops.png
END:VEVENT
BEGIN:VEVENT
DTSTART;TZID=America/Chicago:20300809T130000
DTEND;TZID=America/Chicago:20300809T143000
DTSTAMP:20260421T192943
CREATED:20260420T144217Z
LAST-MODIFIED:20260420T144217Z
UID:10141042-1912510800-1912516200@laurel.lib.ms.us
SUMMARY:LOTTIE the Trolley @Sandersville
DESCRIPTION:You can find us in Sandersville at Main St. & Hwy 11.
URL:https://laurel.lib.ms.us/event/lottie-the-trolley-sandersville-12-2/2030-08-09/
LOCATION:Sandersville\, Main St.\, Sandersville\, MS\, United States
CATEGORIES:LOTTIE the Trolley
ATTACH;FMTTYPE=image/png:https://laurel.lib.ms.us/wp-content/uploads/2025/07/Header-Trolley-Stops.png
END:VEVENT
BEGIN:VEVENT
DTSTART;TZID=America/Chicago:20300809T150000
DTEND;TZID=America/Chicago:20300809T160000
DTSTAMP:20260421T192943
CREATED:20260420T144223Z
LAST-MODIFIED:20260420T144223Z
UID:10141100-1912518000-1912521600@laurel.lib.ms.us
SUMMARY:LOTTIE the Trolley @Bogue Homa CERF
DESCRIPTION:You can find us at the Bogue Homa CERF building (8 Tomechi Anowa Dr.\, Heidelberg ).
URL:https://laurel.lib.ms.us/event/lottie-the-trolley-bogue-homa-cerf-5-2/2030-08-09/
LOCATION:CERF Building\, 8 Tomechi Anowa Dr.\, Heidelberg\, 39439\, United States
CATEGORIES:LOTTIE the Trolley
ATTACH;FMTTYPE=image/png:https://laurel.lib.ms.us/wp-content/uploads/2025/07/Header-Trolley-Stops.png
END:VEVENT
BEGIN:VEVENT
DTSTART;TZID=America/Chicago:20300814T150000
DTEND;TZID=America/Chicago:20300814T163000
DTSTAMP:20260421T192943
CREATED:20260420T144036Z
LAST-MODIFIED:20260420T144037Z
UID:10140983-1912950000-1912955400@laurel.lib.ms.us
SUMMARY:LOTTIE the Trolley @Soso
DESCRIPTION:You can find us in Soso at First Baptist Church (271 Frosty Hinton Rd).
URL:https://laurel.lib.ms.us/event/lottie-the-trolley-soso-8-2/2030-08-14/
LOCATION:First Baptist Church\, 271 Frosty Hinton Rd\, Soso\, United States
CATEGORIES:LOTTIE the Trolley
ATTACH;FMTTYPE=image/png:https://laurel.lib.ms.us/wp-content/uploads/2025/07/Header-Trolley-Stops.png
END:VEVENT
BEGIN:VEVENT
DTSTART;TZID=America/Chicago:20300823T130000
DTEND;TZID=America/Chicago:20300823T143000
DTSTAMP:20260421T192943
CREATED:20260420T145454Z
LAST-MODIFIED:20260420T145454Z
UID:10141168-1913720400-1913725800@laurel.lib.ms.us
SUMMARY:LOTTIE the Trolley @Sandersville
DESCRIPTION:You can find us in Sandersville at Main St. & Hwy 11.
URL:https://laurel.lib.ms.us/event/lottie-the-trolley-sandersville-13-2/2030-08-23/
LOCATION:Sandersville\, Main St.\, Sandersville\, MS\, United States
CATEGORIES:LOTTIE the Trolley
ATTACH;FMTTYPE=image/png:https://laurel.lib.ms.us/wp-content/uploads/2025/07/Header-Trolley-Stops.png
END:VEVENT
BEGIN:VEVENT
DTSTART;TZID=America/Chicago:20300823T150000
DTEND;TZID=America/Chicago:20300823T160000
DTSTAMP:20260421T192943
CREATED:20260420T145501Z
LAST-MODIFIED:20260420T145501Z
UID:10141225-1913727600-1913731200@laurel.lib.ms.us
SUMMARY:LOTTIE the Trolley @Bogue Homa CERF
DESCRIPTION:You can find us at the Bogue Homa CERF building (8 Tomechi Anowa Dr.\, Heidelberg ).
URL:https://laurel.lib.ms.us/event/lottie-the-trolley-bogue-homa-cerf-6-2/2030-08-23/
LOCATION:CERF Building\, 8 Tomechi Anowa Dr.\, Heidelberg\, 39439\, United States
CATEGORIES:LOTTIE the Trolley
ATTACH;FMTTYPE=image/png:https://laurel.lib.ms.us/wp-content/uploads/2025/07/Header-Trolley-Stops.png
END:VEVENT
BEGIN:VEVENT
DTSTART;TZID=America/Chicago:20300828T150000
DTEND;TZID=America/Chicago:20300828T163000
DTSTAMP:20260421T192943
CREATED:20260420T145518Z
LAST-MODIFIED:20260420T145518Z
UID:10141282-1914159600-1914165000@laurel.lib.ms.us
SUMMARY:LOTTIE the Trolley @Calhoun
DESCRIPTION:You can find us in Calhoun at the Calhoun Community Center (5204 US-84 W).
URL:https://laurel.lib.ms.us/event/lottie-the-trolley-calhoun-3-2/2030-08-28/
LOCATION:Calhoun Community Center\, 5204 US-84 W\, Laurel\, MS\, 39443\, United States
CATEGORIES:LOTTIE the Trolley
ATTACH;FMTTYPE=image/png:https://laurel.lib.ms.us/wp-content/uploads/2025/07/Header-Trolley-Stops.png
END:VEVENT
BEGIN:VEVENT
DTSTART;TZID=America/Chicago:20300911T150000
DTEND;TZID=America/Chicago:20300911T163000
DTSTAMP:20260421T192943
CREATED:20260420T144036Z
LAST-MODIFIED:20260420T144037Z
UID:10140984-1915369200-1915374600@laurel.lib.ms.us
SUMMARY:LOTTIE the Trolley @Soso
DESCRIPTION:You can find us in Soso at First Baptist Church (271 Frosty Hinton Rd).
URL:https://laurel.lib.ms.us/event/lottie-the-trolley-soso-8-2/2030-09-11/
LOCATION:First Baptist Church\, 271 Frosty Hinton Rd\, Soso\, United States
CATEGORIES:LOTTIE the Trolley
ATTACH;FMTTYPE=image/png:https://laurel.lib.ms.us/wp-content/uploads/2025/07/Header-Trolley-Stops.png
END:VEVENT
BEGIN:VEVENT
DTSTART;TZID=America/Chicago:20300913T130000
DTEND;TZID=America/Chicago:20300913T143000
DTSTAMP:20260421T192943
CREATED:20260420T144217Z
LAST-MODIFIED:20260420T144217Z
UID:10141043-1915534800-1915540200@laurel.lib.ms.us
SUMMARY:LOTTIE the Trolley @Sandersville
DESCRIPTION:You can find us in Sandersville at Main St. & Hwy 11.
URL:https://laurel.lib.ms.us/event/lottie-the-trolley-sandersville-12-2/2030-09-13/
LOCATION:Sandersville\, Main St.\, Sandersville\, MS\, United States
CATEGORIES:LOTTIE the Trolley
ATTACH;FMTTYPE=image/png:https://laurel.lib.ms.us/wp-content/uploads/2025/07/Header-Trolley-Stops.png
END:VEVENT
BEGIN:VEVENT
DTSTART;TZID=America/Chicago:20300913T150000
DTEND;TZID=America/Chicago:20300913T160000
DTSTAMP:20260421T192943
CREATED:20260420T144223Z
LAST-MODIFIED:20260420T144223Z
UID:10141101-1915542000-1915545600@laurel.lib.ms.us
SUMMARY:LOTTIE the Trolley @Bogue Homa CERF
DESCRIPTION:You can find us at the Bogue Homa CERF building (8 Tomechi Anowa Dr.\, Heidelberg ).
URL:https://laurel.lib.ms.us/event/lottie-the-trolley-bogue-homa-cerf-5-2/2030-09-13/
LOCATION:CERF Building\, 8 Tomechi Anowa Dr.\, Heidelberg\, 39439\, United States
CATEGORIES:LOTTIE the Trolley
ATTACH;FMTTYPE=image/png:https://laurel.lib.ms.us/wp-content/uploads/2025/07/Header-Trolley-Stops.png
END:VEVENT
BEGIN:VEVENT
DTSTART;TZID=America/Chicago:20300925T150000
DTEND;TZID=America/Chicago:20300925T163000
DTSTAMP:20260421T192943
CREATED:20260420T145518Z
LAST-MODIFIED:20260420T145518Z
UID:10141283-1916578800-1916584200@laurel.lib.ms.us
SUMMARY:LOTTIE the Trolley @Calhoun
DESCRIPTION:You can find us in Calhoun at the Calhoun Community Center (5204 US-84 W).
URL:https://laurel.lib.ms.us/event/lottie-the-trolley-calhoun-3-2/2030-09-25/
LOCATION:Calhoun Community Center\, 5204 US-84 W\, Laurel\, MS\, 39443\, United States
CATEGORIES:LOTTIE the Trolley
ATTACH;FMTTYPE=image/png:https://laurel.lib.ms.us/wp-content/uploads/2025/07/Header-Trolley-Stops.png
END:VEVENT
BEGIN:VEVENT
DTSTART;TZID=America/Chicago:20300927T130000
DTEND;TZID=America/Chicago:20300927T143000
DTSTAMP:20260421T192943
CREATED:20260420T145454Z
LAST-MODIFIED:20260420T145454Z
UID:10141169-1916744400-1916749800@laurel.lib.ms.us
SUMMARY:LOTTIE the Trolley @Sandersville
DESCRIPTION:You can find us in Sandersville at Main St. & Hwy 11.
URL:https://laurel.lib.ms.us/event/lottie-the-trolley-sandersville-13-2/2030-09-27/
LOCATION:Sandersville\, Main St.\, Sandersville\, MS\, United States
CATEGORIES:LOTTIE the Trolley
ATTACH;FMTTYPE=image/png:https://laurel.lib.ms.us/wp-content/uploads/2025/07/Header-Trolley-Stops.png
END:VEVENT
BEGIN:VEVENT
DTSTART;TZID=America/Chicago:20300927T150000
DTEND;TZID=America/Chicago:20300927T160000
DTSTAMP:20260421T192943
CREATED:20260420T145501Z
LAST-MODIFIED:20260420T145501Z
UID:10141226-1916751600-1916755200@laurel.lib.ms.us
SUMMARY:LOTTIE the Trolley @Bogue Homa CERF
DESCRIPTION:You can find us at the Bogue Homa CERF building (8 Tomechi Anowa Dr.\, Heidelberg ).
URL:https://laurel.lib.ms.us/event/lottie-the-trolley-bogue-homa-cerf-6-2/2030-09-27/
LOCATION:CERF Building\, 8 Tomechi Anowa Dr.\, Heidelberg\, 39439\, United States
CATEGORIES:LOTTIE the Trolley
ATTACH;FMTTYPE=image/png:https://laurel.lib.ms.us/wp-content/uploads/2025/07/Header-Trolley-Stops.png
END:VEVENT
BEGIN:VEVENT
DTSTART;TZID=America/Chicago:20301009T150000
DTEND;TZID=America/Chicago:20301009T163000
DTSTAMP:20260421T192943
CREATED:20260420T144036Z
LAST-MODIFIED:20260420T144037Z
UID:10140985-1917788400-1917793800@laurel.lib.ms.us
SUMMARY:LOTTIE the Trolley @Soso
DESCRIPTION:You can find us in Soso at First Baptist Church (271 Frosty Hinton Rd).
URL:https://laurel.lib.ms.us/event/lottie-the-trolley-soso-8-2/2030-10-09/
LOCATION:First Baptist Church\, 271 Frosty Hinton Rd\, Soso\, United States
CATEGORIES:LOTTIE the Trolley
ATTACH;FMTTYPE=image/png:https://laurel.lib.ms.us/wp-content/uploads/2025/07/Header-Trolley-Stops.png
END:VEVENT
BEGIN:VEVENT
DTSTART;TZID=America/Chicago:20301011T130000
DTEND;TZID=America/Chicago:20301011T143000
DTSTAMP:20260421T192943
CREATED:20260420T144217Z
LAST-MODIFIED:20260420T144217Z
UID:10141044-1917954000-1917959400@laurel.lib.ms.us
SUMMARY:LOTTIE the Trolley @Sandersville
DESCRIPTION:You can find us in Sandersville at Main St. & Hwy 11.
URL:https://laurel.lib.ms.us/event/lottie-the-trolley-sandersville-12-2/2030-10-11/
LOCATION:Sandersville\, Main St.\, Sandersville\, MS\, United States
CATEGORIES:LOTTIE the Trolley
ATTACH;FMTTYPE=image/png:https://laurel.lib.ms.us/wp-content/uploads/2025/07/Header-Trolley-Stops.png
END:VEVENT
BEGIN:VEVENT
DTSTART;TZID=America/Chicago:20301011T150000
DTEND;TZID=America/Chicago:20301011T160000
DTSTAMP:20260421T192943
CREATED:20260420T144223Z
LAST-MODIFIED:20260420T144223Z
UID:10141102-1917961200-1917964800@laurel.lib.ms.us
SUMMARY:LOTTIE the Trolley @Bogue Homa CERF
DESCRIPTION:You can find us at the Bogue Homa CERF building (8 Tomechi Anowa Dr.\, Heidelberg ).
URL:https://laurel.lib.ms.us/event/lottie-the-trolley-bogue-homa-cerf-5-2/2030-10-11/
LOCATION:CERF Building\, 8 Tomechi Anowa Dr.\, Heidelberg\, 39439\, United States
CATEGORIES:LOTTIE the Trolley
ATTACH;FMTTYPE=image/png:https://laurel.lib.ms.us/wp-content/uploads/2025/07/Header-Trolley-Stops.png
END:VEVENT
BEGIN:VEVENT
DTSTART;TZID=America/Chicago:20301023T150000
DTEND;TZID=America/Chicago:20301023T163000
DTSTAMP:20260421T192943
CREATED:20260420T145518Z
LAST-MODIFIED:20260420T145518Z
UID:10141284-1918998000-1919003400@laurel.lib.ms.us
SUMMARY:LOTTIE the Trolley @Calhoun
DESCRIPTION:You can find us in Calhoun at the Calhoun Community Center (5204 US-84 W).
URL:https://laurel.lib.ms.us/event/lottie-the-trolley-calhoun-3-2/2030-10-23/
LOCATION:Calhoun Community Center\, 5204 US-84 W\, Laurel\, MS\, 39443\, United States
CATEGORIES:LOTTIE the Trolley
ATTACH;FMTTYPE=image/png:https://laurel.lib.ms.us/wp-content/uploads/2025/07/Header-Trolley-Stops.png
END:VEVENT
BEGIN:VEVENT
DTSTART;TZID=America/Chicago:20301025T130000
DTEND;TZID=America/Chicago:20301025T143000
DTSTAMP:20260421T192943
CREATED:20260420T145454Z
LAST-MODIFIED:20260420T145454Z
UID:10141170-1919163600-1919169000@laurel.lib.ms.us
SUMMARY:LOTTIE the Trolley @Sandersville
DESCRIPTION:You can find us in Sandersville at Main St. & Hwy 11.
URL:https://laurel.lib.ms.us/event/lottie-the-trolley-sandersville-13-2/2030-10-25/
LOCATION:Sandersville\, Main St.\, Sandersville\, MS\, United States
CATEGORIES:LOTTIE the Trolley
ATTACH;FMTTYPE=image/png:https://laurel.lib.ms.us/wp-content/uploads/2025/07/Header-Trolley-Stops.png
END:VEVENT
BEGIN:VEVENT
DTSTART;TZID=America/Chicago:20301025T150000
DTEND;TZID=America/Chicago:20301025T160000
DTSTAMP:20260421T192943
CREATED:20260420T145501Z
LAST-MODIFIED:20260420T145501Z
UID:10141227-1919170800-1919174400@laurel.lib.ms.us
SUMMARY:LOTTIE the Trolley @Bogue Homa CERF
DESCRIPTION:You can find us at the Bogue Homa CERF building (8 Tomechi Anowa Dr.\, Heidelberg ).
URL:https://laurel.lib.ms.us/event/lottie-the-trolley-bogue-homa-cerf-6-2/2030-10-25/
LOCATION:CERF Building\, 8 Tomechi Anowa Dr.\, Heidelberg\, 39439\, United States
CATEGORIES:LOTTIE the Trolley
ATTACH;FMTTYPE=image/png:https://laurel.lib.ms.us/wp-content/uploads/2025/07/Header-Trolley-Stops.png
END:VEVENT
END:VCALENDAR