BEGIN:VCALENDAR
VERSION:2.0
PRODID:-//Laurel Library - ECPv6.15.20//NONSGML v1.0//EN
CALSCALE:GREGORIAN
METHOD:PUBLISH
X-WR-CALNAME:Laurel Library
X-ORIGINAL-URL:https://laurel.lib.ms.us
X-WR-CALDESC:Events for Laurel Library
REFRESH-INTERVAL;VALUE=DURATION:PT1H
X-Robots-Tag:noindex
X-PUBLISHED-TTL:PT1H
BEGIN:VTIMEZONE
TZID:America/Chicago
BEGIN:DAYLIGHT
TZOFFSETFROM:-0600
TZOFFSETTO:-0500
TZNAME:CDT
DTSTART:20280312T080000
END:DAYLIGHT
BEGIN:STANDARD
TZOFFSETFROM:-0500
TZOFFSETTO:-0600
TZNAME:CST
DTSTART:20281105T070000
END:STANDARD
BEGIN:DAYLIGHT
TZOFFSETFROM:-0600
TZOFFSETTO:-0500
TZNAME:CDT
DTSTART:20290311T080000
END:DAYLIGHT
BEGIN:STANDARD
TZOFFSETFROM:-0500
TZOFFSETTO:-0600
TZNAME:CST
DTSTART:20291104T070000
END:STANDARD
BEGIN:DAYLIGHT
TZOFFSETFROM:-0600
TZOFFSETTO:-0500
TZNAME:CDT
DTSTART:20300310T080000
END:DAYLIGHT
BEGIN:STANDARD
TZOFFSETFROM:-0500
TZOFFSETTO:-0600
TZNAME:CST
DTSTART:20301103T070000
END:STANDARD
BEGIN:DAYLIGHT
TZOFFSETFROM:-0600
TZOFFSETTO:-0500
TZNAME:CDT
DTSTART:20310309T080000
END:DAYLIGHT
BEGIN:STANDARD
TZOFFSETFROM:-0500
TZOFFSETTO:-0600
TZNAME:CST
DTSTART:20311102T070000
END:STANDARD
END:VTIMEZONE
BEGIN:VEVENT
DTSTART;TZID=America/Chicago:20291128T150000
DTEND;TZID=America/Chicago:20291128T163000
DTSTAMP:20260421T145643
CREATED:20260420T145518Z
LAST-MODIFIED:20260420T145518Z
UID:10141273-1890572400-1890577800@laurel.lib.ms.us
SUMMARY:LOTTIE the Trolley @Calhoun
DESCRIPTION:You can find us in Calhoun at the Calhoun Community Center (5204 US-84 W).
URL:https://laurel.lib.ms.us/event/lottie-the-trolley-calhoun-3-2/2029-11-28/
LOCATION:Calhoun Community Center\, 5204 US-84 W\, Laurel\, MS\, 39443\, United States
CATEGORIES:LOTTIE the Trolley
ATTACH;FMTTYPE=image/png:https://laurel.lib.ms.us/wp-content/uploads/2025/07/Header-Trolley-Stops.png
END:VEVENT
BEGIN:VEVENT
DTSTART;TZID=America/Chicago:20291212T150000
DTEND;TZID=America/Chicago:20291212T163000
DTSTAMP:20260421T145644
CREATED:20260420T144036Z
LAST-MODIFIED:20260420T144037Z
UID:10140975-1891782000-1891787400@laurel.lib.ms.us
SUMMARY:LOTTIE the Trolley @Soso
DESCRIPTION:You can find us in Soso at First Baptist Church (271 Frosty Hinton Rd).
URL:https://laurel.lib.ms.us/event/lottie-the-trolley-soso-8-2/2029-12-12/
LOCATION:First Baptist Church\, 271 Frosty Hinton Rd\, Soso\, United States
CATEGORIES:LOTTIE the Trolley
ATTACH;FMTTYPE=image/png:https://laurel.lib.ms.us/wp-content/uploads/2025/07/Header-Trolley-Stops.png
END:VEVENT
BEGIN:VEVENT
DTSTART;TZID=America/Chicago:20291214T130000
DTEND;TZID=America/Chicago:20291214T143000
DTSTAMP:20260421T145644
CREATED:20260420T144217Z
LAST-MODIFIED:20260420T144217Z
UID:10141034-1891947600-1891953000@laurel.lib.ms.us
SUMMARY:LOTTIE the Trolley @Sandersville
DESCRIPTION:You can find us in Sandersville at Main St. & Hwy 11.
URL:https://laurel.lib.ms.us/event/lottie-the-trolley-sandersville-12-2/2029-12-14/
LOCATION:Sandersville\, Main St.\, Sandersville\, MS\, United States
CATEGORIES:LOTTIE the Trolley
ATTACH;FMTTYPE=image/png:https://laurel.lib.ms.us/wp-content/uploads/2025/07/Header-Trolley-Stops.png
END:VEVENT
BEGIN:VEVENT
DTSTART;TZID=America/Chicago:20291214T150000
DTEND;TZID=America/Chicago:20291214T160000
DTSTAMP:20260421T145644
CREATED:20260420T144223Z
LAST-MODIFIED:20260420T144223Z
UID:10141092-1891954800-1891958400@laurel.lib.ms.us
SUMMARY:LOTTIE the Trolley @Bogue Homa CERF
DESCRIPTION:You can find us at the Bogue Homa CERF building (8 Tomechi Anowa Dr.\, Heidelberg ).
URL:https://laurel.lib.ms.us/event/lottie-the-trolley-bogue-homa-cerf-5-2/2029-12-14/
LOCATION:CERF Building\, 8 Tomechi Anowa Dr.\, Heidelberg\, 39439\, United States
CATEGORIES:LOTTIE the Trolley
ATTACH;FMTTYPE=image/png:https://laurel.lib.ms.us/wp-content/uploads/2025/07/Header-Trolley-Stops.png
END:VEVENT
BEGIN:VEVENT
DTSTART;TZID=America/Chicago:20291226T150000
DTEND;TZID=America/Chicago:20291226T163000
DTSTAMP:20260421T145644
CREATED:20260420T145518Z
LAST-MODIFIED:20260420T145518Z
UID:10141274-1892991600-1892997000@laurel.lib.ms.us
SUMMARY:LOTTIE the Trolley @Calhoun
DESCRIPTION:You can find us in Calhoun at the Calhoun Community Center (5204 US-84 W).
URL:https://laurel.lib.ms.us/event/lottie-the-trolley-calhoun-3-2/2029-12-26/
LOCATION:Calhoun Community Center\, 5204 US-84 W\, Laurel\, MS\, 39443\, United States
CATEGORIES:LOTTIE the Trolley
ATTACH;FMTTYPE=image/png:https://laurel.lib.ms.us/wp-content/uploads/2025/07/Header-Trolley-Stops.png
END:VEVENT
BEGIN:VEVENT
DTSTART;TZID=America/Chicago:20291228T130000
DTEND;TZID=America/Chicago:20291228T143000
DTSTAMP:20260421T145644
CREATED:20260420T145454Z
LAST-MODIFIED:20260420T145454Z
UID:10141160-1893157200-1893162600@laurel.lib.ms.us
SUMMARY:LOTTIE the Trolley @Sandersville
DESCRIPTION:You can find us in Sandersville at Main St. & Hwy 11.
URL:https://laurel.lib.ms.us/event/lottie-the-trolley-sandersville-13-2/2029-12-28/
LOCATION:Sandersville\, Main St.\, Sandersville\, MS\, United States
CATEGORIES:LOTTIE the Trolley
ATTACH;FMTTYPE=image/png:https://laurel.lib.ms.us/wp-content/uploads/2025/07/Header-Trolley-Stops.png
END:VEVENT
BEGIN:VEVENT
DTSTART;TZID=America/Chicago:20291228T150000
DTEND;TZID=America/Chicago:20291228T160000
DTSTAMP:20260421T145644
CREATED:20260420T145501Z
LAST-MODIFIED:20260420T145501Z
UID:10141217-1893164400-1893168000@laurel.lib.ms.us
SUMMARY:LOTTIE the Trolley @Bogue Homa CERF
DESCRIPTION:You can find us at the Bogue Homa CERF building (8 Tomechi Anowa Dr.\, Heidelberg ).
URL:https://laurel.lib.ms.us/event/lottie-the-trolley-bogue-homa-cerf-6-2/2029-12-28/
LOCATION:CERF Building\, 8 Tomechi Anowa Dr.\, Heidelberg\, 39439\, United States
CATEGORIES:LOTTIE the Trolley
ATTACH;FMTTYPE=image/png:https://laurel.lib.ms.us/wp-content/uploads/2025/07/Header-Trolley-Stops.png
END:VEVENT
BEGIN:VEVENT
DTSTART;TZID=America/Chicago:20300109T150000
DTEND;TZID=America/Chicago:20300109T163000
DTSTAMP:20260421T145644
CREATED:20260420T144036Z
LAST-MODIFIED:20260420T144037Z
UID:10140976-1894201200-1894206600@laurel.lib.ms.us
SUMMARY:LOTTIE the Trolley @Soso
DESCRIPTION:You can find us in Soso at First Baptist Church (271 Frosty Hinton Rd).
URL:https://laurel.lib.ms.us/event/lottie-the-trolley-soso-8-2/2030-01-09/
LOCATION:First Baptist Church\, 271 Frosty Hinton Rd\, Soso\, United States
CATEGORIES:LOTTIE the Trolley
ATTACH;FMTTYPE=image/png:https://laurel.lib.ms.us/wp-content/uploads/2025/07/Header-Trolley-Stops.png
END:VEVENT
BEGIN:VEVENT
DTSTART;TZID=America/Chicago:20300111T130000
DTEND;TZID=America/Chicago:20300111T143000
DTSTAMP:20260421T145644
CREATED:20260420T144217Z
LAST-MODIFIED:20260420T144217Z
UID:10141035-1894366800-1894372200@laurel.lib.ms.us
SUMMARY:LOTTIE the Trolley @Sandersville
DESCRIPTION:You can find us in Sandersville at Main St. & Hwy 11.
URL:https://laurel.lib.ms.us/event/lottie-the-trolley-sandersville-12-2/2030-01-11/
LOCATION:Sandersville\, Main St.\, Sandersville\, MS\, United States
CATEGORIES:LOTTIE the Trolley
ATTACH;FMTTYPE=image/png:https://laurel.lib.ms.us/wp-content/uploads/2025/07/Header-Trolley-Stops.png
END:VEVENT
BEGIN:VEVENT
DTSTART;TZID=America/Chicago:20300111T150000
DTEND;TZID=America/Chicago:20300111T160000
DTSTAMP:20260421T145644
CREATED:20260420T144223Z
LAST-MODIFIED:20260420T144223Z
UID:10141093-1894374000-1894377600@laurel.lib.ms.us
SUMMARY:LOTTIE the Trolley @Bogue Homa CERF
DESCRIPTION:You can find us at the Bogue Homa CERF building (8 Tomechi Anowa Dr.\, Heidelberg ).
URL:https://laurel.lib.ms.us/event/lottie-the-trolley-bogue-homa-cerf-5-2/2030-01-11/
LOCATION:CERF Building\, 8 Tomechi Anowa Dr.\, Heidelberg\, 39439\, United States
CATEGORIES:LOTTIE the Trolley
ATTACH;FMTTYPE=image/png:https://laurel.lib.ms.us/wp-content/uploads/2025/07/Header-Trolley-Stops.png
END:VEVENT
BEGIN:VEVENT
DTSTART;TZID=America/Chicago:20300123T150000
DTEND;TZID=America/Chicago:20300123T163000
DTSTAMP:20260421T145644
CREATED:20260420T145518Z
LAST-MODIFIED:20260420T145518Z
UID:10141275-1895410800-1895416200@laurel.lib.ms.us
SUMMARY:LOTTIE the Trolley @Calhoun
DESCRIPTION:You can find us in Calhoun at the Calhoun Community Center (5204 US-84 W).
URL:https://laurel.lib.ms.us/event/lottie-the-trolley-calhoun-3-2/2030-01-23/
LOCATION:Calhoun Community Center\, 5204 US-84 W\, Laurel\, MS\, 39443\, United States
CATEGORIES:LOTTIE the Trolley
ATTACH;FMTTYPE=image/png:https://laurel.lib.ms.us/wp-content/uploads/2025/07/Header-Trolley-Stops.png
END:VEVENT
BEGIN:VEVENT
DTSTART;TZID=America/Chicago:20300125T130000
DTEND;TZID=America/Chicago:20300125T143000
DTSTAMP:20260421T145644
CREATED:20260420T145454Z
LAST-MODIFIED:20260420T145454Z
UID:10141161-1895576400-1895581800@laurel.lib.ms.us
SUMMARY:LOTTIE the Trolley @Sandersville
DESCRIPTION:You can find us in Sandersville at Main St. & Hwy 11.
URL:https://laurel.lib.ms.us/event/lottie-the-trolley-sandersville-13-2/2030-01-25/
LOCATION:Sandersville\, Main St.\, Sandersville\, MS\, United States
CATEGORIES:LOTTIE the Trolley
ATTACH;FMTTYPE=image/png:https://laurel.lib.ms.us/wp-content/uploads/2025/07/Header-Trolley-Stops.png
END:VEVENT
BEGIN:VEVENT
DTSTART;TZID=America/Chicago:20300125T150000
DTEND;TZID=America/Chicago:20300125T160000
DTSTAMP:20260421T145644
CREATED:20260420T145501Z
LAST-MODIFIED:20260420T145501Z
UID:10141218-1895583600-1895587200@laurel.lib.ms.us
SUMMARY:LOTTIE the Trolley @Bogue Homa CERF
DESCRIPTION:You can find us at the Bogue Homa CERF building (8 Tomechi Anowa Dr.\, Heidelberg ).
URL:https://laurel.lib.ms.us/event/lottie-the-trolley-bogue-homa-cerf-6-2/2030-01-25/
LOCATION:CERF Building\, 8 Tomechi Anowa Dr.\, Heidelberg\, 39439\, United States
CATEGORIES:LOTTIE the Trolley
ATTACH;FMTTYPE=image/png:https://laurel.lib.ms.us/wp-content/uploads/2025/07/Header-Trolley-Stops.png
END:VEVENT
BEGIN:VEVENT
DTSTART;TZID=America/Chicago:20300208T130000
DTEND;TZID=America/Chicago:20300208T143000
DTSTAMP:20260421T145644
CREATED:20260420T144217Z
LAST-MODIFIED:20260420T144217Z
UID:10141036-1896786000-1896791400@laurel.lib.ms.us
SUMMARY:LOTTIE the Trolley @Sandersville
DESCRIPTION:You can find us in Sandersville at Main St. & Hwy 11.
URL:https://laurel.lib.ms.us/event/lottie-the-trolley-sandersville-12-2/2030-02-08/
LOCATION:Sandersville\, Main St.\, Sandersville\, MS\, United States
CATEGORIES:LOTTIE the Trolley
ATTACH;FMTTYPE=image/png:https://laurel.lib.ms.us/wp-content/uploads/2025/07/Header-Trolley-Stops.png
END:VEVENT
BEGIN:VEVENT
DTSTART;TZID=America/Chicago:20300208T150000
DTEND;TZID=America/Chicago:20300208T160000
DTSTAMP:20260421T145644
CREATED:20260420T144223Z
LAST-MODIFIED:20260420T144223Z
UID:10141094-1896793200-1896796800@laurel.lib.ms.us
SUMMARY:LOTTIE the Trolley @Bogue Homa CERF
DESCRIPTION:You can find us at the Bogue Homa CERF building (8 Tomechi Anowa Dr.\, Heidelberg ).
URL:https://laurel.lib.ms.us/event/lottie-the-trolley-bogue-homa-cerf-5-2/2030-02-08/
LOCATION:CERF Building\, 8 Tomechi Anowa Dr.\, Heidelberg\, 39439\, United States
CATEGORIES:LOTTIE the Trolley
ATTACH;FMTTYPE=image/png:https://laurel.lib.ms.us/wp-content/uploads/2025/07/Header-Trolley-Stops.png
END:VEVENT
BEGIN:VEVENT
DTSTART;TZID=America/Chicago:20300213T150000
DTEND;TZID=America/Chicago:20300213T163000
DTSTAMP:20260421T145644
CREATED:20260420T144036Z
LAST-MODIFIED:20260420T144037Z
UID:10140977-1897225200-1897230600@laurel.lib.ms.us
SUMMARY:LOTTIE the Trolley @Soso
DESCRIPTION:You can find us in Soso at First Baptist Church (271 Frosty Hinton Rd).
URL:https://laurel.lib.ms.us/event/lottie-the-trolley-soso-8-2/2030-02-13/
LOCATION:First Baptist Church\, 271 Frosty Hinton Rd\, Soso\, United States
CATEGORIES:LOTTIE the Trolley
ATTACH;FMTTYPE=image/png:https://laurel.lib.ms.us/wp-content/uploads/2025/07/Header-Trolley-Stops.png
END:VEVENT
BEGIN:VEVENT
DTSTART;TZID=America/Chicago:20300222T130000
DTEND;TZID=America/Chicago:20300222T143000
DTSTAMP:20260421T145644
CREATED:20260420T145454Z
LAST-MODIFIED:20260420T145454Z
UID:10141162-1897995600-1898001000@laurel.lib.ms.us
SUMMARY:LOTTIE the Trolley @Sandersville
DESCRIPTION:You can find us in Sandersville at Main St. & Hwy 11.
URL:https://laurel.lib.ms.us/event/lottie-the-trolley-sandersville-13-2/2030-02-22/
LOCATION:Sandersville\, Main St.\, Sandersville\, MS\, United States
CATEGORIES:LOTTIE the Trolley
ATTACH;FMTTYPE=image/png:https://laurel.lib.ms.us/wp-content/uploads/2025/07/Header-Trolley-Stops.png
END:VEVENT
BEGIN:VEVENT
DTSTART;TZID=America/Chicago:20300222T150000
DTEND;TZID=America/Chicago:20300222T160000
DTSTAMP:20260421T145644
CREATED:20260420T145501Z
LAST-MODIFIED:20260420T145501Z
UID:10141219-1898002800-1898006400@laurel.lib.ms.us
SUMMARY:LOTTIE the Trolley @Bogue Homa CERF
DESCRIPTION:You can find us at the Bogue Homa CERF building (8 Tomechi Anowa Dr.\, Heidelberg ).
URL:https://laurel.lib.ms.us/event/lottie-the-trolley-bogue-homa-cerf-6-2/2030-02-22/
LOCATION:CERF Building\, 8 Tomechi Anowa Dr.\, Heidelberg\, 39439\, United States
CATEGORIES:LOTTIE the Trolley
ATTACH;FMTTYPE=image/png:https://laurel.lib.ms.us/wp-content/uploads/2025/07/Header-Trolley-Stops.png
END:VEVENT
BEGIN:VEVENT
DTSTART;TZID=America/Chicago:20300227T150000
DTEND;TZID=America/Chicago:20300227T163000
DTSTAMP:20260421T145644
CREATED:20260420T145518Z
LAST-MODIFIED:20260420T145518Z
UID:10141276-1898434800-1898440200@laurel.lib.ms.us
SUMMARY:LOTTIE the Trolley @Calhoun
DESCRIPTION:You can find us in Calhoun at the Calhoun Community Center (5204 US-84 W).
URL:https://laurel.lib.ms.us/event/lottie-the-trolley-calhoun-3-2/2030-02-27/
LOCATION:Calhoun Community Center\, 5204 US-84 W\, Laurel\, MS\, 39443\, United States
CATEGORIES:LOTTIE the Trolley
ATTACH;FMTTYPE=image/png:https://laurel.lib.ms.us/wp-content/uploads/2025/07/Header-Trolley-Stops.png
END:VEVENT
BEGIN:VEVENT
DTSTART;TZID=America/Chicago:20300308T130000
DTEND;TZID=America/Chicago:20300308T143000
DTSTAMP:20260421T145644
CREATED:20260420T144217Z
LAST-MODIFIED:20260420T144217Z
UID:10141037-1899205200-1899210600@laurel.lib.ms.us
SUMMARY:LOTTIE the Trolley @Sandersville
DESCRIPTION:You can find us in Sandersville at Main St. & Hwy 11.
URL:https://laurel.lib.ms.us/event/lottie-the-trolley-sandersville-12-2/2030-03-08/
LOCATION:Sandersville\, Main St.\, Sandersville\, MS\, United States
CATEGORIES:LOTTIE the Trolley
ATTACH;FMTTYPE=image/png:https://laurel.lib.ms.us/wp-content/uploads/2025/07/Header-Trolley-Stops.png
END:VEVENT
BEGIN:VEVENT
DTSTART;TZID=America/Chicago:20300308T150000
DTEND;TZID=America/Chicago:20300308T160000
DTSTAMP:20260421T145644
CREATED:20260420T144223Z
LAST-MODIFIED:20260420T144223Z
UID:10141095-1899212400-1899216000@laurel.lib.ms.us
SUMMARY:LOTTIE the Trolley @Bogue Homa CERF
DESCRIPTION:You can find us at the Bogue Homa CERF building (8 Tomechi Anowa Dr.\, Heidelberg ).
URL:https://laurel.lib.ms.us/event/lottie-the-trolley-bogue-homa-cerf-5-2/2030-03-08/
LOCATION:CERF Building\, 8 Tomechi Anowa Dr.\, Heidelberg\, 39439\, United States
CATEGORIES:LOTTIE the Trolley
ATTACH;FMTTYPE=image/png:https://laurel.lib.ms.us/wp-content/uploads/2025/07/Header-Trolley-Stops.png
END:VEVENT
BEGIN:VEVENT
DTSTART;TZID=America/Chicago:20300313T150000
DTEND;TZID=America/Chicago:20300313T163000
DTSTAMP:20260421T145644
CREATED:20260420T144036Z
LAST-MODIFIED:20260420T144037Z
UID:10140978-1899644400-1899649800@laurel.lib.ms.us
SUMMARY:LOTTIE the Trolley @Soso
DESCRIPTION:You can find us in Soso at First Baptist Church (271 Frosty Hinton Rd).
URL:https://laurel.lib.ms.us/event/lottie-the-trolley-soso-8-2/2030-03-13/
LOCATION:First Baptist Church\, 271 Frosty Hinton Rd\, Soso\, United States
CATEGORIES:LOTTIE the Trolley
ATTACH;FMTTYPE=image/png:https://laurel.lib.ms.us/wp-content/uploads/2025/07/Header-Trolley-Stops.png
END:VEVENT
BEGIN:VEVENT
DTSTART;TZID=America/Chicago:20300322T130000
DTEND;TZID=America/Chicago:20300322T143000
DTSTAMP:20260421T145644
CREATED:20260420T145454Z
LAST-MODIFIED:20260420T145454Z
UID:10141163-1900414800-1900420200@laurel.lib.ms.us
SUMMARY:LOTTIE the Trolley @Sandersville
DESCRIPTION:You can find us in Sandersville at Main St. & Hwy 11.
URL:https://laurel.lib.ms.us/event/lottie-the-trolley-sandersville-13-2/2030-03-22/
LOCATION:Sandersville\, Main St.\, Sandersville\, MS\, United States
CATEGORIES:LOTTIE the Trolley
ATTACH;FMTTYPE=image/png:https://laurel.lib.ms.us/wp-content/uploads/2025/07/Header-Trolley-Stops.png
END:VEVENT
BEGIN:VEVENT
DTSTART;TZID=America/Chicago:20300322T150000
DTEND;TZID=America/Chicago:20300322T160000
DTSTAMP:20260421T145644
CREATED:20260420T145501Z
LAST-MODIFIED:20260420T145501Z
UID:10141220-1900422000-1900425600@laurel.lib.ms.us
SUMMARY:LOTTIE the Trolley @Bogue Homa CERF
DESCRIPTION:You can find us at the Bogue Homa CERF building (8 Tomechi Anowa Dr.\, Heidelberg ).
URL:https://laurel.lib.ms.us/event/lottie-the-trolley-bogue-homa-cerf-6-2/2030-03-22/
LOCATION:CERF Building\, 8 Tomechi Anowa Dr.\, Heidelberg\, 39439\, United States
CATEGORIES:LOTTIE the Trolley
ATTACH;FMTTYPE=image/png:https://laurel.lib.ms.us/wp-content/uploads/2025/07/Header-Trolley-Stops.png
END:VEVENT
BEGIN:VEVENT
DTSTART;TZID=America/Chicago:20300327T150000
DTEND;TZID=America/Chicago:20300327T163000
DTSTAMP:20260421T145644
CREATED:20260420T145518Z
LAST-MODIFIED:20260420T145518Z
UID:10141277-1900854000-1900859400@laurel.lib.ms.us
SUMMARY:LOTTIE the Trolley @Calhoun
DESCRIPTION:You can find us in Calhoun at the Calhoun Community Center (5204 US-84 W).
URL:https://laurel.lib.ms.us/event/lottie-the-trolley-calhoun-3-2/2030-03-27/
LOCATION:Calhoun Community Center\, 5204 US-84 W\, Laurel\, MS\, 39443\, United States
CATEGORIES:LOTTIE the Trolley
ATTACH;FMTTYPE=image/png:https://laurel.lib.ms.us/wp-content/uploads/2025/07/Header-Trolley-Stops.png
END:VEVENT
BEGIN:VEVENT
DTSTART;TZID=America/Chicago:20300410T150000
DTEND;TZID=America/Chicago:20300410T163000
DTSTAMP:20260421T145644
CREATED:20260420T144036Z
LAST-MODIFIED:20260420T144037Z
UID:10140979-1902063600-1902069000@laurel.lib.ms.us
SUMMARY:LOTTIE the Trolley @Soso
DESCRIPTION:You can find us in Soso at First Baptist Church (271 Frosty Hinton Rd).
URL:https://laurel.lib.ms.us/event/lottie-the-trolley-soso-8-2/2030-04-10/
LOCATION:First Baptist Church\, 271 Frosty Hinton Rd\, Soso\, United States
CATEGORIES:LOTTIE the Trolley
ATTACH;FMTTYPE=image/png:https://laurel.lib.ms.us/wp-content/uploads/2025/07/Header-Trolley-Stops.png
END:VEVENT
BEGIN:VEVENT
DTSTART;TZID=America/Chicago:20300412T130000
DTEND;TZID=America/Chicago:20300412T143000
DTSTAMP:20260421T145644
CREATED:20260420T144217Z
LAST-MODIFIED:20260420T144217Z
UID:10141038-1902229200-1902234600@laurel.lib.ms.us
SUMMARY:LOTTIE the Trolley @Sandersville
DESCRIPTION:You can find us in Sandersville at Main St. & Hwy 11.
URL:https://laurel.lib.ms.us/event/lottie-the-trolley-sandersville-12-2/2030-04-12/
LOCATION:Sandersville\, Main St.\, Sandersville\, MS\, United States
CATEGORIES:LOTTIE the Trolley
ATTACH;FMTTYPE=image/png:https://laurel.lib.ms.us/wp-content/uploads/2025/07/Header-Trolley-Stops.png
END:VEVENT
BEGIN:VEVENT
DTSTART;TZID=America/Chicago:20300412T150000
DTEND;TZID=America/Chicago:20300412T160000
DTSTAMP:20260421T145644
CREATED:20260420T144223Z
LAST-MODIFIED:20260420T144223Z
UID:10141096-1902236400-1902240000@laurel.lib.ms.us
SUMMARY:LOTTIE the Trolley @Bogue Homa CERF
DESCRIPTION:You can find us at the Bogue Homa CERF building (8 Tomechi Anowa Dr.\, Heidelberg ).
URL:https://laurel.lib.ms.us/event/lottie-the-trolley-bogue-homa-cerf-5-2/2030-04-12/
LOCATION:CERF Building\, 8 Tomechi Anowa Dr.\, Heidelberg\, 39439\, United States
CATEGORIES:LOTTIE the Trolley
ATTACH;FMTTYPE=image/png:https://laurel.lib.ms.us/wp-content/uploads/2025/07/Header-Trolley-Stops.png
END:VEVENT
BEGIN:VEVENT
DTSTART;TZID=America/Chicago:20300424T150000
DTEND;TZID=America/Chicago:20300424T163000
DTSTAMP:20260421T145644
CREATED:20260420T145518Z
LAST-MODIFIED:20260420T145518Z
UID:10141278-1903273200-1903278600@laurel.lib.ms.us
SUMMARY:LOTTIE the Trolley @Calhoun
DESCRIPTION:You can find us in Calhoun at the Calhoun Community Center (5204 US-84 W).
URL:https://laurel.lib.ms.us/event/lottie-the-trolley-calhoun-3-2/2030-04-24/
LOCATION:Calhoun Community Center\, 5204 US-84 W\, Laurel\, MS\, 39443\, United States
CATEGORIES:LOTTIE the Trolley
ATTACH;FMTTYPE=image/png:https://laurel.lib.ms.us/wp-content/uploads/2025/07/Header-Trolley-Stops.png
END:VEVENT
BEGIN:VEVENT
DTSTART;TZID=America/Chicago:20300426T130000
DTEND;TZID=America/Chicago:20300426T143000
DTSTAMP:20260421T145644
CREATED:20260420T145454Z
LAST-MODIFIED:20260420T145454Z
UID:10141164-1903438800-1903444200@laurel.lib.ms.us
SUMMARY:LOTTIE the Trolley @Sandersville
DESCRIPTION:You can find us in Sandersville at Main St. & Hwy 11.
URL:https://laurel.lib.ms.us/event/lottie-the-trolley-sandersville-13-2/2030-04-26/
LOCATION:Sandersville\, Main St.\, Sandersville\, MS\, United States
CATEGORIES:LOTTIE the Trolley
ATTACH;FMTTYPE=image/png:https://laurel.lib.ms.us/wp-content/uploads/2025/07/Header-Trolley-Stops.png
END:VEVENT
END:VCALENDAR