BEGIN:VCALENDAR
VERSION:2.0
PRODID:-//Laurel Library - ECPv6.15.20//NONSGML v1.0//EN
CALSCALE:GREGORIAN
METHOD:PUBLISH
X-WR-CALNAME:Laurel Library
X-ORIGINAL-URL:https://laurel.lib.ms.us
X-WR-CALDESC:Events for Laurel Library
REFRESH-INTERVAL;VALUE=DURATION:PT1H
X-Robots-Tag:noindex
X-PUBLISHED-TTL:PT1H
BEGIN:VTIMEZONE
TZID:America/Chicago
BEGIN:DAYLIGHT
TZOFFSETFROM:-0600
TZOFFSETTO:-0500
TZNAME:CDT
DTSTART:20270314T080000
END:DAYLIGHT
BEGIN:STANDARD
TZOFFSETFROM:-0500
TZOFFSETTO:-0600
TZNAME:CST
DTSTART:20271107T070000
END:STANDARD
BEGIN:DAYLIGHT
TZOFFSETFROM:-0600
TZOFFSETTO:-0500
TZNAME:CDT
DTSTART:20280312T080000
END:DAYLIGHT
BEGIN:STANDARD
TZOFFSETFROM:-0500
TZOFFSETTO:-0600
TZNAME:CST
DTSTART:20281105T070000
END:STANDARD
BEGIN:DAYLIGHT
TZOFFSETFROM:-0600
TZOFFSETTO:-0500
TZNAME:CDT
DTSTART:20290311T080000
END:DAYLIGHT
BEGIN:STANDARD
TZOFFSETFROM:-0500
TZOFFSETTO:-0600
TZNAME:CST
DTSTART:20291104T070000
END:STANDARD
END:VTIMEZONE
BEGIN:VEVENT
DTSTART;TZID=America/Chicago:20280128T150000
DTEND;TZID=America/Chicago:20280128T160000
DTSTAMP:20260420T191304
CREATED:20260420T145501Z
LAST-MODIFIED:20260420T145501Z
UID:10141194-1832684400-1832688000@laurel.lib.ms.us
SUMMARY:LOTTIE the Trolley @Bogue Homa CERF
DESCRIPTION:You can find us at the Bogue Homa CERF building (8 Tomechi Anowa Dr.\, Heidelberg ).
URL:https://laurel.lib.ms.us/event/lottie-the-trolley-bogue-homa-cerf-6-2/2028-01-28/
LOCATION:CERF Building\, 8 Tomechi Anowa Dr.\, Heidelberg\, 39439\, United States
CATEGORIES:LOTTIE the Trolley
ATTACH;FMTTYPE=image/png:https://laurel.lib.ms.us/wp-content/uploads/2025/07/Header-Trolley-Stops.png
END:VEVENT
BEGIN:VEVENT
DTSTART;TZID=America/Chicago:20280209T150000
DTEND;TZID=America/Chicago:20280209T163000
DTSTAMP:20260420T191304
CREATED:20260420T144036Z
LAST-MODIFIED:20260420T144037Z
UID:10140953-1833721200-1833726600@laurel.lib.ms.us
SUMMARY:LOTTIE the Trolley @Soso
DESCRIPTION:You can find us in Soso at First Baptist Church (271 Frosty Hinton Rd).
URL:https://laurel.lib.ms.us/event/lottie-the-trolley-soso-8-2/2028-02-09/
LOCATION:First Baptist Church\, 271 Frosty Hinton Rd\, Soso\, United States
CATEGORIES:LOTTIE the Trolley
ATTACH;FMTTYPE=image/png:https://laurel.lib.ms.us/wp-content/uploads/2025/07/Header-Trolley-Stops.png
END:VEVENT
BEGIN:VEVENT
DTSTART;TZID=America/Chicago:20280211T130000
DTEND;TZID=America/Chicago:20280211T143000
DTSTAMP:20260420T191304
CREATED:20260420T144217Z
LAST-MODIFIED:20260420T144217Z
UID:10141012-1833886800-1833892200@laurel.lib.ms.us
SUMMARY:LOTTIE the Trolley @Sandersville
DESCRIPTION:You can find us in Sandersville at Main St. & Hwy 11.
URL:https://laurel.lib.ms.us/event/lottie-the-trolley-sandersville-12-2/2028-02-11/
LOCATION:Sandersville\, Main St.\, Sandersville\, MS\, United States
CATEGORIES:LOTTIE the Trolley
ATTACH;FMTTYPE=image/png:https://laurel.lib.ms.us/wp-content/uploads/2025/07/Header-Trolley-Stops.png
END:VEVENT
BEGIN:VEVENT
DTSTART;TZID=America/Chicago:20280211T150000
DTEND;TZID=America/Chicago:20280211T160000
DTSTAMP:20260420T191304
CREATED:20260420T144223Z
LAST-MODIFIED:20260420T144223Z
UID:10141070-1833894000-1833897600@laurel.lib.ms.us
SUMMARY:LOTTIE the Trolley @Bogue Homa CERF
DESCRIPTION:You can find us at the Bogue Homa CERF building (8 Tomechi Anowa Dr.\, Heidelberg ).
URL:https://laurel.lib.ms.us/event/lottie-the-trolley-bogue-homa-cerf-5-2/2028-02-11/
LOCATION:CERF Building\, 8 Tomechi Anowa Dr.\, Heidelberg\, 39439\, United States
CATEGORIES:LOTTIE the Trolley
ATTACH;FMTTYPE=image/png:https://laurel.lib.ms.us/wp-content/uploads/2025/07/Header-Trolley-Stops.png
END:VEVENT
BEGIN:VEVENT
DTSTART;TZID=America/Chicago:20280223T150000
DTEND;TZID=America/Chicago:20280223T163000
DTSTAMP:20260420T191304
CREATED:20260420T145518Z
LAST-MODIFIED:20260420T145518Z
UID:10141252-1834930800-1834936200@laurel.lib.ms.us
SUMMARY:LOTTIE the Trolley @Calhoun
DESCRIPTION:You can find us in Calhoun at the Calhoun Community Center (5204 US-84 W).
URL:https://laurel.lib.ms.us/event/lottie-the-trolley-calhoun-3-2/2028-02-23/
LOCATION:Calhoun Community Center\, 5204 US-84 W\, Laurel\, MS\, 39443\, United States
CATEGORIES:LOTTIE the Trolley
ATTACH;FMTTYPE=image/png:https://laurel.lib.ms.us/wp-content/uploads/2025/07/Header-Trolley-Stops.png
END:VEVENT
BEGIN:VEVENT
DTSTART;TZID=America/Chicago:20280225T130000
DTEND;TZID=America/Chicago:20280225T143000
DTSTAMP:20260420T191304
CREATED:20260420T145454Z
LAST-MODIFIED:20260420T145454Z
UID:10141138-1835096400-1835101800@laurel.lib.ms.us
SUMMARY:LOTTIE the Trolley @Sandersville
DESCRIPTION:You can find us in Sandersville at Main St. & Hwy 11.
URL:https://laurel.lib.ms.us/event/lottie-the-trolley-sandersville-13-2/2028-02-25/
LOCATION:Sandersville\, Main St.\, Sandersville\, MS\, United States
CATEGORIES:LOTTIE the Trolley
ATTACH;FMTTYPE=image/png:https://laurel.lib.ms.us/wp-content/uploads/2025/07/Header-Trolley-Stops.png
END:VEVENT
BEGIN:VEVENT
DTSTART;TZID=America/Chicago:20280225T150000
DTEND;TZID=America/Chicago:20280225T160000
DTSTAMP:20260420T191304
CREATED:20260420T145501Z
LAST-MODIFIED:20260420T145501Z
UID:10141195-1835103600-1835107200@laurel.lib.ms.us
SUMMARY:LOTTIE the Trolley @Bogue Homa CERF
DESCRIPTION:You can find us at the Bogue Homa CERF building (8 Tomechi Anowa Dr.\, Heidelberg ).
URL:https://laurel.lib.ms.us/event/lottie-the-trolley-bogue-homa-cerf-6-2/2028-02-25/
LOCATION:CERF Building\, 8 Tomechi Anowa Dr.\, Heidelberg\, 39439\, United States
CATEGORIES:LOTTIE the Trolley
ATTACH;FMTTYPE=image/png:https://laurel.lib.ms.us/wp-content/uploads/2025/07/Header-Trolley-Stops.png
END:VEVENT
BEGIN:VEVENT
DTSTART;TZID=America/Chicago:20280308T150000
DTEND;TZID=America/Chicago:20280308T163000
DTSTAMP:20260420T191304
CREATED:20260420T144036Z
LAST-MODIFIED:20260420T144037Z
UID:10140954-1836140400-1836145800@laurel.lib.ms.us
SUMMARY:LOTTIE the Trolley @Soso
DESCRIPTION:You can find us in Soso at First Baptist Church (271 Frosty Hinton Rd).
URL:https://laurel.lib.ms.us/event/lottie-the-trolley-soso-8-2/2028-03-08/
LOCATION:First Baptist Church\, 271 Frosty Hinton Rd\, Soso\, United States
CATEGORIES:LOTTIE the Trolley
ATTACH;FMTTYPE=image/png:https://laurel.lib.ms.us/wp-content/uploads/2025/07/Header-Trolley-Stops.png
END:VEVENT
BEGIN:VEVENT
DTSTART;TZID=America/Chicago:20280310T130000
DTEND;TZID=America/Chicago:20280310T143000
DTSTAMP:20260420T191304
CREATED:20260420T144217Z
LAST-MODIFIED:20260420T144217Z
UID:10141013-1836306000-1836311400@laurel.lib.ms.us
SUMMARY:LOTTIE the Trolley @Sandersville
DESCRIPTION:You can find us in Sandersville at Main St. & Hwy 11.
URL:https://laurel.lib.ms.us/event/lottie-the-trolley-sandersville-12-2/2028-03-10/
LOCATION:Sandersville\, Main St.\, Sandersville\, MS\, United States
CATEGORIES:LOTTIE the Trolley
ATTACH;FMTTYPE=image/png:https://laurel.lib.ms.us/wp-content/uploads/2025/07/Header-Trolley-Stops.png
END:VEVENT
BEGIN:VEVENT
DTSTART;TZID=America/Chicago:20280310T150000
DTEND;TZID=America/Chicago:20280310T160000
DTSTAMP:20260420T191304
CREATED:20260420T144223Z
LAST-MODIFIED:20260420T144223Z
UID:10141071-1836313200-1836316800@laurel.lib.ms.us
SUMMARY:LOTTIE the Trolley @Bogue Homa CERF
DESCRIPTION:You can find us at the Bogue Homa CERF building (8 Tomechi Anowa Dr.\, Heidelberg ).
URL:https://laurel.lib.ms.us/event/lottie-the-trolley-bogue-homa-cerf-5-2/2028-03-10/
LOCATION:CERF Building\, 8 Tomechi Anowa Dr.\, Heidelberg\, 39439\, United States
CATEGORIES:LOTTIE the Trolley
ATTACH;FMTTYPE=image/png:https://laurel.lib.ms.us/wp-content/uploads/2025/07/Header-Trolley-Stops.png
END:VEVENT
BEGIN:VEVENT
DTSTART;TZID=America/Chicago:20280322T150000
DTEND;TZID=America/Chicago:20280322T163000
DTSTAMP:20260420T191304
CREATED:20260420T145518Z
LAST-MODIFIED:20260420T145518Z
UID:10141253-1837350000-1837355400@laurel.lib.ms.us
SUMMARY:LOTTIE the Trolley @Calhoun
DESCRIPTION:You can find us in Calhoun at the Calhoun Community Center (5204 US-84 W).
URL:https://laurel.lib.ms.us/event/lottie-the-trolley-calhoun-3-2/2028-03-22/
LOCATION:Calhoun Community Center\, 5204 US-84 W\, Laurel\, MS\, 39443\, United States
CATEGORIES:LOTTIE the Trolley
ATTACH;FMTTYPE=image/png:https://laurel.lib.ms.us/wp-content/uploads/2025/07/Header-Trolley-Stops.png
END:VEVENT
BEGIN:VEVENT
DTSTART;TZID=America/Chicago:20280324T130000
DTEND;TZID=America/Chicago:20280324T143000
DTSTAMP:20260420T191304
CREATED:20260420T145454Z
LAST-MODIFIED:20260420T145454Z
UID:10141139-1837515600-1837521000@laurel.lib.ms.us
SUMMARY:LOTTIE the Trolley @Sandersville
DESCRIPTION:You can find us in Sandersville at Main St. & Hwy 11.
URL:https://laurel.lib.ms.us/event/lottie-the-trolley-sandersville-13-2/2028-03-24/
LOCATION:Sandersville\, Main St.\, Sandersville\, MS\, United States
CATEGORIES:LOTTIE the Trolley
ATTACH;FMTTYPE=image/png:https://laurel.lib.ms.us/wp-content/uploads/2025/07/Header-Trolley-Stops.png
END:VEVENT
BEGIN:VEVENT
DTSTART;TZID=America/Chicago:20280324T150000
DTEND;TZID=America/Chicago:20280324T160000
DTSTAMP:20260420T191304
CREATED:20260420T145501Z
LAST-MODIFIED:20260420T145501Z
UID:10141196-1837522800-1837526400@laurel.lib.ms.us
SUMMARY:LOTTIE the Trolley @Bogue Homa CERF
DESCRIPTION:You can find us at the Bogue Homa CERF building (8 Tomechi Anowa Dr.\, Heidelberg ).
URL:https://laurel.lib.ms.us/event/lottie-the-trolley-bogue-homa-cerf-6-2/2028-03-24/
LOCATION:CERF Building\, 8 Tomechi Anowa Dr.\, Heidelberg\, 39439\, United States
CATEGORIES:LOTTIE the Trolley
ATTACH;FMTTYPE=image/png:https://laurel.lib.ms.us/wp-content/uploads/2025/07/Header-Trolley-Stops.png
END:VEVENT
BEGIN:VEVENT
DTSTART;TZID=America/Chicago:20280412T150000
DTEND;TZID=America/Chicago:20280412T163000
DTSTAMP:20260420T191304
CREATED:20260420T144036Z
LAST-MODIFIED:20260420T144037Z
UID:10140955-1839164400-1839169800@laurel.lib.ms.us
SUMMARY:LOTTIE the Trolley @Soso
DESCRIPTION:You can find us in Soso at First Baptist Church (271 Frosty Hinton Rd).
URL:https://laurel.lib.ms.us/event/lottie-the-trolley-soso-8-2/2028-04-12/
LOCATION:First Baptist Church\, 271 Frosty Hinton Rd\, Soso\, United States
CATEGORIES:LOTTIE the Trolley
ATTACH;FMTTYPE=image/png:https://laurel.lib.ms.us/wp-content/uploads/2025/07/Header-Trolley-Stops.png
END:VEVENT
BEGIN:VEVENT
DTSTART;TZID=America/Chicago:20280414T130000
DTEND;TZID=America/Chicago:20280414T143000
DTSTAMP:20260420T191304
CREATED:20260420T144217Z
LAST-MODIFIED:20260420T144217Z
UID:10141014-1839330000-1839335400@laurel.lib.ms.us
SUMMARY:LOTTIE the Trolley @Sandersville
DESCRIPTION:You can find us in Sandersville at Main St. & Hwy 11.
URL:https://laurel.lib.ms.us/event/lottie-the-trolley-sandersville-12-2/2028-04-14/
LOCATION:Sandersville\, Main St.\, Sandersville\, MS\, United States
CATEGORIES:LOTTIE the Trolley
ATTACH;FMTTYPE=image/png:https://laurel.lib.ms.us/wp-content/uploads/2025/07/Header-Trolley-Stops.png
END:VEVENT
BEGIN:VEVENT
DTSTART;TZID=America/Chicago:20280414T150000
DTEND;TZID=America/Chicago:20280414T160000
DTSTAMP:20260420T191304
CREATED:20260420T144223Z
LAST-MODIFIED:20260420T144223Z
UID:10141072-1839337200-1839340800@laurel.lib.ms.us
SUMMARY:LOTTIE the Trolley @Bogue Homa CERF
DESCRIPTION:You can find us at the Bogue Homa CERF building (8 Tomechi Anowa Dr.\, Heidelberg ).
URL:https://laurel.lib.ms.us/event/lottie-the-trolley-bogue-homa-cerf-5-2/2028-04-14/
LOCATION:CERF Building\, 8 Tomechi Anowa Dr.\, Heidelberg\, 39439\, United States
CATEGORIES:LOTTIE the Trolley
ATTACH;FMTTYPE=image/png:https://laurel.lib.ms.us/wp-content/uploads/2025/07/Header-Trolley-Stops.png
END:VEVENT
BEGIN:VEVENT
DTSTART;TZID=America/Chicago:20280426T150000
DTEND;TZID=America/Chicago:20280426T163000
DTSTAMP:20260420T191304
CREATED:20260420T145518Z
LAST-MODIFIED:20260420T145518Z
UID:10141254-1840374000-1840379400@laurel.lib.ms.us
SUMMARY:LOTTIE the Trolley @Calhoun
DESCRIPTION:You can find us in Calhoun at the Calhoun Community Center (5204 US-84 W).
URL:https://laurel.lib.ms.us/event/lottie-the-trolley-calhoun-3-2/2028-04-26/
LOCATION:Calhoun Community Center\, 5204 US-84 W\, Laurel\, MS\, 39443\, United States
CATEGORIES:LOTTIE the Trolley
ATTACH;FMTTYPE=image/png:https://laurel.lib.ms.us/wp-content/uploads/2025/07/Header-Trolley-Stops.png
END:VEVENT
BEGIN:VEVENT
DTSTART;TZID=America/Chicago:20280428T130000
DTEND;TZID=America/Chicago:20280428T143000
DTSTAMP:20260420T191304
CREATED:20260420T145454Z
LAST-MODIFIED:20260420T145454Z
UID:10141140-1840539600-1840545000@laurel.lib.ms.us
SUMMARY:LOTTIE the Trolley @Sandersville
DESCRIPTION:You can find us in Sandersville at Main St. & Hwy 11.
URL:https://laurel.lib.ms.us/event/lottie-the-trolley-sandersville-13-2/2028-04-28/
LOCATION:Sandersville\, Main St.\, Sandersville\, MS\, United States
CATEGORIES:LOTTIE the Trolley
ATTACH;FMTTYPE=image/png:https://laurel.lib.ms.us/wp-content/uploads/2025/07/Header-Trolley-Stops.png
END:VEVENT
BEGIN:VEVENT
DTSTART;TZID=America/Chicago:20280428T150000
DTEND;TZID=America/Chicago:20280428T160000
DTSTAMP:20260420T191304
CREATED:20260420T145501Z
LAST-MODIFIED:20260420T145501Z
UID:10141197-1840546800-1840550400@laurel.lib.ms.us
SUMMARY:LOTTIE the Trolley @Bogue Homa CERF
DESCRIPTION:You can find us at the Bogue Homa CERF building (8 Tomechi Anowa Dr.\, Heidelberg ).
URL:https://laurel.lib.ms.us/event/lottie-the-trolley-bogue-homa-cerf-6-2/2028-04-28/
LOCATION:CERF Building\, 8 Tomechi Anowa Dr.\, Heidelberg\, 39439\, United States
CATEGORIES:LOTTIE the Trolley
ATTACH;FMTTYPE=image/png:https://laurel.lib.ms.us/wp-content/uploads/2025/07/Header-Trolley-Stops.png
END:VEVENT
BEGIN:VEVENT
DTSTART;TZID=America/Chicago:20280510T150000
DTEND;TZID=America/Chicago:20280510T163000
DTSTAMP:20260420T191304
CREATED:20260420T144036Z
LAST-MODIFIED:20260420T144037Z
UID:10140956-1841583600-1841589000@laurel.lib.ms.us
SUMMARY:LOTTIE the Trolley @Soso
DESCRIPTION:You can find us in Soso at First Baptist Church (271 Frosty Hinton Rd).
URL:https://laurel.lib.ms.us/event/lottie-the-trolley-soso-8-2/2028-05-10/
LOCATION:First Baptist Church\, 271 Frosty Hinton Rd\, Soso\, United States
CATEGORIES:LOTTIE the Trolley
ATTACH;FMTTYPE=image/png:https://laurel.lib.ms.us/wp-content/uploads/2025/07/Header-Trolley-Stops.png
END:VEVENT
BEGIN:VEVENT
DTSTART;TZID=America/Chicago:20280512T130000
DTEND;TZID=America/Chicago:20280512T143000
DTSTAMP:20260420T191304
CREATED:20260420T144217Z
LAST-MODIFIED:20260420T144217Z
UID:10141015-1841749200-1841754600@laurel.lib.ms.us
SUMMARY:LOTTIE the Trolley @Sandersville
DESCRIPTION:You can find us in Sandersville at Main St. & Hwy 11.
URL:https://laurel.lib.ms.us/event/lottie-the-trolley-sandersville-12-2/2028-05-12/
LOCATION:Sandersville\, Main St.\, Sandersville\, MS\, United States
CATEGORIES:LOTTIE the Trolley
ATTACH;FMTTYPE=image/png:https://laurel.lib.ms.us/wp-content/uploads/2025/07/Header-Trolley-Stops.png
END:VEVENT
BEGIN:VEVENT
DTSTART;TZID=America/Chicago:20280512T150000
DTEND;TZID=America/Chicago:20280512T160000
DTSTAMP:20260420T191304
CREATED:20260420T144223Z
LAST-MODIFIED:20260420T144223Z
UID:10141073-1841756400-1841760000@laurel.lib.ms.us
SUMMARY:LOTTIE the Trolley @Bogue Homa CERF
DESCRIPTION:You can find us at the Bogue Homa CERF building (8 Tomechi Anowa Dr.\, Heidelberg ).
URL:https://laurel.lib.ms.us/event/lottie-the-trolley-bogue-homa-cerf-5-2/2028-05-12/
LOCATION:CERF Building\, 8 Tomechi Anowa Dr.\, Heidelberg\, 39439\, United States
CATEGORIES:LOTTIE the Trolley
ATTACH;FMTTYPE=image/png:https://laurel.lib.ms.us/wp-content/uploads/2025/07/Header-Trolley-Stops.png
END:VEVENT
BEGIN:VEVENT
DTSTART;TZID=America/Chicago:20280524T150000
DTEND;TZID=America/Chicago:20280524T163000
DTSTAMP:20260420T191304
CREATED:20260420T145518Z
LAST-MODIFIED:20260420T145518Z
UID:10141255-1842793200-1842798600@laurel.lib.ms.us
SUMMARY:LOTTIE the Trolley @Calhoun
DESCRIPTION:You can find us in Calhoun at the Calhoun Community Center (5204 US-84 W).
URL:https://laurel.lib.ms.us/event/lottie-the-trolley-calhoun-3-2/2028-05-24/
LOCATION:Calhoun Community Center\, 5204 US-84 W\, Laurel\, MS\, 39443\, United States
CATEGORIES:LOTTIE the Trolley
ATTACH;FMTTYPE=image/png:https://laurel.lib.ms.us/wp-content/uploads/2025/07/Header-Trolley-Stops.png
END:VEVENT
BEGIN:VEVENT
DTSTART;TZID=America/Chicago:20280526T130000
DTEND;TZID=America/Chicago:20280526T143000
DTSTAMP:20260420T191304
CREATED:20260420T145454Z
LAST-MODIFIED:20260420T145454Z
UID:10141141-1842958800-1842964200@laurel.lib.ms.us
SUMMARY:LOTTIE the Trolley @Sandersville
DESCRIPTION:You can find us in Sandersville at Main St. & Hwy 11.
URL:https://laurel.lib.ms.us/event/lottie-the-trolley-sandersville-13-2/2028-05-26/
LOCATION:Sandersville\, Main St.\, Sandersville\, MS\, United States
CATEGORIES:LOTTIE the Trolley
ATTACH;FMTTYPE=image/png:https://laurel.lib.ms.us/wp-content/uploads/2025/07/Header-Trolley-Stops.png
END:VEVENT
BEGIN:VEVENT
DTSTART;TZID=America/Chicago:20280526T150000
DTEND;TZID=America/Chicago:20280526T160000
DTSTAMP:20260420T191304
CREATED:20260420T145501Z
LAST-MODIFIED:20260420T145501Z
UID:10141198-1842966000-1842969600@laurel.lib.ms.us
SUMMARY:LOTTIE the Trolley @Bogue Homa CERF
DESCRIPTION:You can find us at the Bogue Homa CERF building (8 Tomechi Anowa Dr.\, Heidelberg ).
URL:https://laurel.lib.ms.us/event/lottie-the-trolley-bogue-homa-cerf-6-2/2028-05-26/
LOCATION:CERF Building\, 8 Tomechi Anowa Dr.\, Heidelberg\, 39439\, United States
CATEGORIES:LOTTIE the Trolley
ATTACH;FMTTYPE=image/png:https://laurel.lib.ms.us/wp-content/uploads/2025/07/Header-Trolley-Stops.png
END:VEVENT
BEGIN:VEVENT
DTSTART;TZID=America/Chicago:20280609T130000
DTEND;TZID=America/Chicago:20280609T143000
DTSTAMP:20260420T191304
CREATED:20260420T144217Z
LAST-MODIFIED:20260420T144217Z
UID:10141016-1844168400-1844173800@laurel.lib.ms.us
SUMMARY:LOTTIE the Trolley @Sandersville
DESCRIPTION:You can find us in Sandersville at Main St. & Hwy 11.
URL:https://laurel.lib.ms.us/event/lottie-the-trolley-sandersville-12-2/2028-06-09/
LOCATION:Sandersville\, Main St.\, Sandersville\, MS\, United States
CATEGORIES:LOTTIE the Trolley
ATTACH;FMTTYPE=image/png:https://laurel.lib.ms.us/wp-content/uploads/2025/07/Header-Trolley-Stops.png
END:VEVENT
BEGIN:VEVENT
DTSTART;TZID=America/Chicago:20280609T150000
DTEND;TZID=America/Chicago:20280609T160000
DTSTAMP:20260420T191304
CREATED:20260420T144223Z
LAST-MODIFIED:20260420T144223Z
UID:10141074-1844175600-1844179200@laurel.lib.ms.us
SUMMARY:LOTTIE the Trolley @Bogue Homa CERF
DESCRIPTION:You can find us at the Bogue Homa CERF building (8 Tomechi Anowa Dr.\, Heidelberg ).
URL:https://laurel.lib.ms.us/event/lottie-the-trolley-bogue-homa-cerf-5-2/2028-06-09/
LOCATION:CERF Building\, 8 Tomechi Anowa Dr.\, Heidelberg\, 39439\, United States
CATEGORIES:LOTTIE the Trolley
ATTACH;FMTTYPE=image/png:https://laurel.lib.ms.us/wp-content/uploads/2025/07/Header-Trolley-Stops.png
END:VEVENT
BEGIN:VEVENT
DTSTART;TZID=America/Chicago:20280614T150000
DTEND;TZID=America/Chicago:20280614T163000
DTSTAMP:20260420T191304
CREATED:20260420T144036Z
LAST-MODIFIED:20260420T144037Z
UID:10140957-1844607600-1844613000@laurel.lib.ms.us
SUMMARY:LOTTIE the Trolley @Soso
DESCRIPTION:You can find us in Soso at First Baptist Church (271 Frosty Hinton Rd).
URL:https://laurel.lib.ms.us/event/lottie-the-trolley-soso-8-2/2028-06-14/
LOCATION:First Baptist Church\, 271 Frosty Hinton Rd\, Soso\, United States
CATEGORIES:LOTTIE the Trolley
ATTACH;FMTTYPE=image/png:https://laurel.lib.ms.us/wp-content/uploads/2025/07/Header-Trolley-Stops.png
END:VEVENT
BEGIN:VEVENT
DTSTART;TZID=America/Chicago:20280623T130000
DTEND;TZID=America/Chicago:20280623T143000
DTSTAMP:20260420T191304
CREATED:20260420T145454Z
LAST-MODIFIED:20260420T145454Z
UID:10141142-1845378000-1845383400@laurel.lib.ms.us
SUMMARY:LOTTIE the Trolley @Sandersville
DESCRIPTION:You can find us in Sandersville at Main St. & Hwy 11.
URL:https://laurel.lib.ms.us/event/lottie-the-trolley-sandersville-13-2/2028-06-23/
LOCATION:Sandersville\, Main St.\, Sandersville\, MS\, United States
CATEGORIES:LOTTIE the Trolley
ATTACH;FMTTYPE=image/png:https://laurel.lib.ms.us/wp-content/uploads/2025/07/Header-Trolley-Stops.png
END:VEVENT
BEGIN:VEVENT
DTSTART;TZID=America/Chicago:20280623T150000
DTEND;TZID=America/Chicago:20280623T160000
DTSTAMP:20260420T191304
CREATED:20260420T145501Z
LAST-MODIFIED:20260420T145501Z
UID:10141199-1845385200-1845388800@laurel.lib.ms.us
SUMMARY:LOTTIE the Trolley @Bogue Homa CERF
DESCRIPTION:You can find us at the Bogue Homa CERF building (8 Tomechi Anowa Dr.\, Heidelberg ).
URL:https://laurel.lib.ms.us/event/lottie-the-trolley-bogue-homa-cerf-6-2/2028-06-23/
LOCATION:CERF Building\, 8 Tomechi Anowa Dr.\, Heidelberg\, 39439\, United States
CATEGORIES:LOTTIE the Trolley
ATTACH;FMTTYPE=image/png:https://laurel.lib.ms.us/wp-content/uploads/2025/07/Header-Trolley-Stops.png
END:VEVENT
END:VCALENDAR