BEGIN:VCALENDAR
VERSION:2.0
PRODID:-//Laurel Library - ECPv6.15.20//NONSGML v1.0//EN
CALSCALE:GREGORIAN
METHOD:PUBLISH
X-WR-CALNAME:Laurel Library
X-ORIGINAL-URL:https://laurel.lib.ms.us
X-WR-CALDESC:Events for Laurel Library
REFRESH-INTERVAL;VALUE=DURATION:PT1H
X-Robots-Tag:noindex
X-PUBLISHED-TTL:PT1H
BEGIN:VTIMEZONE
TZID:America/Chicago
BEGIN:DAYLIGHT
TZOFFSETFROM:-0600
TZOFFSETTO:-0500
TZNAME:CDT
DTSTART:20240310T080000
END:DAYLIGHT
BEGIN:STANDARD
TZOFFSETFROM:-0500
TZOFFSETTO:-0600
TZNAME:CST
DTSTART:20241103T070000
END:STANDARD
BEGIN:DAYLIGHT
TZOFFSETFROM:-0600
TZOFFSETTO:-0500
TZNAME:CDT
DTSTART:20250309T080000
END:DAYLIGHT
BEGIN:STANDARD
TZOFFSETFROM:-0500
TZOFFSETTO:-0600
TZNAME:CST
DTSTART:20251102T070000
END:STANDARD
BEGIN:DAYLIGHT
TZOFFSETFROM:-0600
TZOFFSETTO:-0500
TZNAME:CDT
DTSTART:20260308T080000
END:DAYLIGHT
BEGIN:STANDARD
TZOFFSETFROM:-0500
TZOFFSETTO:-0600
TZNAME:CST
DTSTART:20261101T070000
END:STANDARD
END:VTIMEZONE
BEGIN:VEVENT
DTSTART;TZID=America/Chicago:20250613T090000
DTEND;TZID=America/Chicago:20250613T120000
DTSTAMP:20260422T180453
CREATED:20250521T210452Z
LAST-MODIFIED:20250522T151054Z
UID:10137004-1749805200-1749816000@laurel.lib.ms.us
SUMMARY:LOTTIE the Trolley @Sandersville
DESCRIPTION:You can find us in Sandersville at Main St. & Hwy 11.
URL:https://laurel.lib.ms.us/event/lottie-the-trolley-sandersville/2025-06-13/
LOCATION:Sandersville\, Main St.\, Sandersville\, MS\, United States
CATEGORIES:LOTTIE the Trolley
END:VEVENT
BEGIN:VEVENT
DTSTART;TZID=America/Chicago:20250613T130000
DTEND;TZID=America/Chicago:20250613T160000
DTSTAMP:20260422T180453
CREATED:20250529T141029Z
LAST-MODIFIED:20250529T141029Z
UID:10136995-1749819600-1749830400@laurel.lib.ms.us
SUMMARY:LOTTIE the Trolley @Mystery Stop
DESCRIPTION:Can you find us? Grab your Lottie Scavenger Hunt from either our Laurel or Ellisville branch for a clue about today’s location. If you can find us at least 2 of our 4 mystery stops\, you can win a brag tag!
URL:https://laurel.lib.ms.us/event/lottie-the-trolley-mystery-stop-3/
LOCATION:MS
CATEGORIES:LOTTIE the Trolley
END:VEVENT
END:VCALENDAR