BEGIN:VCALENDAR
VERSION:2.0
PRODID:-//Laurel Library - ECPv6.15.20//NONSGML v1.0//EN
CALSCALE:GREGORIAN
METHOD:PUBLISH
X-ORIGINAL-URL:https://laurel.lib.ms.us
X-WR-CALDESC:Events for Laurel Library
REFRESH-INTERVAL;VALUE=DURATION:PT1H
X-Robots-Tag:noindex
X-PUBLISHED-TTL:PT1H
BEGIN:VTIMEZONE
TZID:America/Chicago
BEGIN:DAYLIGHT
TZOFFSETFROM:-0600
TZOFFSETTO:-0500
TZNAME:CDT
DTSTART:20250309T080000
END:DAYLIGHT
BEGIN:STANDARD
TZOFFSETFROM:-0500
TZOFFSETTO:-0600
TZNAME:CST
DTSTART:20251102T070000
END:STANDARD
BEGIN:DAYLIGHT
TZOFFSETFROM:-0600
TZOFFSETTO:-0500
TZNAME:CDT
DTSTART:20260308T080000
END:DAYLIGHT
BEGIN:STANDARD
TZOFFSETFROM:-0500
TZOFFSETTO:-0600
TZNAME:CST
DTSTART:20261101T070000
END:STANDARD
BEGIN:DAYLIGHT
TZOFFSETFROM:-0600
TZOFFSETTO:-0500
TZNAME:CDT
DTSTART:20270314T080000
END:DAYLIGHT
BEGIN:STANDARD
TZOFFSETFROM:-0500
TZOFFSETTO:-0600
TZNAME:CST
DTSTART:20271107T070000
END:STANDARD
END:VTIMEZONE
BEGIN:VEVENT
DTSTART;TZID=America/Chicago:20260501T130000
DTEND;TZID=America/Chicago:20260501T143000
DTSTAMP:20260420T021543
CREATED:20251208T205022Z
LAST-MODIFIED:20251208T205022Z
UID:10139053-1777640400-1777645800@laurel.lib.ms.us
SUMMARY:LOTTIE the Trolley @Sandersville
DESCRIPTION:You can find us in Sandersville at Main St. & Hwy 11.
URL:https://laurel.lib.ms.us/event/lottie-the-trolley-sandersville-12/2026-05-01/
LOCATION:Sandersville\, Main St.\, Sandersville\, MS\, United States
CATEGORIES:LOTTIE the Trolley
ATTACH;FMTTYPE=image/png:https://laurel.lib.ms.us/wp-content/uploads/2025/07/Header-Trolley-Stops.png
END:VEVENT
BEGIN:VEVENT
DTSTART;TZID=America/Chicago:20260501T150000
DTEND;TZID=America/Chicago:20260501T160000
DTSTAMP:20260420T021543
CREATED:20251208T205129Z
LAST-MODIFIED:20251208T205129Z
UID:10139172-1777647600-1777651200@laurel.lib.ms.us
SUMMARY:LOTTIE the Trolley @Bogue Homa CERF
DESCRIPTION:You can find us at the Bogue Homa CERF building (8 Tomechi Anowa Dr.\, Heidelberg ).
URL:https://laurel.lib.ms.us/event/lottie-the-trolley-bogue-homa-cerf-5/2026-05-01/
LOCATION:CERF Building\, 8 Tomechi Anowa Dr.\, Heidelberg\, 39439\, United States
CATEGORIES:LOTTIE the Trolley
ATTACH;FMTTYPE=image/png:https://laurel.lib.ms.us/wp-content/uploads/2025/07/Header-Trolley-Stops.png
END:VEVENT
BEGIN:VEVENT
DTSTART;TZID=America/Chicago:20260506T150000
DTEND;TZID=America/Chicago:20260506T163000
DTSTAMP:20260420T021543
CREATED:20251208T204322Z
LAST-MODIFIED:20251208T204322Z
UID:10138933-1778079600-1778085000@laurel.lib.ms.us
SUMMARY:LOTTIE the Trolley @Soso
DESCRIPTION:You can find us in Soso at First Baptist Church (271 Frosty Hinton Rd).
URL:https://laurel.lib.ms.us/event/lottie-the-trolley-soso-8/2026-05-06/
LOCATION:First Baptist Church\, 271 Frosty Hinton Rd\, Soso\, United States
CATEGORIES:LOTTIE the Trolley
ATTACH;FMTTYPE=image/png:https://laurel.lib.ms.us/wp-content/uploads/2025/07/Header-Trolley-Stops.png
END:VEVENT
BEGIN:VEVENT
DTSTART;TZID=America/Chicago:20260515T130000
DTEND;TZID=America/Chicago:20260515T143000
DTSTAMP:20260420T021543
CREATED:20251208T205153Z
LAST-MODIFIED:20251208T205153Z
UID:10139232-1778850000-1778855400@laurel.lib.ms.us
SUMMARY:LOTTIE the Trolley @Sandersville
DESCRIPTION:You can find us in Sandersville at Main St. & Hwy 11.
URL:https://laurel.lib.ms.us/event/lottie-the-trolley-sandersville-13/2026-05-15/
LOCATION:Sandersville\, Main St.\, Sandersville\, MS\, United States
CATEGORIES:LOTTIE the Trolley
ATTACH;FMTTYPE=image/png:https://laurel.lib.ms.us/wp-content/uploads/2025/07/Header-Trolley-Stops.png
END:VEVENT
BEGIN:VEVENT
DTSTART;TZID=America/Chicago:20260515T150000
DTEND;TZID=America/Chicago:20260515T160000
DTSTAMP:20260420T021543
CREATED:20251208T205222Z
LAST-MODIFIED:20251208T205222Z
UID:10139349-1778857200-1778860800@laurel.lib.ms.us
SUMMARY:LOTTIE the Trolley @Bogue Homa CERF
DESCRIPTION:You can find us at the Bogue Homa CERF building (8 Tomechi Anowa Dr.\, Heidelberg ).
URL:https://laurel.lib.ms.us/event/lottie-the-trolley-bogue-homa-cerf-6/2026-05-15/
LOCATION:CERF Building\, 8 Tomechi Anowa Dr.\, Heidelberg\, 39439\, United States
CATEGORIES:LOTTIE the Trolley
ATTACH;FMTTYPE=image/png:https://laurel.lib.ms.us/wp-content/uploads/2025/07/Header-Trolley-Stops.png
END:VEVENT
BEGIN:VEVENT
DTSTART;TZID=America/Chicago:20260520T150000
DTEND;TZID=America/Chicago:20260520T163000
DTSTAMP:20260420T021543
CREATED:20251208T172757Z
LAST-MODIFIED:20251208T203654Z
UID:10138520-1779289200-1779294600@laurel.lib.ms.us
SUMMARY:LOTTIE the Trolley @Calhoun
DESCRIPTION:You can find us in Calhoun at the Calhoun Community Center (5204 US-84 W).
URL:https://laurel.lib.ms.us/event/lottie-the-trolley-calhoun-3/2026-05-20/
LOCATION:Calhoun Community Center\, 5204 US-84 W\, Laurel\, MS\, 39443\, United States
CATEGORIES:LOTTIE the Trolley
ATTACH;FMTTYPE=image/png:https://laurel.lib.ms.us/wp-content/uploads/2025/07/Header-Trolley-Stops.png
END:VEVENT
END:VCALENDAR