BEGIN:VCALENDAR
VERSION:2.0
PRODID:-//Laurel Library - ECPv6.15.20//NONSGML v1.0//EN
CALSCALE:GREGORIAN
METHOD:PUBLISH
X-ORIGINAL-URL:https://laurel.lib.ms.us
X-WR-CALDESC:Events for Laurel Library
REFRESH-INTERVAL;VALUE=DURATION:PT1H
X-Robots-Tag:noindex
X-PUBLISHED-TTL:PT1H
BEGIN:VTIMEZONE
TZID:America/Chicago
BEGIN:DAYLIGHT
TZOFFSETFROM:-0600
TZOFFSETTO:-0500
TZNAME:CDT
DTSTART:20250309T080000
END:DAYLIGHT
BEGIN:STANDARD
TZOFFSETFROM:-0500
TZOFFSETTO:-0600
TZNAME:CST
DTSTART:20251102T070000
END:STANDARD
BEGIN:DAYLIGHT
TZOFFSETFROM:-0600
TZOFFSETTO:-0500
TZNAME:CDT
DTSTART:20260308T080000
END:DAYLIGHT
BEGIN:STANDARD
TZOFFSETFROM:-0500
TZOFFSETTO:-0600
TZNAME:CST
DTSTART:20261101T070000
END:STANDARD
BEGIN:DAYLIGHT
TZOFFSETFROM:-0600
TZOFFSETTO:-0500
TZNAME:CDT
DTSTART:20270314T080000
END:DAYLIGHT
BEGIN:STANDARD
TZOFFSETFROM:-0500
TZOFFSETTO:-0600
TZNAME:CST
DTSTART:20271107T070000
END:STANDARD
END:VTIMEZONE
BEGIN:VEVENT
DTSTART;TZID=America/Chicago:20260107T150000
DTEND;TZID=America/Chicago:20260107T163000
DTSTAMP:20260420T021537
CREATED:20251208T204322Z
LAST-MODIFIED:20251208T204322Z
UID:10138929-1767798000-1767803400@laurel.lib.ms.us
SUMMARY:LOTTIE the Trolley @Soso
DESCRIPTION:You can find us in Soso at First Baptist Church (271 Frosty Hinton Rd).
URL:https://laurel.lib.ms.us/event/lottie-the-trolley-soso-8/2026-01-07/
LOCATION:First Baptist Church\, 271 Frosty Hinton Rd\, Soso\, United States
CATEGORIES:LOTTIE the Trolley
ATTACH;FMTTYPE=image/png:https://laurel.lib.ms.us/wp-content/uploads/2025/07/Header-Trolley-Stops.png
END:VEVENT
BEGIN:VEVENT
DTSTART;TZID=America/Chicago:20260109T130000
DTEND;TZID=America/Chicago:20260109T143000
DTSTAMP:20260420T021537
CREATED:20251208T172733Z
LAST-MODIFIED:20251208T204445Z
UID:10138433-1767963600-1767969000@laurel.lib.ms.us
SUMMARY:LOTTIE the Trolley @Sandersville
DESCRIPTION:You can find us in Sandersville at Main St. & Hwy 11.
URL:https://laurel.lib.ms.us/event/lottie-the-trolley-sandersville-11/
LOCATION:Sandersville\, Main St.\, Sandersville\, MS\, United States
CATEGORIES:LOTTIE the Trolley
ATTACH;FMTTYPE=image/png:https://laurel.lib.ms.us/wp-content/uploads/2025/07/Header-Trolley-Stops.png
END:VEVENT
BEGIN:VEVENT
DTSTART;TZID=America/Chicago:20260109T150000
DTEND;TZID=America/Chicago:20260109T160000
DTSTAMP:20260420T021537
CREATED:20251208T174755Z
LAST-MODIFIED:20251208T205115Z
UID:10139109-1767970800-1767974400@laurel.lib.ms.us
SUMMARY:LOTTIE the Trolley @Bogue Homa CERF
DESCRIPTION:You can find us at the Bogue Homa CERF building (8 Tomechi Anowa Dr.\, Heidelberg ).
URL:https://laurel.lib.ms.us/event/lottie-the-trolley-bogue-homa-cerf-3/
LOCATION:CERF Building\, 8 Tomechi Anowa Dr.\, Heidelberg\, 39439\, United States
CATEGORIES:LOTTIE the Trolley
ATTACH;FMTTYPE=image/png:https://laurel.lib.ms.us/wp-content/uploads/2025/07/Header-Trolley-Stops.png
END:VEVENT
BEGIN:VEVENT
DTSTART;TZID=America/Chicago:20260121T150000
DTEND;TZID=America/Chicago:20260121T163000
DTSTAMP:20260420T021537
CREATED:20251208T172757Z
LAST-MODIFIED:20251208T203654Z
UID:10138435-1769007600-1769013000@laurel.lib.ms.us
SUMMARY:LOTTIE the Trolley @Calhoun
DESCRIPTION:You can find us in Calhoun at the Calhoun Community Center (5204 US-84 W).
URL:https://laurel.lib.ms.us/event/lottie-the-trolley-calhoun-3/2026-01-21/
LOCATION:Calhoun Community Center\, 5204 US-84 W\, Laurel\, MS\, 39443\, United States
CATEGORIES:LOTTIE the Trolley
ATTACH;FMTTYPE=image/png:https://laurel.lib.ms.us/wp-content/uploads/2025/07/Header-Trolley-Stops.png
END:VEVENT
BEGIN:VEVENT
DTSTART;TZID=America/Chicago:20260123T130000
DTEND;TZID=America/Chicago:20260123T143000
DTSTAMP:20260420T021537
CREATED:20251208T204004Z
LAST-MODIFIED:20251208T204005Z
UID:10138575-1769173200-1769178600@laurel.lib.ms.us
SUMMARY:LOTTIE the Trolley @Sandersville
DESCRIPTION:You can find us in Sandersville at Main St. & Hwy 11.
URL:https://laurel.lib.ms.us/event/lottie-the-trolley-sandersville-11-2/
LOCATION:Sandersville\, Main St.\, Sandersville\, MS\, United States
CATEGORIES:LOTTIE the Trolley
ATTACH;FMTTYPE=image/png:https://laurel.lib.ms.us/wp-content/uploads/2025/07/Header-Trolley-Stops.png
END:VEVENT
BEGIN:VEVENT
DTSTART;TZID=America/Chicago:20260123T150000
DTEND;TZID=America/Chicago:20260123T160000
DTSTAMP:20260420T021537
CREATED:20251208T204253Z
LAST-MODIFIED:20251208T204459Z
UID:10138868-1769180400-1769184000@laurel.lib.ms.us
SUMMARY:LOTTIE the Trolley @Bogue Homa CERF
DESCRIPTION:You can find us at the Bogue Homa CERF building (8 Tomechi Anowa Dr.\, Heidelberg ).
URL:https://laurel.lib.ms.us/event/lottie-the-trolley-bogue-homa-cerf-4/
LOCATION:CERF Building\, 8 Tomechi Anowa Dr.\, Heidelberg\, 39439\, United States
CATEGORIES:LOTTIE the Trolley
ATTACH;FMTTYPE=image/png:https://laurel.lib.ms.us/wp-content/uploads/2025/07/Header-Trolley-Stops.png
END:VEVENT
END:VCALENDAR