BEGIN:VCALENDAR
VERSION:2.0
PRODID:-//Laurel Library - ECPv6.15.20//NONSGML v1.0//EN
CALSCALE:GREGORIAN
METHOD:PUBLISH
X-WR-CALNAME:Laurel Library
X-ORIGINAL-URL:https://laurel.lib.ms.us
X-WR-CALDESC:Events for Laurel Library
REFRESH-INTERVAL;VALUE=DURATION:PT1H
X-Robots-Tag:noindex
X-PUBLISHED-TTL:PT1H
BEGIN:VTIMEZONE
TZID:America/Chicago
BEGIN:DAYLIGHT
TZOFFSETFROM:-0600
TZOFFSETTO:-0500
TZNAME:CDT
DTSTART:20270314T080000
END:DAYLIGHT
BEGIN:STANDARD
TZOFFSETFROM:-0500
TZOFFSETTO:-0600
TZNAME:CST
DTSTART:20271107T070000
END:STANDARD
BEGIN:DAYLIGHT
TZOFFSETFROM:-0600
TZOFFSETTO:-0500
TZNAME:CDT
DTSTART:20280312T080000
END:DAYLIGHT
BEGIN:STANDARD
TZOFFSETFROM:-0500
TZOFFSETTO:-0600
TZNAME:CST
DTSTART:20281105T070000
END:STANDARD
BEGIN:DAYLIGHT
TZOFFSETFROM:-0600
TZOFFSETTO:-0500
TZNAME:CDT
DTSTART:20290311T080000
END:DAYLIGHT
BEGIN:STANDARD
TZOFFSETFROM:-0500
TZOFFSETTO:-0600
TZNAME:CST
DTSTART:20291104T070000
END:STANDARD
BEGIN:DAYLIGHT
TZOFFSETFROM:-0600
TZOFFSETTO:-0500
TZNAME:CDT
DTSTART:20300310T080000
END:DAYLIGHT
BEGIN:STANDARD
TZOFFSETFROM:-0500
TZOFFSETTO:-0600
TZNAME:CST
DTSTART:20301103T070000
END:STANDARD
END:VTIMEZONE
BEGIN:VEVENT
DTSTART;TZID=America/Chicago:20281207T100000
DTEND;TZID=America/Chicago:20281207T110000
DTSTAMP:20260424T174230
CREATED:20231206T171105Z
LAST-MODIFIED:20250205T162906Z
UID:10135464-1859796000-1859799600@laurel.lib.ms.us
SUMMARY:Storytime @ELL
DESCRIPTION:Join us every week for a story and a craft!
URL:https://laurel.lib.ms.us/event/storytime-epl-2/2028-12-07/
LOCATION:Ellisville Public Library\, 201 Poplar St\, Ellisville\, MS\, 39437\, United States
CATEGORIES:Ellisville Branch
ATTACH;FMTTYPE=image/png:https://laurel.lib.ms.us/wp-content/uploads/2023/02/Storytime.png
END:VEVENT
BEGIN:VEVENT
DTSTART;TZID=America/Chicago:20281214T090000
DTEND;TZID=America/Chicago:20281214T100000
DTSTAMP:20260424T174230
CREATED:20231206T170135Z
LAST-MODIFIED:20250205T162916Z
UID:10135712-1860397200-1860400800@laurel.lib.ms.us
SUMMARY:Baby + Me @ELL
DESCRIPTION:A program exploring books\, songs\, and fun activities designed for babies and toddlers.
URL:https://laurel.lib.ms.us/event/baby-me-epl-2/2028-12-14/
LOCATION:Ellisville Public Library\, 201 Poplar St\, Ellisville\, MS\, 39437\, United States
CATEGORIES:Ellisville Branch
ATTACH;FMTTYPE=image/png:https://laurel.lib.ms.us/wp-content/uploads/2023/02/Baby-Me.png
END:VEVENT
BEGIN:VEVENT
DTSTART;TZID=America/Chicago:20281214T100000
DTEND;TZID=America/Chicago:20281214T110000
DTSTAMP:20260424T174230
CREATED:20231206T171105Z
LAST-MODIFIED:20250205T162906Z
UID:10135465-1860400800-1860404400@laurel.lib.ms.us
SUMMARY:Storytime @ELL
DESCRIPTION:Join us every week for a story and a craft!
URL:https://laurel.lib.ms.us/event/storytime-epl-2/2028-12-14/
LOCATION:Ellisville Public Library\, 201 Poplar St\, Ellisville\, MS\, 39437\, United States
CATEGORIES:Ellisville Branch
ATTACH;FMTTYPE=image/png:https://laurel.lib.ms.us/wp-content/uploads/2023/02/Storytime.png
END:VEVENT
BEGIN:VEVENT
DTSTART;TZID=America/Chicago:20281214T173000
DTEND;TZID=America/Chicago:20281214T183000
DTSTAMP:20260424T174230
CREATED:20250509T204449Z
LAST-MODIFIED:20250509T204449Z
UID:10135300-1860427800-1860431400@laurel.lib.ms.us
SUMMARY:Books & Brew Book Club @ELL
DESCRIPTION:Join us with at the Ellisville Public Library as we discuss this month’s book selection!
URL:https://laurel.lib.ms.us/event/books-brew-book-club-2-2-2-3/2028-12-14/
LOCATION:Ellisville Public Library\, 201 Poplar St\, Ellisville\, MS\, 39437\, United States
CATEGORIES:Ellisville Branch
ATTACH;FMTTYPE=image/png:https://laurel.lib.ms.us/wp-content/uploads/2023/02/Ellisville-Book-Club.png
END:VEVENT
BEGIN:VEVENT
DTSTART;TZID=America/Chicago:20281214T173000
DTEND;TZID=America/Chicago:20281214T183000
DTSTAMP:20260424T174230
CREATED:20260420T142034Z
LAST-MODIFIED:20260420T142034Z
UID:10140891-1860427800-1860431400@laurel.lib.ms.us
SUMMARY:Graphic Novel Club @ELL
DESCRIPTION:Join us at the Ellisville Public Library as we discuss this month’s graphic novel selection! \nPlease note that this class is for adults (18+) only. It is not appropriate for younger readers.
URL:https://laurel.lib.ms.us/event/graphic-novel-club-ell/
LOCATION:Ellisville Public Library\, 201 Poplar St\, Ellisville\, MS\, 39437\, United States
CATEGORIES:Ellisville Branch
END:VEVENT
BEGIN:VEVENT
DTSTART;TZID=America/Chicago:20281216T090000
DTEND;TZID=America/Chicago:20281216T110000
DTSTAMP:20260424T174230
CREATED:20260130T182954Z
LAST-MODIFIED:20260130T182954Z
UID:10140423-1860570000-1860577200@laurel.lib.ms.us
SUMMARY:Ellisville Chess Club @ELL
DESCRIPTION:Come play chess with other chess enthusiasts at our chess group! Open to all ages and skill levels!
URL:https://laurel.lib.ms.us/event/ellisville-chess-club-ell/2028-12-16/
LOCATION:Ellisville Public Library\, 201 Poplar St\, Ellisville\, MS\, 39437\, United States
CATEGORIES:Ellisville Branch
END:VEVENT
BEGIN:VEVENT
DTSTART;TZID=America/Chicago:20281221T090000
DTEND;TZID=America/Chicago:20281221T100000
DTSTAMP:20260424T174230
CREATED:20231206T170135Z
LAST-MODIFIED:20250205T162916Z
UID:10135713-1861002000-1861005600@laurel.lib.ms.us
SUMMARY:Baby + Me @ELL
DESCRIPTION:A program exploring books\, songs\, and fun activities designed for babies and toddlers.
URL:https://laurel.lib.ms.us/event/baby-me-epl-2/2028-12-21/
LOCATION:Ellisville Public Library\, 201 Poplar St\, Ellisville\, MS\, 39437\, United States
CATEGORIES:Ellisville Branch
ATTACH;FMTTYPE=image/png:https://laurel.lib.ms.us/wp-content/uploads/2023/02/Baby-Me.png
END:VEVENT
BEGIN:VEVENT
DTSTART;TZID=America/Chicago:20281221T100000
DTEND;TZID=America/Chicago:20281221T110000
DTSTAMP:20260424T174230
CREATED:20231206T171105Z
LAST-MODIFIED:20250205T162906Z
UID:10135466-1861005600-1861009200@laurel.lib.ms.us
SUMMARY:Storytime @ELL
DESCRIPTION:Join us every week for a story and a craft!
URL:https://laurel.lib.ms.us/event/storytime-epl-2/2028-12-21/
LOCATION:Ellisville Public Library\, 201 Poplar St\, Ellisville\, MS\, 39437\, United States
CATEGORIES:Ellisville Branch
ATTACH;FMTTYPE=image/png:https://laurel.lib.ms.us/wp-content/uploads/2023/02/Storytime.png
END:VEVENT
BEGIN:VEVENT
DTSTART;TZID=America/Chicago:20281221T143000
DTEND;TZID=America/Chicago:20281221T163000
DTSTAMP:20260424T174230
CREATED:20251208T142636Z
LAST-MODIFIED:20251208T142636Z
UID:10138347-1861021800-1861029000@laurel.lib.ms.us
SUMMARY:LEGO® Club @ELL
DESCRIPTION:Join us each month to to complete a LEGO® challenge!
URL:https://laurel.lib.ms.us/event/lego-club-ell-3/2028-12-21/
LOCATION:Ellisville Public Library\, 201 Poplar St\, Ellisville\, MS\, 39437\, United States
CATEGORIES:Ellisville Branch
ATTACH;FMTTYPE=image/png:https://laurel.lib.ms.us/wp-content/uploads/2023/02/LEGO-Club.png
END:VEVENT
BEGIN:VEVENT
DTSTART;TZID=America/Chicago:20281228T090000
DTEND;TZID=America/Chicago:20281228T100000
DTSTAMP:20260424T174230
CREATED:20231206T170135Z
LAST-MODIFIED:20250205T162916Z
UID:10135714-1861606800-1861610400@laurel.lib.ms.us
SUMMARY:Baby + Me @ELL
DESCRIPTION:A program exploring books\, songs\, and fun activities designed for babies and toddlers.
URL:https://laurel.lib.ms.us/event/baby-me-epl-2/2028-12-28/
LOCATION:Ellisville Public Library\, 201 Poplar St\, Ellisville\, MS\, 39437\, United States
CATEGORIES:Ellisville Branch
ATTACH;FMTTYPE=image/png:https://laurel.lib.ms.us/wp-content/uploads/2023/02/Baby-Me.png
END:VEVENT
BEGIN:VEVENT
DTSTART;TZID=America/Chicago:20281228T100000
DTEND;TZID=America/Chicago:20281228T110000
DTSTAMP:20260424T174230
CREATED:20231206T171105Z
LAST-MODIFIED:20250205T162906Z
UID:10135467-1861610400-1861614000@laurel.lib.ms.us
SUMMARY:Storytime @ELL
DESCRIPTION:Join us every week for a story and a craft!
URL:https://laurel.lib.ms.us/event/storytime-epl-2/2028-12-28/
LOCATION:Ellisville Public Library\, 201 Poplar St\, Ellisville\, MS\, 39437\, United States
CATEGORIES:Ellisville Branch
ATTACH;FMTTYPE=image/png:https://laurel.lib.ms.us/wp-content/uploads/2023/02/Storytime.png
END:VEVENT
BEGIN:VEVENT
DTSTART;TZID=America/Chicago:20290104T090000
DTEND;TZID=America/Chicago:20290104T100000
DTSTAMP:20260424T174230
CREATED:20231206T170135Z
LAST-MODIFIED:20250205T162916Z
UID:10135715-1862211600-1862215200@laurel.lib.ms.us
SUMMARY:Baby + Me @ELL
DESCRIPTION:A program exploring books\, songs\, and fun activities designed for babies and toddlers.
URL:https://laurel.lib.ms.us/event/baby-me-epl-2/2029-01-04/
LOCATION:Ellisville Public Library\, 201 Poplar St\, Ellisville\, MS\, 39437\, United States
CATEGORIES:Ellisville Branch
ATTACH;FMTTYPE=image/png:https://laurel.lib.ms.us/wp-content/uploads/2023/02/Baby-Me.png
END:VEVENT
BEGIN:VEVENT
DTSTART;TZID=America/Chicago:20290104T100000
DTEND;TZID=America/Chicago:20290104T110000
DTSTAMP:20260424T174230
CREATED:20231206T171105Z
LAST-MODIFIED:20250205T162906Z
UID:10135468-1862215200-1862218800@laurel.lib.ms.us
SUMMARY:Storytime @ELL
DESCRIPTION:Join us every week for a story and a craft!
URL:https://laurel.lib.ms.us/event/storytime-epl-2/2029-01-04/
LOCATION:Ellisville Public Library\, 201 Poplar St\, Ellisville\, MS\, 39437\, United States
CATEGORIES:Ellisville Branch
ATTACH;FMTTYPE=image/png:https://laurel.lib.ms.us/wp-content/uploads/2023/02/Storytime.png
END:VEVENT
BEGIN:VEVENT
DTSTART;TZID=America/Chicago:20290111T090000
DTEND;TZID=America/Chicago:20290111T100000
DTSTAMP:20260424T174230
CREATED:20231206T170135Z
LAST-MODIFIED:20250205T162916Z
UID:10135716-1862816400-1862820000@laurel.lib.ms.us
SUMMARY:Baby + Me @ELL
DESCRIPTION:A program exploring books\, songs\, and fun activities designed for babies and toddlers.
URL:https://laurel.lib.ms.us/event/baby-me-epl-2/2029-01-11/
LOCATION:Ellisville Public Library\, 201 Poplar St\, Ellisville\, MS\, 39437\, United States
CATEGORIES:Ellisville Branch
ATTACH;FMTTYPE=image/png:https://laurel.lib.ms.us/wp-content/uploads/2023/02/Baby-Me.png
END:VEVENT
BEGIN:VEVENT
DTSTART;TZID=America/Chicago:20290111T100000
DTEND;TZID=America/Chicago:20290111T110000
DTSTAMP:20260424T174230
CREATED:20231206T171105Z
LAST-MODIFIED:20250205T162906Z
UID:10135469-1862820000-1862823600@laurel.lib.ms.us
SUMMARY:Storytime @ELL
DESCRIPTION:Join us every week for a story and a craft!
URL:https://laurel.lib.ms.us/event/storytime-epl-2/2029-01-11/
LOCATION:Ellisville Public Library\, 201 Poplar St\, Ellisville\, MS\, 39437\, United States
CATEGORIES:Ellisville Branch
ATTACH;FMTTYPE=image/png:https://laurel.lib.ms.us/wp-content/uploads/2023/02/Storytime.png
END:VEVENT
BEGIN:VEVENT
DTSTART;TZID=America/Chicago:20290111T173000
DTEND;TZID=America/Chicago:20290111T183000
DTSTAMP:20260424T174230
CREATED:20250509T204449Z
LAST-MODIFIED:20250509T204449Z
UID:10135301-1862847000-1862850600@laurel.lib.ms.us
SUMMARY:Books & Brew Book Club @ELL
DESCRIPTION:Join us with at the Ellisville Public Library as we discuss this month’s book selection!
URL:https://laurel.lib.ms.us/event/books-brew-book-club-2-2-2-3/2029-01-11/
LOCATION:Ellisville Public Library\, 201 Poplar St\, Ellisville\, MS\, 39437\, United States
CATEGORIES:Ellisville Branch
ATTACH;FMTTYPE=image/png:https://laurel.lib.ms.us/wp-content/uploads/2023/02/Ellisville-Book-Club.png
END:VEVENT
BEGIN:VEVENT
DTSTART;TZID=America/Chicago:20290111T173000
DTEND;TZID=America/Chicago:20290111T183000
DTSTAMP:20260424T174230
CREATED:20260420T142034Z
LAST-MODIFIED:20260420T142034Z
UID:10140892-1862847000-1862850600@laurel.lib.ms.us
SUMMARY:Graphic Novel Club @ELL
DESCRIPTION:Join us at the Ellisville Public Library as we discuss this month’s graphic novel selection! \nPlease note that this class is for adults (18+) only. It is not appropriate for younger readers.
URL:https://laurel.lib.ms.us/event/graphic-novel-club-ell/
LOCATION:Ellisville Public Library\, 201 Poplar St\, Ellisville\, MS\, 39437\, United States
CATEGORIES:Ellisville Branch
END:VEVENT
BEGIN:VEVENT
DTSTART;TZID=America/Chicago:20290118T090000
DTEND;TZID=America/Chicago:20290118T100000
DTSTAMP:20260424T174230
CREATED:20231206T170135Z
LAST-MODIFIED:20250205T162916Z
UID:10135717-1863421200-1863424800@laurel.lib.ms.us
SUMMARY:Baby + Me @ELL
DESCRIPTION:A program exploring books\, songs\, and fun activities designed for babies and toddlers.
URL:https://laurel.lib.ms.us/event/baby-me-epl-2/2029-01-18/
LOCATION:Ellisville Public Library\, 201 Poplar St\, Ellisville\, MS\, 39437\, United States
CATEGORIES:Ellisville Branch
ATTACH;FMTTYPE=image/png:https://laurel.lib.ms.us/wp-content/uploads/2023/02/Baby-Me.png
END:VEVENT
BEGIN:VEVENT
DTSTART;TZID=America/Chicago:20290118T100000
DTEND;TZID=America/Chicago:20290118T110000
DTSTAMP:20260424T174230
CREATED:20231206T171105Z
LAST-MODIFIED:20250205T162906Z
UID:10135470-1863424800-1863428400@laurel.lib.ms.us
SUMMARY:Storytime @ELL
DESCRIPTION:Join us every week for a story and a craft!
URL:https://laurel.lib.ms.us/event/storytime-epl-2/2029-01-18/
LOCATION:Ellisville Public Library\, 201 Poplar St\, Ellisville\, MS\, 39437\, United States
CATEGORIES:Ellisville Branch
ATTACH;FMTTYPE=image/png:https://laurel.lib.ms.us/wp-content/uploads/2023/02/Storytime.png
END:VEVENT
BEGIN:VEVENT
DTSTART;TZID=America/Chicago:20290118T143000
DTEND;TZID=America/Chicago:20290118T163000
DTSTAMP:20260424T174230
CREATED:20251208T142636Z
LAST-MODIFIED:20251208T142636Z
UID:10138348-1863441000-1863448200@laurel.lib.ms.us
SUMMARY:LEGO® Club @ELL
DESCRIPTION:Join us each month to to complete a LEGO® challenge!
URL:https://laurel.lib.ms.us/event/lego-club-ell-3/2029-01-18/
LOCATION:Ellisville Public Library\, 201 Poplar St\, Ellisville\, MS\, 39437\, United States
CATEGORIES:Ellisville Branch
ATTACH;FMTTYPE=image/png:https://laurel.lib.ms.us/wp-content/uploads/2023/02/LEGO-Club.png
END:VEVENT
BEGIN:VEVENT
DTSTART;TZID=America/Chicago:20290120T090000
DTEND;TZID=America/Chicago:20290120T110000
DTSTAMP:20260424T174230
CREATED:20260130T182954Z
LAST-MODIFIED:20260130T182954Z
UID:10140424-1863594000-1863601200@laurel.lib.ms.us
SUMMARY:Ellisville Chess Club @ELL
DESCRIPTION:Come play chess with other chess enthusiasts at our chess group! Open to all ages and skill levels!
URL:https://laurel.lib.ms.us/event/ellisville-chess-club-ell/2029-01-20/
LOCATION:Ellisville Public Library\, 201 Poplar St\, Ellisville\, MS\, 39437\, United States
CATEGORIES:Ellisville Branch
END:VEVENT
BEGIN:VEVENT
DTSTART;TZID=America/Chicago:20290125T090000
DTEND;TZID=America/Chicago:20290125T100000
DTSTAMP:20260424T174230
CREATED:20231206T170135Z
LAST-MODIFIED:20250205T162916Z
UID:10135718-1864026000-1864029600@laurel.lib.ms.us
SUMMARY:Baby + Me @ELL
DESCRIPTION:A program exploring books\, songs\, and fun activities designed for babies and toddlers.
URL:https://laurel.lib.ms.us/event/baby-me-epl-2/2029-01-25/
LOCATION:Ellisville Public Library\, 201 Poplar St\, Ellisville\, MS\, 39437\, United States
CATEGORIES:Ellisville Branch
ATTACH;FMTTYPE=image/png:https://laurel.lib.ms.us/wp-content/uploads/2023/02/Baby-Me.png
END:VEVENT
BEGIN:VEVENT
DTSTART;TZID=America/Chicago:20290125T100000
DTEND;TZID=America/Chicago:20290125T110000
DTSTAMP:20260424T174230
CREATED:20231206T171105Z
LAST-MODIFIED:20250205T162906Z
UID:10135471-1864029600-1864033200@laurel.lib.ms.us
SUMMARY:Storytime @ELL
DESCRIPTION:Join us every week for a story and a craft!
URL:https://laurel.lib.ms.us/event/storytime-epl-2/2029-01-25/
LOCATION:Ellisville Public Library\, 201 Poplar St\, Ellisville\, MS\, 39437\, United States
CATEGORIES:Ellisville Branch
ATTACH;FMTTYPE=image/png:https://laurel.lib.ms.us/wp-content/uploads/2023/02/Storytime.png
END:VEVENT
BEGIN:VEVENT
DTSTART;TZID=America/Chicago:20290201T090000
DTEND;TZID=America/Chicago:20290201T100000
DTSTAMP:20260424T174230
CREATED:20231206T170135Z
LAST-MODIFIED:20250205T162916Z
UID:10135719-1864630800-1864634400@laurel.lib.ms.us
SUMMARY:Baby + Me @ELL
DESCRIPTION:A program exploring books\, songs\, and fun activities designed for babies and toddlers.
URL:https://laurel.lib.ms.us/event/baby-me-epl-2/2029-02-01/
LOCATION:Ellisville Public Library\, 201 Poplar St\, Ellisville\, MS\, 39437\, United States
CATEGORIES:Ellisville Branch
ATTACH;FMTTYPE=image/png:https://laurel.lib.ms.us/wp-content/uploads/2023/02/Baby-Me.png
END:VEVENT
BEGIN:VEVENT
DTSTART;TZID=America/Chicago:20290201T100000
DTEND;TZID=America/Chicago:20290201T110000
DTSTAMP:20260424T174230
CREATED:20231206T171105Z
LAST-MODIFIED:20250205T162906Z
UID:10135472-1864634400-1864638000@laurel.lib.ms.us
SUMMARY:Storytime @ELL
DESCRIPTION:Join us every week for a story and a craft!
URL:https://laurel.lib.ms.us/event/storytime-epl-2/2029-02-01/
LOCATION:Ellisville Public Library\, 201 Poplar St\, Ellisville\, MS\, 39437\, United States
CATEGORIES:Ellisville Branch
ATTACH;FMTTYPE=image/png:https://laurel.lib.ms.us/wp-content/uploads/2023/02/Storytime.png
END:VEVENT
BEGIN:VEVENT
DTSTART;TZID=America/Chicago:20290208T090000
DTEND;TZID=America/Chicago:20290208T100000
DTSTAMP:20260424T174230
CREATED:20231206T170135Z
LAST-MODIFIED:20250205T162916Z
UID:10135720-1865235600-1865239200@laurel.lib.ms.us
SUMMARY:Baby + Me @ELL
DESCRIPTION:A program exploring books\, songs\, and fun activities designed for babies and toddlers.
URL:https://laurel.lib.ms.us/event/baby-me-epl-2/2029-02-08/
LOCATION:Ellisville Public Library\, 201 Poplar St\, Ellisville\, MS\, 39437\, United States
CATEGORIES:Ellisville Branch
ATTACH;FMTTYPE=image/png:https://laurel.lib.ms.us/wp-content/uploads/2023/02/Baby-Me.png
END:VEVENT
BEGIN:VEVENT
DTSTART;TZID=America/Chicago:20290208T100000
DTEND;TZID=America/Chicago:20290208T110000
DTSTAMP:20260424T174230
CREATED:20231206T171105Z
LAST-MODIFIED:20250205T162906Z
UID:10135473-1865239200-1865242800@laurel.lib.ms.us
SUMMARY:Storytime @ELL
DESCRIPTION:Join us every week for a story and a craft!
URL:https://laurel.lib.ms.us/event/storytime-epl-2/2029-02-08/
LOCATION:Ellisville Public Library\, 201 Poplar St\, Ellisville\, MS\, 39437\, United States
CATEGORIES:Ellisville Branch
ATTACH;FMTTYPE=image/png:https://laurel.lib.ms.us/wp-content/uploads/2023/02/Storytime.png
END:VEVENT
BEGIN:VEVENT
DTSTART;TZID=America/Chicago:20290208T173000
DTEND;TZID=America/Chicago:20290208T183000
DTSTAMP:20260424T174230
CREATED:20250509T204449Z
LAST-MODIFIED:20250509T204449Z
UID:10135302-1865266200-1865269800@laurel.lib.ms.us
SUMMARY:Books & Brew Book Club @ELL
DESCRIPTION:Join us with at the Ellisville Public Library as we discuss this month’s book selection!
URL:https://laurel.lib.ms.us/event/books-brew-book-club-2-2-2-3/2029-02-08/
LOCATION:Ellisville Public Library\, 201 Poplar St\, Ellisville\, MS\, 39437\, United States
CATEGORIES:Ellisville Branch
ATTACH;FMTTYPE=image/png:https://laurel.lib.ms.us/wp-content/uploads/2023/02/Ellisville-Book-Club.png
END:VEVENT
BEGIN:VEVENT
DTSTART;TZID=America/Chicago:20290208T173000
DTEND;TZID=America/Chicago:20290208T183000
DTSTAMP:20260424T174230
CREATED:20260420T142034Z
LAST-MODIFIED:20260420T142034Z
UID:10140893-1865266200-1865269800@laurel.lib.ms.us
SUMMARY:Graphic Novel Club @ELL
DESCRIPTION:Join us at the Ellisville Public Library as we discuss this month’s graphic novel selection! \nPlease note that this class is for adults (18+) only. It is not appropriate for younger readers.
URL:https://laurel.lib.ms.us/event/graphic-novel-club-ell/
LOCATION:Ellisville Public Library\, 201 Poplar St\, Ellisville\, MS\, 39437\, United States
CATEGORIES:Ellisville Branch
END:VEVENT
BEGIN:VEVENT
DTSTART;TZID=America/Chicago:20290215T090000
DTEND;TZID=America/Chicago:20290215T100000
DTSTAMP:20260424T174230
CREATED:20231206T170135Z
LAST-MODIFIED:20250205T162916Z
UID:10135721-1865840400-1865844000@laurel.lib.ms.us
SUMMARY:Baby + Me @ELL
DESCRIPTION:A program exploring books\, songs\, and fun activities designed for babies and toddlers.
URL:https://laurel.lib.ms.us/event/baby-me-epl-2/2029-02-15/
LOCATION:Ellisville Public Library\, 201 Poplar St\, Ellisville\, MS\, 39437\, United States
CATEGORIES:Ellisville Branch
ATTACH;FMTTYPE=image/png:https://laurel.lib.ms.us/wp-content/uploads/2023/02/Baby-Me.png
END:VEVENT
END:VCALENDAR