BEGIN:VCALENDAR
VERSION:2.0
PRODID:-//Laurel Library - ECPv6.15.20//NONSGML v1.0//EN
CALSCALE:GREGORIAN
METHOD:PUBLISH
X-WR-CALNAME:Laurel Library
X-ORIGINAL-URL:https://laurel.lib.ms.us
X-WR-CALDESC:Events for Laurel Library
REFRESH-INTERVAL;VALUE=DURATION:PT1H
X-Robots-Tag:noindex
X-PUBLISHED-TTL:PT1H
BEGIN:VTIMEZONE
TZID:America/Chicago
BEGIN:DAYLIGHT
TZOFFSETFROM:-0600
TZOFFSETTO:-0500
TZNAME:CDT
DTSTART:20270314T080000
END:DAYLIGHT
BEGIN:STANDARD
TZOFFSETFROM:-0500
TZOFFSETTO:-0600
TZNAME:CST
DTSTART:20271107T070000
END:STANDARD
BEGIN:DAYLIGHT
TZOFFSETFROM:-0600
TZOFFSETTO:-0500
TZNAME:CDT
DTSTART:20280312T080000
END:DAYLIGHT
BEGIN:STANDARD
TZOFFSETFROM:-0500
TZOFFSETTO:-0600
TZNAME:CST
DTSTART:20281105T070000
END:STANDARD
BEGIN:DAYLIGHT
TZOFFSETFROM:-0600
TZOFFSETTO:-0500
TZNAME:CDT
DTSTART:20290311T080000
END:DAYLIGHT
BEGIN:STANDARD
TZOFFSETFROM:-0500
TZOFFSETTO:-0600
TZNAME:CST
DTSTART:20291104T070000
END:STANDARD
END:VTIMEZONE
BEGIN:VEVENT
DTSTART;TZID=America/Chicago:20280504T090000
DTEND;TZID=America/Chicago:20280504T100000
DTSTAMP:20260424T012448
CREATED:20231206T170135Z
LAST-MODIFIED:20250205T162916Z
UID:10134040-1841043600-1841047200@laurel.lib.ms.us
SUMMARY:Baby + Me @ELL
DESCRIPTION:A program exploring books\, songs\, and fun activities designed for babies and toddlers.
URL:https://laurel.lib.ms.us/event/baby-me-epl-2/2028-05-04/
LOCATION:Ellisville Public Library\, 201 Poplar St\, Ellisville\, MS\, 39437\, United States
CATEGORIES:Ellisville Branch
ATTACH;FMTTYPE=image/png:https://laurel.lib.ms.us/wp-content/uploads/2023/02/Baby-Me.png
END:VEVENT
BEGIN:VEVENT
DTSTART;TZID=America/Chicago:20280504T100000
DTEND;TZID=America/Chicago:20280504T110000
DTSTAMP:20260424T012448
CREATED:20231206T171105Z
LAST-MODIFIED:20250205T162906Z
UID:10134047-1841047200-1841050800@laurel.lib.ms.us
SUMMARY:Storytime @ELL
DESCRIPTION:Join us every week for a story and a craft!
URL:https://laurel.lib.ms.us/event/storytime-epl-2/2028-05-04/
LOCATION:Ellisville Public Library\, 201 Poplar St\, Ellisville\, MS\, 39437\, United States
CATEGORIES:Ellisville Branch
ATTACH;FMTTYPE=image/png:https://laurel.lib.ms.us/wp-content/uploads/2023/02/Storytime.png
END:VEVENT
BEGIN:VEVENT
DTSTART;TZID=America/Chicago:20280511T090000
DTEND;TZID=America/Chicago:20280511T100000
DTSTAMP:20260424T012448
CREATED:20231206T170135Z
LAST-MODIFIED:20250205T162916Z
UID:10134041-1841648400-1841652000@laurel.lib.ms.us
SUMMARY:Baby + Me @ELL
DESCRIPTION:A program exploring books\, songs\, and fun activities designed for babies and toddlers.
URL:https://laurel.lib.ms.us/event/baby-me-epl-2/2028-05-11/
LOCATION:Ellisville Public Library\, 201 Poplar St\, Ellisville\, MS\, 39437\, United States
CATEGORIES:Ellisville Branch
ATTACH;FMTTYPE=image/png:https://laurel.lib.ms.us/wp-content/uploads/2023/02/Baby-Me.png
END:VEVENT
BEGIN:VEVENT
DTSTART;TZID=America/Chicago:20280511T100000
DTEND;TZID=America/Chicago:20280511T110000
DTSTAMP:20260424T012448
CREATED:20231206T171105Z
LAST-MODIFIED:20250205T162906Z
UID:10134048-1841652000-1841655600@laurel.lib.ms.us
SUMMARY:Storytime @ELL
DESCRIPTION:Join us every week for a story and a craft!
URL:https://laurel.lib.ms.us/event/storytime-epl-2/2028-05-11/
LOCATION:Ellisville Public Library\, 201 Poplar St\, Ellisville\, MS\, 39437\, United States
CATEGORIES:Ellisville Branch
ATTACH;FMTTYPE=image/png:https://laurel.lib.ms.us/wp-content/uploads/2023/02/Storytime.png
END:VEVENT
BEGIN:VEVENT
DTSTART;TZID=America/Chicago:20280511T173000
DTEND;TZID=America/Chicago:20280511T183000
DTSTAMP:20260424T012448
CREATED:20250509T204449Z
LAST-MODIFIED:20250509T204449Z
UID:10135293-1841679000-1841682600@laurel.lib.ms.us
SUMMARY:Books & Brew Book Club @ELL
DESCRIPTION:Join us with at the Ellisville Public Library as we discuss this month’s book selection!
URL:https://laurel.lib.ms.us/event/books-brew-book-club-2-2-2-3/2028-05-11/
LOCATION:Ellisville Public Library\, 201 Poplar St\, Ellisville\, MS\, 39437\, United States
CATEGORIES:Ellisville Branch
ATTACH;FMTTYPE=image/png:https://laurel.lib.ms.us/wp-content/uploads/2023/02/Ellisville-Book-Club.png
END:VEVENT
BEGIN:VEVENT
DTSTART;TZID=America/Chicago:20280511T173000
DTEND;TZID=America/Chicago:20280511T183000
DTSTAMP:20260424T012448
CREATED:20260420T142034Z
LAST-MODIFIED:20260420T142034Z
UID:10140885-1841679000-1841682600@laurel.lib.ms.us
SUMMARY:Graphic Novel Club @ELL
DESCRIPTION:Join us at the Ellisville Public Library as we discuss this month’s graphic novel selection! \nPlease note that this class is for adults (18+) only. It is not appropriate for younger readers.
URL:https://laurel.lib.ms.us/event/graphic-novel-club-ell/
LOCATION:Ellisville Public Library\, 201 Poplar St\, Ellisville\, MS\, 39437\, United States
CATEGORIES:Ellisville Branch
END:VEVENT
BEGIN:VEVENT
DTSTART;TZID=America/Chicago:20280518T090000
DTEND;TZID=America/Chicago:20280518T100000
DTSTAMP:20260424T012448
CREATED:20231206T170135Z
LAST-MODIFIED:20250205T162916Z
UID:10134042-1842253200-1842256800@laurel.lib.ms.us
SUMMARY:Baby + Me @ELL
DESCRIPTION:A program exploring books\, songs\, and fun activities designed for babies and toddlers.
URL:https://laurel.lib.ms.us/event/baby-me-epl-2/2028-05-18/
LOCATION:Ellisville Public Library\, 201 Poplar St\, Ellisville\, MS\, 39437\, United States
CATEGORIES:Ellisville Branch
ATTACH;FMTTYPE=image/png:https://laurel.lib.ms.us/wp-content/uploads/2023/02/Baby-Me.png
END:VEVENT
BEGIN:VEVENT
DTSTART;TZID=America/Chicago:20280518T100000
DTEND;TZID=America/Chicago:20280518T110000
DTSTAMP:20260424T012448
CREATED:20231206T171105Z
LAST-MODIFIED:20250205T162906Z
UID:10134049-1842256800-1842260400@laurel.lib.ms.us
SUMMARY:Storytime @ELL
DESCRIPTION:Join us every week for a story and a craft!
URL:https://laurel.lib.ms.us/event/storytime-epl-2/2028-05-18/
LOCATION:Ellisville Public Library\, 201 Poplar St\, Ellisville\, MS\, 39437\, United States
CATEGORIES:Ellisville Branch
ATTACH;FMTTYPE=image/png:https://laurel.lib.ms.us/wp-content/uploads/2023/02/Storytime.png
END:VEVENT
BEGIN:VEVENT
DTSTART;TZID=America/Chicago:20280518T143000
DTEND;TZID=America/Chicago:20280518T163000
DTSTAMP:20260424T012448
CREATED:20251208T142636Z
LAST-MODIFIED:20251208T142636Z
UID:10138340-1842273000-1842280200@laurel.lib.ms.us
SUMMARY:LEGO® Club @ELL
DESCRIPTION:Join us each month to to complete a LEGO® challenge!
URL:https://laurel.lib.ms.us/event/lego-club-ell-3/2028-05-18/
LOCATION:Ellisville Public Library\, 201 Poplar St\, Ellisville\, MS\, 39437\, United States
CATEGORIES:Ellisville Branch
ATTACH;FMTTYPE=image/png:https://laurel.lib.ms.us/wp-content/uploads/2023/02/LEGO-Club.png
END:VEVENT
BEGIN:VEVENT
DTSTART;TZID=America/Chicago:20280520T090000
DTEND;TZID=America/Chicago:20280520T110000
DTSTAMP:20260424T012448
CREATED:20260130T182954Z
LAST-MODIFIED:20260130T182954Z
UID:10140416-1842426000-1842433200@laurel.lib.ms.us
SUMMARY:Ellisville Chess Club @ELL
DESCRIPTION:Come play chess with other chess enthusiasts at our chess group! Open to all ages and skill levels!
URL:https://laurel.lib.ms.us/event/ellisville-chess-club-ell/2028-05-20/
LOCATION:Ellisville Public Library\, 201 Poplar St\, Ellisville\, MS\, 39437\, United States
CATEGORIES:Ellisville Branch
END:VEVENT
BEGIN:VEVENT
DTSTART;TZID=America/Chicago:20280525T090000
DTEND;TZID=America/Chicago:20280525T100000
DTSTAMP:20260424T012448
CREATED:20231206T170135Z
LAST-MODIFIED:20250205T162916Z
UID:10134043-1842858000-1842861600@laurel.lib.ms.us
SUMMARY:Baby + Me @ELL
DESCRIPTION:A program exploring books\, songs\, and fun activities designed for babies and toddlers.
URL:https://laurel.lib.ms.us/event/baby-me-epl-2/2028-05-25/
LOCATION:Ellisville Public Library\, 201 Poplar St\, Ellisville\, MS\, 39437\, United States
CATEGORIES:Ellisville Branch
ATTACH;FMTTYPE=image/png:https://laurel.lib.ms.us/wp-content/uploads/2023/02/Baby-Me.png
END:VEVENT
BEGIN:VEVENT
DTSTART;TZID=America/Chicago:20280525T100000
DTEND;TZID=America/Chicago:20280525T110000
DTSTAMP:20260424T012448
CREATED:20231206T171105Z
LAST-MODIFIED:20250205T162906Z
UID:10134050-1842861600-1842865200@laurel.lib.ms.us
SUMMARY:Storytime @ELL
DESCRIPTION:Join us every week for a story and a craft!
URL:https://laurel.lib.ms.us/event/storytime-epl-2/2028-05-25/
LOCATION:Ellisville Public Library\, 201 Poplar St\, Ellisville\, MS\, 39437\, United States
CATEGORIES:Ellisville Branch
ATTACH;FMTTYPE=image/png:https://laurel.lib.ms.us/wp-content/uploads/2023/02/Storytime.png
END:VEVENT
BEGIN:VEVENT
DTSTART;TZID=America/Chicago:20280601T090000
DTEND;TZID=America/Chicago:20280601T100000
DTSTAMP:20260424T012448
CREATED:20231206T170135Z
LAST-MODIFIED:20250205T162916Z
UID:10134063-1843462800-1843466400@laurel.lib.ms.us
SUMMARY:Baby + Me @ELL
DESCRIPTION:A program exploring books\, songs\, and fun activities designed for babies and toddlers.
URL:https://laurel.lib.ms.us/event/baby-me-epl-2/2028-06-01/
LOCATION:Ellisville Public Library\, 201 Poplar St\, Ellisville\, MS\, 39437\, United States
CATEGORIES:Ellisville Branch
ATTACH;FMTTYPE=image/png:https://laurel.lib.ms.us/wp-content/uploads/2023/02/Baby-Me.png
END:VEVENT
BEGIN:VEVENT
DTSTART;TZID=America/Chicago:20280608T090000
DTEND;TZID=America/Chicago:20280608T100000
DTSTAMP:20260424T012448
CREATED:20231206T170135Z
LAST-MODIFIED:20250205T162916Z
UID:10134064-1844067600-1844071200@laurel.lib.ms.us
SUMMARY:Baby + Me @ELL
DESCRIPTION:A program exploring books\, songs\, and fun activities designed for babies and toddlers.
URL:https://laurel.lib.ms.us/event/baby-me-epl-2/2028-06-08/
LOCATION:Ellisville Public Library\, 201 Poplar St\, Ellisville\, MS\, 39437\, United States
CATEGORIES:Ellisville Branch
ATTACH;FMTTYPE=image/png:https://laurel.lib.ms.us/wp-content/uploads/2023/02/Baby-Me.png
END:VEVENT
BEGIN:VEVENT
DTSTART;TZID=America/Chicago:20280615T090000
DTEND;TZID=America/Chicago:20280615T100000
DTSTAMP:20260424T012448
CREATED:20231206T170135Z
LAST-MODIFIED:20250205T162916Z
UID:10134065-1844672400-1844676000@laurel.lib.ms.us
SUMMARY:Baby + Me @ELL
DESCRIPTION:A program exploring books\, songs\, and fun activities designed for babies and toddlers.
URL:https://laurel.lib.ms.us/event/baby-me-epl-2/2028-06-15/
LOCATION:Ellisville Public Library\, 201 Poplar St\, Ellisville\, MS\, 39437\, United States
CATEGORIES:Ellisville Branch
ATTACH;FMTTYPE=image/png:https://laurel.lib.ms.us/wp-content/uploads/2023/02/Baby-Me.png
END:VEVENT
BEGIN:VEVENT
DTSTART;TZID=America/Chicago:20280615T143000
DTEND;TZID=America/Chicago:20280615T163000
DTSTAMP:20260424T012448
CREATED:20251208T142636Z
LAST-MODIFIED:20251208T142636Z
UID:10138341-1844692200-1844699400@laurel.lib.ms.us
SUMMARY:LEGO® Club @ELL
DESCRIPTION:Join us each month to to complete a LEGO® challenge!
URL:https://laurel.lib.ms.us/event/lego-club-ell-3/2028-06-15/
LOCATION:Ellisville Public Library\, 201 Poplar St\, Ellisville\, MS\, 39437\, United States
CATEGORIES:Ellisville Branch
ATTACH;FMTTYPE=image/png:https://laurel.lib.ms.us/wp-content/uploads/2023/02/LEGO-Club.png
END:VEVENT
BEGIN:VEVENT
DTSTART;TZID=America/Chicago:20280617T090000
DTEND;TZID=America/Chicago:20280617T110000
DTSTAMP:20260424T012448
CREATED:20260130T182954Z
LAST-MODIFIED:20260130T182954Z
UID:10140417-1844845200-1844852400@laurel.lib.ms.us
SUMMARY:Ellisville Chess Club @ELL
DESCRIPTION:Come play chess with other chess enthusiasts at our chess group! Open to all ages and skill levels!
URL:https://laurel.lib.ms.us/event/ellisville-chess-club-ell/2028-06-17/
LOCATION:Ellisville Public Library\, 201 Poplar St\, Ellisville\, MS\, 39437\, United States
CATEGORIES:Ellisville Branch
END:VEVENT
BEGIN:VEVENT
DTSTART;TZID=America/Chicago:20280622T090000
DTEND;TZID=America/Chicago:20280622T100000
DTSTAMP:20260424T012448
CREATED:20231206T170135Z
LAST-MODIFIED:20250205T162916Z
UID:10134066-1845277200-1845280800@laurel.lib.ms.us
SUMMARY:Baby + Me @ELL
DESCRIPTION:A program exploring books\, songs\, and fun activities designed for babies and toddlers.
URL:https://laurel.lib.ms.us/event/baby-me-epl-2/2028-06-22/
LOCATION:Ellisville Public Library\, 201 Poplar St\, Ellisville\, MS\, 39437\, United States
CATEGORIES:Ellisville Branch
ATTACH;FMTTYPE=image/png:https://laurel.lib.ms.us/wp-content/uploads/2023/02/Baby-Me.png
END:VEVENT
BEGIN:VEVENT
DTSTART;TZID=America/Chicago:20280629T090000
DTEND;TZID=America/Chicago:20280629T100000
DTSTAMP:20260424T012449
CREATED:20231206T170135Z
LAST-MODIFIED:20250205T162916Z
UID:10134067-1845882000-1845885600@laurel.lib.ms.us
SUMMARY:Baby + Me @ELL
DESCRIPTION:A program exploring books\, songs\, and fun activities designed for babies and toddlers.
URL:https://laurel.lib.ms.us/event/baby-me-epl-2/2028-06-29/
LOCATION:Ellisville Public Library\, 201 Poplar St\, Ellisville\, MS\, 39437\, United States
CATEGORIES:Ellisville Branch
ATTACH;FMTTYPE=image/png:https://laurel.lib.ms.us/wp-content/uploads/2023/02/Baby-Me.png
END:VEVENT
BEGIN:VEVENT
DTSTART;TZID=America/Chicago:20280706T090000
DTEND;TZID=America/Chicago:20280706T100000
DTSTAMP:20260424T012449
CREATED:20231206T170135Z
LAST-MODIFIED:20250205T162916Z
UID:10134318-1846486800-1846490400@laurel.lib.ms.us
SUMMARY:Baby + Me @ELL
DESCRIPTION:A program exploring books\, songs\, and fun activities designed for babies and toddlers.
URL:https://laurel.lib.ms.us/event/baby-me-epl-2/2028-07-06/
LOCATION:Ellisville Public Library\, 201 Poplar St\, Ellisville\, MS\, 39437\, United States
CATEGORIES:Ellisville Branch
ATTACH;FMTTYPE=image/png:https://laurel.lib.ms.us/wp-content/uploads/2023/02/Baby-Me.png
END:VEVENT
BEGIN:VEVENT
DTSTART;TZID=America/Chicago:20280706T100000
DTEND;TZID=America/Chicago:20280706T110000
DTSTAMP:20260424T012449
CREATED:20231206T171105Z
LAST-MODIFIED:20250205T162906Z
UID:10134316-1846490400-1846494000@laurel.lib.ms.us
SUMMARY:Storytime @ELL
DESCRIPTION:Join us every week for a story and a craft!
URL:https://laurel.lib.ms.us/event/storytime-epl-2/2028-07-06/
LOCATION:Ellisville Public Library\, 201 Poplar St\, Ellisville\, MS\, 39437\, United States
CATEGORIES:Ellisville Branch
ATTACH;FMTTYPE=image/png:https://laurel.lib.ms.us/wp-content/uploads/2023/02/Storytime.png
END:VEVENT
BEGIN:VEVENT
DTSTART;TZID=America/Chicago:20280713T090000
DTEND;TZID=America/Chicago:20280713T100000
DTSTAMP:20260424T012449
CREATED:20231206T170135Z
LAST-MODIFIED:20250205T162916Z
UID:10134319-1847091600-1847095200@laurel.lib.ms.us
SUMMARY:Baby + Me @ELL
DESCRIPTION:A program exploring books\, songs\, and fun activities designed for babies and toddlers.
URL:https://laurel.lib.ms.us/event/baby-me-epl-2/2028-07-13/
LOCATION:Ellisville Public Library\, 201 Poplar St\, Ellisville\, MS\, 39437\, United States
CATEGORIES:Ellisville Branch
ATTACH;FMTTYPE=image/png:https://laurel.lib.ms.us/wp-content/uploads/2023/02/Baby-Me.png
END:VEVENT
BEGIN:VEVENT
DTSTART;TZID=America/Chicago:20280713T100000
DTEND;TZID=America/Chicago:20280713T110000
DTSTAMP:20260424T012449
CREATED:20231206T171105Z
LAST-MODIFIED:20250205T162906Z
UID:10134317-1847095200-1847098800@laurel.lib.ms.us
SUMMARY:Storytime @ELL
DESCRIPTION:Join us every week for a story and a craft!
URL:https://laurel.lib.ms.us/event/storytime-epl-2/2028-07-13/
LOCATION:Ellisville Public Library\, 201 Poplar St\, Ellisville\, MS\, 39437\, United States
CATEGORIES:Ellisville Branch
ATTACH;FMTTYPE=image/png:https://laurel.lib.ms.us/wp-content/uploads/2023/02/Storytime.png
END:VEVENT
BEGIN:VEVENT
DTSTART;TZID=America/Chicago:20280713T173000
DTEND;TZID=America/Chicago:20280713T183000
DTSTAMP:20260424T012449
CREATED:20250509T204449Z
LAST-MODIFIED:20250509T204449Z
UID:10135295-1847122200-1847125800@laurel.lib.ms.us
SUMMARY:Books & Brew Book Club @ELL
DESCRIPTION:Join us with at the Ellisville Public Library as we discuss this month’s book selection!
URL:https://laurel.lib.ms.us/event/books-brew-book-club-2-2-2-3/2028-07-13/
LOCATION:Ellisville Public Library\, 201 Poplar St\, Ellisville\, MS\, 39437\, United States
CATEGORIES:Ellisville Branch
ATTACH;FMTTYPE=image/png:https://laurel.lib.ms.us/wp-content/uploads/2023/02/Ellisville-Book-Club.png
END:VEVENT
BEGIN:VEVENT
DTSTART;TZID=America/Chicago:20280713T173000
DTEND;TZID=America/Chicago:20280713T183000
DTSTAMP:20260424T012449
CREATED:20260420T142034Z
LAST-MODIFIED:20260420T142034Z
UID:10140886-1847122200-1847125800@laurel.lib.ms.us
SUMMARY:Graphic Novel Club @ELL
DESCRIPTION:Join us at the Ellisville Public Library as we discuss this month’s graphic novel selection! \nPlease note that this class is for adults (18+) only. It is not appropriate for younger readers.
URL:https://laurel.lib.ms.us/event/graphic-novel-club-ell/
LOCATION:Ellisville Public Library\, 201 Poplar St\, Ellisville\, MS\, 39437\, United States
CATEGORIES:Ellisville Branch
END:VEVENT
BEGIN:VEVENT
DTSTART;TZID=America/Chicago:20280715T090000
DTEND;TZID=America/Chicago:20280715T110000
DTSTAMP:20260424T012449
CREATED:20260130T182954Z
LAST-MODIFIED:20260130T182954Z
UID:10140418-1847264400-1847271600@laurel.lib.ms.us
SUMMARY:Ellisville Chess Club @ELL
DESCRIPTION:Come play chess with other chess enthusiasts at our chess group! Open to all ages and skill levels!
URL:https://laurel.lib.ms.us/event/ellisville-chess-club-ell/2028-07-15/
LOCATION:Ellisville Public Library\, 201 Poplar St\, Ellisville\, MS\, 39437\, United States
CATEGORIES:Ellisville Branch
END:VEVENT
BEGIN:VEVENT
DTSTART;TZID=America/Chicago:20280720T090000
DTEND;TZID=America/Chicago:20280720T100000
DTSTAMP:20260424T012449
CREATED:20231206T170135Z
LAST-MODIFIED:20250205T162916Z
UID:10134582-1847696400-1847700000@laurel.lib.ms.us
SUMMARY:Baby + Me @ELL
DESCRIPTION:A program exploring books\, songs\, and fun activities designed for babies and toddlers.
URL:https://laurel.lib.ms.us/event/baby-me-epl-2/2028-07-20/
LOCATION:Ellisville Public Library\, 201 Poplar St\, Ellisville\, MS\, 39437\, United States
CATEGORIES:Ellisville Branch
ATTACH;FMTTYPE=image/png:https://laurel.lib.ms.us/wp-content/uploads/2023/02/Baby-Me.png
END:VEVENT
BEGIN:VEVENT
DTSTART;TZID=America/Chicago:20280720T100000
DTEND;TZID=America/Chicago:20280720T110000
DTSTAMP:20260424T012449
CREATED:20231206T171105Z
LAST-MODIFIED:20250205T162906Z
UID:10134584-1847700000-1847703600@laurel.lib.ms.us
SUMMARY:Storytime @ELL
DESCRIPTION:Join us every week for a story and a craft!
URL:https://laurel.lib.ms.us/event/storytime-epl-2/2028-07-20/
LOCATION:Ellisville Public Library\, 201 Poplar St\, Ellisville\, MS\, 39437\, United States
CATEGORIES:Ellisville Branch
ATTACH;FMTTYPE=image/png:https://laurel.lib.ms.us/wp-content/uploads/2023/02/Storytime.png
END:VEVENT
BEGIN:VEVENT
DTSTART;TZID=America/Chicago:20280720T143000
DTEND;TZID=America/Chicago:20280720T163000
DTSTAMP:20260424T012449
CREATED:20251208T142636Z
LAST-MODIFIED:20251208T142636Z
UID:10138342-1847716200-1847723400@laurel.lib.ms.us
SUMMARY:LEGO® Club @ELL
DESCRIPTION:Join us each month to to complete a LEGO® challenge!
URL:https://laurel.lib.ms.us/event/lego-club-ell-3/2028-07-20/
LOCATION:Ellisville Public Library\, 201 Poplar St\, Ellisville\, MS\, 39437\, United States
CATEGORIES:Ellisville Branch
ATTACH;FMTTYPE=image/png:https://laurel.lib.ms.us/wp-content/uploads/2023/02/LEGO-Club.png
END:VEVENT
BEGIN:VEVENT
DTSTART;TZID=America/Chicago:20280727T090000
DTEND;TZID=America/Chicago:20280727T100000
DTSTAMP:20260424T012449
CREATED:20231206T170135Z
LAST-MODIFIED:20250205T162916Z
UID:10134583-1848301200-1848304800@laurel.lib.ms.us
SUMMARY:Baby + Me @ELL
DESCRIPTION:A program exploring books\, songs\, and fun activities designed for babies and toddlers.
URL:https://laurel.lib.ms.us/event/baby-me-epl-2/2028-07-27/
LOCATION:Ellisville Public Library\, 201 Poplar St\, Ellisville\, MS\, 39437\, United States
CATEGORIES:Ellisville Branch
ATTACH;FMTTYPE=image/png:https://laurel.lib.ms.us/wp-content/uploads/2023/02/Baby-Me.png
END:VEVENT
END:VCALENDAR