BEGIN:VCALENDAR
VERSION:2.0
PRODID:-//Laurel Library - ECPv6.15.20//NONSGML v1.0//EN
CALSCALE:GREGORIAN
METHOD:PUBLISH
X-ORIGINAL-URL:https://laurel.lib.ms.us
X-WR-CALDESC:Events for Laurel Library
REFRESH-INTERVAL;VALUE=DURATION:PT1H
X-Robots-Tag:noindex
X-PUBLISHED-TTL:PT1H
BEGIN:VTIMEZONE
TZID:America/Chicago
BEGIN:DAYLIGHT
TZOFFSETFROM:-0600
TZOFFSETTO:-0500
TZNAME:CDT
DTSTART:20230312T080000
END:DAYLIGHT
BEGIN:STANDARD
TZOFFSETFROM:-0500
TZOFFSETTO:-0600
TZNAME:CST
DTSTART:20231105T070000
END:STANDARD
BEGIN:DAYLIGHT
TZOFFSETFROM:-0600
TZOFFSETTO:-0500
TZNAME:CDT
DTSTART:20240310T080000
END:DAYLIGHT
BEGIN:STANDARD
TZOFFSETFROM:-0500
TZOFFSETTO:-0600
TZNAME:CST
DTSTART:20241103T070000
END:STANDARD
BEGIN:DAYLIGHT
TZOFFSETFROM:-0600
TZOFFSETTO:-0500
TZNAME:CDT
DTSTART:20250309T080000
END:DAYLIGHT
BEGIN:STANDARD
TZOFFSETFROM:-0500
TZOFFSETTO:-0600
TZNAME:CST
DTSTART:20251102T070000
END:STANDARD
END:VTIMEZONE
BEGIN:VEVENT
DTSTART;TZID=America/Chicago:20240824T100000
DTEND;TZID=America/Chicago:20240824T120000
DTSTAMP:20260424T042630
CREATED:20240808T194438Z
LAST-MODIFIED:20250523T130727Z
UID:10135862-1724493600-1724500800@laurel.lib.ms.us
SUMMARY:Writer's Camp @ELL
DESCRIPTION:Welcome to WRITER’S CAMP: KDP PUBLISHING & CONTESTS – FREE! Join us at the Ellisville Public Library for a day filled with creativity and inspiration. Learn all about self-publishing on Amazon’s Kindle Direct Publishing platform and how to enter writing contests. This in-person event is perfect for aspiring writers looking to take their craft to the next level. Don’t miss out on this exciting opportunity to connect with fellow writers and enhance your skills. \nAlso included will be how to write a tag line for your book and tips on cover design. \nSee you there! \nPamela J Hatch\nLocal Author and Word Wrangler Extraordinaire \n\n\nRegister on Eventbrite or at the door.
URL:https://laurel.lib.ms.us/event/writers-camp-ell/
LOCATION:Ellisville Public Library\, 201 Poplar St\, Ellisville\, MS\, 39437\, United States
CATEGORIES:Ellisville Branch
ORGANIZER;CN="Pamela Hatch":MAILTO:HeartsCompassImprint@yahoo.com
END:VEVENT
END:VCALENDAR