BEGIN:VCALENDAR
VERSION:2.0
PRODID:-//Laurel Library - ECPv6.15.20//NONSGML v1.0//EN
CALSCALE:GREGORIAN
METHOD:PUBLISH
X-ORIGINAL-URL:https://laurel.lib.ms.us
X-WR-CALDESC:Events for Laurel Library
REFRESH-INTERVAL;VALUE=DURATION:PT1H
X-Robots-Tag:noindex
X-PUBLISHED-TTL:PT1H
BEGIN:VTIMEZONE
TZID:America/Chicago
BEGIN:DAYLIGHT
TZOFFSETFROM:-0600
TZOFFSETTO:-0500
TZNAME:CDT
DTSTART:20250309T080000
END:DAYLIGHT
BEGIN:STANDARD
TZOFFSETFROM:-0500
TZOFFSETTO:-0600
TZNAME:CST
DTSTART:20251102T070000
END:STANDARD
BEGIN:DAYLIGHT
TZOFFSETFROM:-0600
TZOFFSETTO:-0500
TZNAME:CDT
DTSTART:20260308T080000
END:DAYLIGHT
BEGIN:STANDARD
TZOFFSETFROM:-0500
TZOFFSETTO:-0600
TZNAME:CST
DTSTART:20261101T070000
END:STANDARD
BEGIN:DAYLIGHT
TZOFFSETFROM:-0600
TZOFFSETTO:-0500
TZNAME:CDT
DTSTART:20270314T080000
END:DAYLIGHT
BEGIN:STANDARD
TZOFFSETFROM:-0500
TZOFFSETTO:-0600
TZNAME:CST
DTSTART:20271107T070000
END:STANDARD
END:VTIMEZONE
BEGIN:VEVENT
DTSTART;TZID=America/Chicago:20260604T090000
DTEND;TZID=America/Chicago:20260604T100000
DTSTAMP:20260421T202629
CREATED:20231206T170135Z
LAST-MODIFIED:20250205T162916Z
UID:10130699-1780563600-1780567200@laurel.lib.ms.us
SUMMARY:Baby + Me @ELL
DESCRIPTION:A program exploring books\, songs\, and fun activities designed for babies and toddlers.
URL:https://laurel.lib.ms.us/event/baby-me-epl-2/2026-06-04/
LOCATION:Ellisville Public Library\, 201 Poplar St\, Ellisville\, MS\, 39437\, United States
CATEGORIES:Ellisville Branch
ATTACH;FMTTYPE=image/png:https://laurel.lib.ms.us/wp-content/uploads/2023/02/Baby-Me.png
END:VEVENT
BEGIN:VEVENT
DTSTART;TZID=America/Chicago:20260604T140000
DTEND;TZID=America/Chicago:20260604T160000
DTSTAMP:20260421T202629
CREATED:20260411T134247Z
LAST-MODIFIED:20260411T134247Z
UID:10140796-1780581600-1780588800@laurel.lib.ms.us
SUMMARY:Summer Reading Kick-Off @ELL
DESCRIPTION:Come register for Summer Reading while enjoying some fun activities!
URL:https://laurel.lib.ms.us/event/summer-reading-kick-off-ell-2/
LOCATION:Ellisville Public Library\, 201 Poplar St\, Ellisville\, MS\, 39437\, United States
CATEGORIES:Ellisville Branch
ATTACH;FMTTYPE=image/png:https://laurel.lib.ms.us/wp-content/uploads/2026/04/Website-Header-SRP-2026.png
END:VEVENT
BEGIN:VEVENT
DTSTART;TZID=America/Chicago:20260604T160000
DTEND;TZID=America/Chicago:20260604T170000
DTSTAMP:20260421T202629
CREATED:20260420T144142Z
LAST-MODIFIED:20260420T144142Z
UID:10140992-1780588800-1780592400@laurel.lib.ms.us
SUMMARY:Summer Reading Kick-Off  (Sensory Sensitivity Hour)@ELL
DESCRIPTION:Come register for Summer Reading while enjoying some fun activities! \nThis hour is exclusively for those with sensory sensitivities.
URL:https://laurel.lib.ms.us/event/summer-reading-kick-off-sensory-sensitivity-hourell/
LOCATION:Ellisville Public Library\, 201 Poplar St\, Ellisville\, MS\, 39437\, United States
CATEGORIES:Ellisville Branch
ATTACH;FMTTYPE=image/png:https://laurel.lib.ms.us/wp-content/uploads/2026/04/Website-Header-SRP-2026.png
END:VEVENT
BEGIN:VEVENT
DTSTART;TZID=America/Chicago:20260611T090000
DTEND;TZID=America/Chicago:20260611T100000
DTSTAMP:20260421T202629
CREATED:20231206T170135Z
LAST-MODIFIED:20250205T162916Z
UID:10130700-1781168400-1781172000@laurel.lib.ms.us
SUMMARY:Baby + Me @ELL
DESCRIPTION:A program exploring books\, songs\, and fun activities designed for babies and toddlers.
URL:https://laurel.lib.ms.us/event/baby-me-epl-2/2026-06-11/
LOCATION:Ellisville Public Library\, 201 Poplar St\, Ellisville\, MS\, 39437\, United States
CATEGORIES:Ellisville Branch
ATTACH;FMTTYPE=image/png:https://laurel.lib.ms.us/wp-content/uploads/2023/02/Baby-Me.png
END:VEVENT
BEGIN:VEVENT
DTSTART;TZID=America/Chicago:20260611T120000
DTEND;TZID=America/Chicago:20260611T130000
DTSTAMP:20260421T202629
CREATED:20260420T144917Z
LAST-MODIFIED:20260420T144917Z
UID:10141116-1781179200-1781182800@laurel.lib.ms.us
SUMMARY:Splash Day (Sensory Sensitivity Hour)@ELL
DESCRIPTION:Come enjoy a day of water and fun at the Ellisville City Park! Don’t forget your towel and sunscreen! \nThis hour is exclusively for those with sensory sensitivities. Anyone without sensory sensitivities will need to wait until the 1 pm program to come play.
URL:https://laurel.lib.ms.us/event/splash-day-sensory-sensitivity-hourell/
LOCATION:Ellisville City Park\, 402 N Church St\, Ellisville\, MS\, 39437\, United States
CATEGORIES:Ellisville Branch
ATTACH;FMTTYPE=image/png:https://laurel.lib.ms.us/wp-content/uploads/2026/04/Website-Header-SRP-2026.png
END:VEVENT
BEGIN:VEVENT
DTSTART;TZID=America/Chicago:20260611T130000
DTEND;TZID=America/Chicago:20260611T150000
DTSTAMP:20260421T202629
CREATED:20260420T144739Z
LAST-MODIFIED:20260420T144739Z
UID:10141115-1781182800-1781190000@laurel.lib.ms.us
SUMMARY:Splash Day @ELL
DESCRIPTION:Come enjoy a day of water and fun at the Ellisville City Park! Don’t forget your towel and sunscreen!
URL:https://laurel.lib.ms.us/event/splash-day-ell-3/
LOCATION:Ellisville City Park\, 402 N Church St\, Ellisville\, MS\, 39437\, United States
CATEGORIES:Ellisville Branch
ATTACH;FMTTYPE=image/png:https://laurel.lib.ms.us/wp-content/uploads/2026/04/Website-Header-SRP-2026.png
END:VEVENT
BEGIN:VEVENT
DTSTART;TZID=America/Chicago:20260618T090000
DTEND;TZID=America/Chicago:20260618T100000
DTSTAMP:20260421T202629
CREATED:20231206T170135Z
LAST-MODIFIED:20250205T162916Z
UID:10130701-1781773200-1781776800@laurel.lib.ms.us
SUMMARY:Baby + Me @ELL
DESCRIPTION:A program exploring books\, songs\, and fun activities designed for babies and toddlers.
URL:https://laurel.lib.ms.us/event/baby-me-epl-2/2026-06-18/
LOCATION:Ellisville Public Library\, 201 Poplar St\, Ellisville\, MS\, 39437\, United States
CATEGORIES:Ellisville Branch
ATTACH;FMTTYPE=image/png:https://laurel.lib.ms.us/wp-content/uploads/2023/02/Baby-Me.png
END:VEVENT
BEGIN:VEVENT
DTSTART;TZID=America/Chicago:20260618T140000
DTEND;TZID=America/Chicago:20260618T140000
DTSTAMP:20260421T202629
CREATED:20260420T145315Z
LAST-MODIFIED:20260420T145328Z
UID:10141118-1781791200-1781791200@laurel.lib.ms.us
SUMMARY:Freedom Ranch Wildlife Center @ELL
DESCRIPTION:More info coming soon.
URL:https://laurel.lib.ms.us/event/freedom-ranch-wildlife-center-ell/
LOCATION:Ellisville Public Library\, 201 Poplar St\, Ellisville\, MS\, 39437\, United States
CATEGORIES:Ellisville Branch
ATTACH;FMTTYPE=image/png:https://laurel.lib.ms.us/wp-content/uploads/2026/04/Website-Header-SRP-2026.png
END:VEVENT
BEGIN:VEVENT
DTSTART;TZID=America/Chicago:20260619T090000
DTEND;TZID=America/Chicago:20260619T130000
DTSTAMP:20260421T202629
CREATED:20260420T145613Z
LAST-MODIFIED:20260420T145613Z
UID:10141290-1781859600-1781874000@laurel.lib.ms.us
SUMMARY:Juneteenth Come & Go: Button Making
DESCRIPTION:
URL:https://laurel.lib.ms.us/event/juneteenth-come-go-button-making/
LOCATION:MS
CATEGORIES:Ellisville Branch,Laurel Branch
END:VEVENT
BEGIN:VEVENT
DTSTART;TZID=America/Chicago:20260620T090000
DTEND;TZID=America/Chicago:20260620T110000
DTSTAMP:20260421T202629
CREATED:20260130T182954Z
LAST-MODIFIED:20260130T182954Z
UID:10140393-1781946000-1781953200@laurel.lib.ms.us
SUMMARY:Ellisville Chess Club @ELL
DESCRIPTION:Come play chess with other chess enthusiasts at our chess group! Open to all ages and skill levels!
URL:https://laurel.lib.ms.us/event/ellisville-chess-club-ell/2026-06-20/
LOCATION:Ellisville Public Library\, 201 Poplar St\, Ellisville\, MS\, 39437\, United States
CATEGORIES:Ellisville Branch
END:VEVENT
BEGIN:VEVENT
DTSTART;TZID=America/Chicago:20260625T090000
DTEND;TZID=America/Chicago:20260625T100000
DTSTAMP:20260421T202629
CREATED:20231206T170135Z
LAST-MODIFIED:20250205T162916Z
UID:10130702-1782378000-1782381600@laurel.lib.ms.us
SUMMARY:Baby + Me @ELL
DESCRIPTION:A program exploring books\, songs\, and fun activities designed for babies and toddlers.
URL:https://laurel.lib.ms.us/event/baby-me-epl-2/2026-06-25/
LOCATION:Ellisville Public Library\, 201 Poplar St\, Ellisville\, MS\, 39437\, United States
CATEGORIES:Ellisville Branch
ATTACH;FMTTYPE=image/png:https://laurel.lib.ms.us/wp-content/uploads/2023/02/Baby-Me.png
END:VEVENT
BEGIN:VEVENT
DTSTART;TZID=America/Chicago:20260625T090000
DTEND;TZID=America/Chicago:20260625T170000
DTSTAMP:20260421T202629
CREATED:20260411T135211Z
LAST-MODIFIED:20260411T135241Z
UID:10140813-1782378000-1782406800@laurel.lib.ms.us
SUMMARY:All Day LEGO® Club @ELL
DESCRIPTION:Join us at any time today to complete a Summer Reading themed LEGO® challenge!
URL:https://laurel.lib.ms.us/event/all-day-lego-club-ell/
LOCATION:Ellisville Public Library\, 201 Poplar St\, Ellisville\, MS\, 39437\, United States
CATEGORIES:Ellisville Branch
ATTACH;FMTTYPE=image/png:https://laurel.lib.ms.us/wp-content/uploads/2026/04/Website-Header-SRP-2026.png
END:VEVENT
BEGIN:VEVENT
DTSTART;TZID=America/Chicago:20260625T100000
DTEND;TZID=America/Chicago:20260625T190000
DTSTAMP:20260421T202629
CREATED:20260420T150051Z
LAST-MODIFIED:20260420T150051Z
UID:10141293-1782381600-1782414000@laurel.lib.ms.us
SUMMARY:Spare Parts Robotics Demo @ELL
DESCRIPTION:Come see the Spare Parts Robotics team demonstrate their latest competitive robot!
URL:https://laurel.lib.ms.us/event/spare-parts-robotics-demo-ell/
LOCATION:Ellisville Public Library\, 201 Poplar St\, Ellisville\, MS\, 39437\, United States
CATEGORIES:Ellisville Branch
ATTACH;FMTTYPE=image/png:https://laurel.lib.ms.us/wp-content/uploads/2026/04/Website-Header-SRP-2026.png
END:VEVENT
END:VCALENDAR