BEGIN:VCALENDAR
VERSION:2.0
PRODID:-//Laurel Library - ECPv6.15.20//NONSGML v1.0//EN
CALSCALE:GREGORIAN
METHOD:PUBLISH
X-WR-CALNAME:Laurel Library
X-ORIGINAL-URL:https://laurel.lib.ms.us
X-WR-CALDESC:Events for Laurel Library
REFRESH-INTERVAL;VALUE=DURATION:PT1H
X-Robots-Tag:noindex
X-PUBLISHED-TTL:PT1H
BEGIN:VTIMEZONE
TZID:America/Chicago
BEGIN:DAYLIGHT
TZOFFSETFROM:-0600
TZOFFSETTO:-0500
TZNAME:CDT
DTSTART:20220313T080000
END:DAYLIGHT
BEGIN:STANDARD
TZOFFSETFROM:-0500
TZOFFSETTO:-0600
TZNAME:CST
DTSTART:20221106T070000
END:STANDARD
BEGIN:DAYLIGHT
TZOFFSETFROM:-0600
TZOFFSETTO:-0500
TZNAME:CDT
DTSTART:20230312T080000
END:DAYLIGHT
BEGIN:STANDARD
TZOFFSETFROM:-0500
TZOFFSETTO:-0600
TZNAME:CST
DTSTART:20231105T070000
END:STANDARD
BEGIN:DAYLIGHT
TZOFFSETFROM:-0600
TZOFFSETTO:-0500
TZNAME:CDT
DTSTART:20240310T080000
END:DAYLIGHT
BEGIN:STANDARD
TZOFFSETFROM:-0500
TZOFFSETTO:-0600
TZNAME:CST
DTSTART:20241103T070000
END:STANDARD
END:VTIMEZONE
BEGIN:VEVENT
DTSTART;TZID=America/Chicago:20231207T090000
DTEND;TZID=America/Chicago:20231207T100000
DTSTAMP:20260424T200949
CREATED:20231206T170135Z
LAST-MODIFIED:20250205T162916Z
UID:10130569-1701939600-1701943200@laurel.lib.ms.us
SUMMARY:Baby + Me @ELL
DESCRIPTION:A program exploring books\, songs\, and fun activities designed for babies and toddlers.
URL:https://laurel.lib.ms.us/event/baby-me-epl-2/2023-12-07/
LOCATION:Ellisville Public Library\, 201 Poplar St\, Ellisville\, MS\, 39437\, United States
CATEGORIES:Ellisville Branch
ATTACH;FMTTYPE=image/png:https://laurel.lib.ms.us/wp-content/uploads/2023/02/Baby-Me.png
END:VEVENT
BEGIN:VEVENT
DTSTART;TZID=America/Chicago:20231207T100000
DTEND;TZID=America/Chicago:20231207T110000
DTSTAMP:20260424T200949
CREATED:20231206T171105Z
LAST-MODIFIED:20250205T162906Z
UID:10130830-1701943200-1701946800@laurel.lib.ms.us
SUMMARY:Storytime @ELL
DESCRIPTION:Join us every week for a story and a craft!
URL:https://laurel.lib.ms.us/event/storytime-epl-2/2023-12-07/
LOCATION:Ellisville Public Library\, 201 Poplar St\, Ellisville\, MS\, 39437\, United States
CATEGORIES:Ellisville Branch
ATTACH;FMTTYPE=image/png:https://laurel.lib.ms.us/wp-content/uploads/2023/02/Storytime.png
END:VEVENT
BEGIN:VEVENT
DTSTART;TZID=America/Chicago:20231214T090000
DTEND;TZID=America/Chicago:20231214T100000
DTSTAMP:20260424T200949
CREATED:20231206T170135Z
LAST-MODIFIED:20250205T162916Z
UID:10130570-1702544400-1702548000@laurel.lib.ms.us
SUMMARY:Baby + Me @ELL
DESCRIPTION:A program exploring books\, songs\, and fun activities designed for babies and toddlers.
URL:https://laurel.lib.ms.us/event/baby-me-epl-2/2023-12-14/
LOCATION:Ellisville Public Library\, 201 Poplar St\, Ellisville\, MS\, 39437\, United States
CATEGORIES:Ellisville Branch
ATTACH;FMTTYPE=image/png:https://laurel.lib.ms.us/wp-content/uploads/2023/02/Baby-Me.png
END:VEVENT
BEGIN:VEVENT
DTSTART;TZID=America/Chicago:20231214T100000
DTEND;TZID=America/Chicago:20231214T110000
DTSTAMP:20260424T200949
CREATED:20231206T171105Z
LAST-MODIFIED:20250205T162906Z
UID:10130831-1702548000-1702551600@laurel.lib.ms.us
SUMMARY:Storytime @ELL
DESCRIPTION:Join us every week for a story and a craft!
URL:https://laurel.lib.ms.us/event/storytime-epl-2/2023-12-14/
LOCATION:Ellisville Public Library\, 201 Poplar St\, Ellisville\, MS\, 39437\, United States
CATEGORIES:Ellisville Branch
ATTACH;FMTTYPE=image/png:https://laurel.lib.ms.us/wp-content/uploads/2023/02/Storytime.png
END:VEVENT
BEGIN:VEVENT
DTSTART;TZID=America/Chicago:20231214T180000
DTEND;TZID=America/Chicago:20231214T190000
DTSTAMP:20260424T200949
CREATED:20231206T142545Z
LAST-MODIFIED:20250522T144704Z
UID:10134685-1702576800-1702580400@laurel.lib.ms.us
SUMMARY:Books & Brew Book Club @The Coffeehouse at Brookside
DESCRIPTION:Join us with at The Coffeehouse at Brookside in downtown Ellisville as we discuss this month’s book selection!
URL:https://laurel.lib.ms.us/event/books-brew-book-club-2-2/2023-12-14/
LOCATION:The Coffeehouse at Brookside\, 113 S Front St\, Ellisville\, MS\, 39437\, United States
CATEGORIES:Ellisville Branch
ATTACH;FMTTYPE=image/png:https://laurel.lib.ms.us/wp-content/uploads/2023/02/Ellisville-Book-Club.png
END:VEVENT
BEGIN:VEVENT
DTSTART;TZID=America/Chicago:20231220T100000
DTEND;TZID=America/Chicago:20231220T120000
DTSTAMP:20260424T200949
CREATED:20231206T154457Z
LAST-MODIFIED:20250522T150026Z
UID:10131830-1703066400-1703073600@laurel.lib.ms.us
SUMMARY:Computer Help (Ticketed) @ELL
DESCRIPTION:Computer classes for those interested in learning about the basics of computer use and internet access. \nVisit us or call (601)428-4313 OR (601)477-9271 to sign up or for more information.
URL:https://laurel.lib.ms.us/event/computer-help-epl-2/
LOCATION:Ellisville Public Library\, 201 Poplar St\, Ellisville\, MS\, 39437\, United States
CATEGORIES:Ellisville Branch
END:VEVENT
BEGIN:VEVENT
DTSTART;TZID=America/Chicago:20231222T150000
DTEND;TZID=America/Chicago:20231222T170000
DTSTAMP:20260424T200949
CREATED:20231219T141020Z
LAST-MODIFIED:20231219T141419Z
UID:10135170-1703257200-1703264400@laurel.lib.ms.us
SUMMARY:Closing Early for Christmas
DESCRIPTION:The Laurel-Jones County Library System will be closing at 3 pm on Friday\, December 22nd. Regular hours will resume Wednesday\, December 27th.
URL:https://laurel.lib.ms.us/event/closing-early-for-christmas/
CATEGORIES:Closures,Ellisville Branch,Laurel Branch
END:VEVENT
END:VCALENDAR