BEGIN:VCALENDAR
VERSION:2.0
PRODID:-//Laurel Library - ECPv6.15.20//NONSGML v1.0//EN
CALSCALE:GREGORIAN
METHOD:PUBLISH
X-WR-CALNAME:Laurel Library
X-ORIGINAL-URL:https://laurel.lib.ms.us
X-WR-CALDESC:Events for Laurel Library
REFRESH-INTERVAL;VALUE=DURATION:PT1H
X-Robots-Tag:noindex
X-PUBLISHED-TTL:PT1H
BEGIN:VTIMEZONE
TZID:America/Chicago
BEGIN:DAYLIGHT
TZOFFSETFROM:-0600
TZOFFSETTO:-0500
TZNAME:CDT
DTSTART:20220313T080000
END:DAYLIGHT
BEGIN:STANDARD
TZOFFSETFROM:-0500
TZOFFSETTO:-0600
TZNAME:CST
DTSTART:20221106T070000
END:STANDARD
BEGIN:DAYLIGHT
TZOFFSETFROM:-0600
TZOFFSETTO:-0500
TZNAME:CDT
DTSTART:20230312T080000
END:DAYLIGHT
BEGIN:STANDARD
TZOFFSETFROM:-0500
TZOFFSETTO:-0600
TZNAME:CST
DTSTART:20231105T070000
END:STANDARD
BEGIN:DAYLIGHT
TZOFFSETFROM:-0600
TZOFFSETTO:-0500
TZNAME:CDT
DTSTART:20240310T080000
END:DAYLIGHT
BEGIN:STANDARD
TZOFFSETFROM:-0500
TZOFFSETTO:-0600
TZNAME:CST
DTSTART:20241103T070000
END:STANDARD
END:VTIMEZONE
BEGIN:VEVENT
DTSTART;TZID=America/Chicago:20231102T090000
DTEND;TZID=America/Chicago:20231102T100000
DTSTAMP:20260425T060634
CREATED:20230126T194159Z
LAST-MODIFIED:20250205T161856Z
UID:10130564-1698915600-1698919200@laurel.lib.ms.us
SUMMARY:Baby + Me @ELL
DESCRIPTION:A program exploring books\, songs\, and fun activities designed for babies and toddlers.
URL:https://laurel.lib.ms.us/event/baby-me-epl/2023-11-02/
LOCATION:Ellisville Public Library\, 201 Poplar St\, Ellisville\, MS\, 39437\, United States
CATEGORIES:Ellisville Branch
ATTACH;FMTTYPE=image/png:https://laurel.lib.ms.us/wp-content/uploads/2023/02/Baby-Me.png
END:VEVENT
BEGIN:VEVENT
DTSTART;TZID=America/Chicago:20231102T100000
DTEND;TZID=America/Chicago:20231102T110000
DTSTAMP:20260425T060634
CREATED:20230126T194310Z
LAST-MODIFIED:20250205T161942Z
UID:10130825-1698919200-1698922800@laurel.lib.ms.us
SUMMARY:Storytime @ELL
DESCRIPTION:Join us every week for a story and a craft!
URL:https://laurel.lib.ms.us/event/storytime-epl/2023-11-02/
LOCATION:Ellisville Public Library\, 201 Poplar St\, Ellisville\, MS\, 39437\, United States
CATEGORIES:Ellisville Branch
ATTACH;FMTTYPE=image/png:https://laurel.lib.ms.us/wp-content/uploads/2023/02/Storytime.png
END:VEVENT
BEGIN:VEVENT
DTSTART;TZID=America/Chicago:20231104T190000
DTEND;TZID=America/Chicago:20231104T210000
DTSTAMP:20260425T060634
CREATED:20231019T150052Z
LAST-MODIFIED:20250522T144659Z
UID:10134748-1699124400-1699131600@laurel.lib.ms.us
SUMMARY:Movie on the Lawn @ELL
DESCRIPTION:Join us at the Ellisville Public Library for a free showing of Hocus Pocus 2! Bring your own lawn chair and blankets! \nConcessions available for purchase.
URL:https://laurel.lib.ms.us/event/movie-on-the-lawn-ell/
LOCATION:Ellisville Public Library\, 201 Poplar St\, Ellisville\, MS\, 39437\, United States
CATEGORIES:Ellisville Branch
ATTACH;FMTTYPE=image/png:https://laurel.lib.ms.us/wp-content/uploads/2023/02/Generic-Movie-Event.png
END:VEVENT
BEGIN:VEVENT
DTSTART;TZID=America/Chicago:20231109T090000
DTEND;TZID=America/Chicago:20231109T100000
DTSTAMP:20260425T060634
CREATED:20230126T194159Z
LAST-MODIFIED:20250205T161856Z
UID:10130565-1699520400-1699524000@laurel.lib.ms.us
SUMMARY:Baby + Me @ELL
DESCRIPTION:A program exploring books\, songs\, and fun activities designed for babies and toddlers.
URL:https://laurel.lib.ms.us/event/baby-me-epl/2023-11-09/
LOCATION:Ellisville Public Library\, 201 Poplar St\, Ellisville\, MS\, 39437\, United States
CATEGORIES:Ellisville Branch
ATTACH;FMTTYPE=image/png:https://laurel.lib.ms.us/wp-content/uploads/2023/02/Baby-Me.png
END:VEVENT
BEGIN:VEVENT
DTSTART;TZID=America/Chicago:20231109T100000
DTEND;TZID=America/Chicago:20231109T110000
DTSTAMP:20260425T060634
CREATED:20230126T194310Z
LAST-MODIFIED:20250205T161942Z
UID:10130826-1699524000-1699527600@laurel.lib.ms.us
SUMMARY:Storytime @ELL
DESCRIPTION:Join us every week for a story and a craft!
URL:https://laurel.lib.ms.us/event/storytime-epl/2023-11-09/
LOCATION:Ellisville Public Library\, 201 Poplar St\, Ellisville\, MS\, 39437\, United States
CATEGORIES:Ellisville Branch
ATTACH;FMTTYPE=image/png:https://laurel.lib.ms.us/wp-content/uploads/2023/02/Storytime.png
END:VEVENT
BEGIN:VEVENT
DTSTART;TZID=America/Chicago:20231114T180000
DTEND;TZID=America/Chicago:20231114T190000
DTSTAMP:20260425T060634
CREATED:20231019T145359Z
LAST-MODIFIED:20250522T144708Z
UID:10132301-1699984800-1699988400@laurel.lib.ms.us
SUMMARY:Books & Brew Book Club @The Coffeehouse at Brookside
DESCRIPTION:Join us with at The Coffeehouse at Brookside in downtown Ellisville as we discuss this month’s book selection!
URL:https://laurel.lib.ms.us/event/books-brew-book-club-2/
LOCATION:The Coffeehouse at Brookside\, 113 S Front St\, Ellisville\, MS\, 39437\, United States
CATEGORIES:Ellisville Branch
ATTACH;FMTTYPE=image/png:https://laurel.lib.ms.us/wp-content/uploads/2023/02/Ellisville-Book-Club.png
END:VEVENT
BEGIN:VEVENT
DTSTART;TZID=America/Chicago:20231115T100000
DTEND;TZID=America/Chicago:20231115T120000
DTSTAMP:20260425T060634
CREATED:20230127T144723Z
LAST-MODIFIED:20250205T161919Z
UID:10131829-1700042400-1700049600@laurel.lib.ms.us
SUMMARY:Computer Help (Ticketed) @ELL
DESCRIPTION:Computer classes for those interested in learning about the basics of computer use and internet access. \nTaught by Dr. McArthur. Visit us or call (601)428-4313 OR (601)477-9271 to sign up or for more information.
URL:https://laurel.lib.ms.us/event/computer-help-epl/2023-11-15/
LOCATION:Ellisville Public Library\, 201 Poplar St\, Ellisville\, MS\, 39437\, United States
CATEGORIES:Ellisville Branch
END:VEVENT
BEGIN:VEVENT
DTSTART;TZID=America/Chicago:20231116T090000
DTEND;TZID=America/Chicago:20231116T100000
DTSTAMP:20260425T060634
CREATED:20230126T194159Z
LAST-MODIFIED:20250205T161856Z
UID:10130566-1700125200-1700128800@laurel.lib.ms.us
SUMMARY:Baby + Me @ELL
DESCRIPTION:A program exploring books\, songs\, and fun activities designed for babies and toddlers.
URL:https://laurel.lib.ms.us/event/baby-me-epl/2023-11-16/
LOCATION:Ellisville Public Library\, 201 Poplar St\, Ellisville\, MS\, 39437\, United States
CATEGORIES:Ellisville Branch
ATTACH;FMTTYPE=image/png:https://laurel.lib.ms.us/wp-content/uploads/2023/02/Baby-Me.png
END:VEVENT
BEGIN:VEVENT
DTSTART;TZID=America/Chicago:20231116T100000
DTEND;TZID=America/Chicago:20231116T110000
DTSTAMP:20260425T060634
CREATED:20230126T194310Z
LAST-MODIFIED:20250205T161942Z
UID:10130827-1700128800-1700132400@laurel.lib.ms.us
SUMMARY:Storytime @ELL
DESCRIPTION:Join us every week for a story and a craft!
URL:https://laurel.lib.ms.us/event/storytime-epl/2023-11-16/
LOCATION:Ellisville Public Library\, 201 Poplar St\, Ellisville\, MS\, 39437\, United States
CATEGORIES:Ellisville Branch
ATTACH;FMTTYPE=image/png:https://laurel.lib.ms.us/wp-content/uploads/2023/02/Storytime.png
END:VEVENT
BEGIN:VEVENT
DTSTART;TZID=America/Chicago:20231130T090000
DTEND;TZID=America/Chicago:20231130T100000
DTSTAMP:20260425T060634
CREATED:20230126T194159Z
LAST-MODIFIED:20250205T161856Z
UID:10130568-1701334800-1701338400@laurel.lib.ms.us
SUMMARY:Baby + Me @ELL
DESCRIPTION:A program exploring books\, songs\, and fun activities designed for babies and toddlers.
URL:https://laurel.lib.ms.us/event/baby-me-epl/2023-11-30/
LOCATION:Ellisville Public Library\, 201 Poplar St\, Ellisville\, MS\, 39437\, United States
CATEGORIES:Ellisville Branch
ATTACH;FMTTYPE=image/png:https://laurel.lib.ms.us/wp-content/uploads/2023/02/Baby-Me.png
END:VEVENT
BEGIN:VEVENT
DTSTART;TZID=America/Chicago:20231130T100000
DTEND;TZID=America/Chicago:20231130T110000
DTSTAMP:20260425T060634
CREATED:20230126T194310Z
LAST-MODIFIED:20250205T161942Z
UID:10130829-1701338400-1701342000@laurel.lib.ms.us
SUMMARY:Storytime @ELL
DESCRIPTION:Join us every week for a story and a craft!
URL:https://laurel.lib.ms.us/event/storytime-epl/2023-11-30/
LOCATION:Ellisville Public Library\, 201 Poplar St\, Ellisville\, MS\, 39437\, United States
CATEGORIES:Ellisville Branch
ATTACH;FMTTYPE=image/png:https://laurel.lib.ms.us/wp-content/uploads/2023/02/Storytime.png
END:VEVENT
END:VCALENDAR