BEGIN:VCALENDAR
VERSION:2.0
PRODID:-//Laurel Library - ECPv6.15.20//NONSGML v1.0//EN
CALSCALE:GREGORIAN
METHOD:PUBLISH
X-WR-CALNAME:Laurel Library
X-ORIGINAL-URL:https://laurel.lib.ms.us
X-WR-CALDESC:Events for Laurel Library
REFRESH-INTERVAL;VALUE=DURATION:PT1H
X-Robots-Tag:noindex
X-PUBLISHED-TTL:PT1H
BEGIN:VTIMEZONE
TZID:America/Chicago
BEGIN:DAYLIGHT
TZOFFSETFROM:-0600
TZOFFSETTO:-0500
TZNAME:CDT
DTSTART:20220313T080000
END:DAYLIGHT
BEGIN:STANDARD
TZOFFSETFROM:-0500
TZOFFSETTO:-0600
TZNAME:CST
DTSTART:20221106T070000
END:STANDARD
BEGIN:DAYLIGHT
TZOFFSETFROM:-0600
TZOFFSETTO:-0500
TZNAME:CDT
DTSTART:20230312T080000
END:DAYLIGHT
BEGIN:STANDARD
TZOFFSETFROM:-0500
TZOFFSETTO:-0600
TZNAME:CST
DTSTART:20231105T070000
END:STANDARD
BEGIN:DAYLIGHT
TZOFFSETFROM:-0600
TZOFFSETTO:-0500
TZNAME:CDT
DTSTART:20240310T080000
END:DAYLIGHT
BEGIN:STANDARD
TZOFFSETFROM:-0500
TZOFFSETTO:-0600
TZNAME:CST
DTSTART:20241103T070000
END:STANDARD
END:VTIMEZONE
BEGIN:VEVENT
DTSTART;TZID=America/Chicago:20230405T140000
DTEND;TZID=America/Chicago:20230405T150000
DTSTAMP:20260425T185033
CREATED:20230127T152633Z
LAST-MODIFIED:20250205T161947Z
UID:10132739-1680703200-1680706800@laurel.lib.ms.us
SUMMARY:Coloring & Coffee @ELL
DESCRIPTION:Join us for a relaxing time of coloring and conversation!
URL:https://laurel.lib.ms.us/event/coffee-coloring-epl/2023-04-05/
LOCATION:Ellisville Public Library\, 201 Poplar St\, Ellisville\, MS\, 39437\, United States
CATEGORIES:Ellisville Branch
END:VEVENT
BEGIN:VEVENT
DTSTART;TZID=America/Chicago:20230406T090000
DTEND;TZID=America/Chicago:20230406T100000
DTSTAMP:20260425T185033
CREATED:20230126T194159Z
LAST-MODIFIED:20250205T161856Z
UID:10130534-1680771600-1680775200@laurel.lib.ms.us
SUMMARY:Baby + Me @ELL
DESCRIPTION:A program exploring books\, songs\, and fun activities designed for babies and toddlers.
URL:https://laurel.lib.ms.us/event/baby-me-epl/2023-04-06/
LOCATION:Ellisville Public Library\, 201 Poplar St\, Ellisville\, MS\, 39437\, United States
CATEGORIES:Ellisville Branch
ATTACH;FMTTYPE=image/png:https://laurel.lib.ms.us/wp-content/uploads/2023/02/Baby-Me.png
END:VEVENT
BEGIN:VEVENT
DTSTART;TZID=America/Chicago:20230406T100000
DTEND;TZID=America/Chicago:20230406T110000
DTSTAMP:20260425T185033
CREATED:20230126T194310Z
LAST-MODIFIED:20250205T161942Z
UID:10130795-1680775200-1680778800@laurel.lib.ms.us
SUMMARY:Storytime @ELL
DESCRIPTION:Join us every week for a story and a craft!
URL:https://laurel.lib.ms.us/event/storytime-epl/2023-04-06/
LOCATION:Ellisville Public Library\, 201 Poplar St\, Ellisville\, MS\, 39437\, United States
CATEGORIES:Ellisville Branch
ATTACH;FMTTYPE=image/png:https://laurel.lib.ms.us/wp-content/uploads/2023/02/Storytime.png
END:VEVENT
BEGIN:VEVENT
DTSTART;TZID=America/Chicago:20230411T173000
DTEND;TZID=America/Chicago:20230411T190000
DTSTAMP:20260425T185033
CREATED:20230126T212704Z
LAST-MODIFIED:20250205T162156Z
UID:10132294-1681234200-1681239600@laurel.lib.ms.us
SUMMARY:Books & Brew Book Club @The Coffeehouse
DESCRIPTION:Join us with a coffee as we discuss this month’s book selection!
URL:https://laurel.lib.ms.us/event/books-brew-book-club-the-coffeehouse-at-brookside-2/2023-04-11/
LOCATION:The Coffeehouse at Brookside\, 113 S Front St\, Ellisville\, MS\, 39437\, United States
CATEGORIES:Ellisville Branch
ATTACH;FMTTYPE=image/png:https://laurel.lib.ms.us/wp-content/uploads/2023/02/Ellisville-Book-Club.png
END:VEVENT
BEGIN:VEVENT
DTSTART;TZID=America/Chicago:20230413T090000
DTEND;TZID=America/Chicago:20230413T100000
DTSTAMP:20260425T185033
CREATED:20230126T194159Z
LAST-MODIFIED:20250205T161856Z
UID:10130535-1681376400-1681380000@laurel.lib.ms.us
SUMMARY:Baby + Me @ELL
DESCRIPTION:A program exploring books\, songs\, and fun activities designed for babies and toddlers.
URL:https://laurel.lib.ms.us/event/baby-me-epl/2023-04-13/
LOCATION:Ellisville Public Library\, 201 Poplar St\, Ellisville\, MS\, 39437\, United States
CATEGORIES:Ellisville Branch
ATTACH;FMTTYPE=image/png:https://laurel.lib.ms.us/wp-content/uploads/2023/02/Baby-Me.png
END:VEVENT
BEGIN:VEVENT
DTSTART;TZID=America/Chicago:20230413T100000
DTEND;TZID=America/Chicago:20230413T110000
DTSTAMP:20260425T185033
CREATED:20230126T194310Z
LAST-MODIFIED:20250205T161942Z
UID:10130796-1681380000-1681383600@laurel.lib.ms.us
SUMMARY:Storytime @ELL
DESCRIPTION:Join us every week for a story and a craft!
URL:https://laurel.lib.ms.us/event/storytime-epl/2023-04-13/
LOCATION:Ellisville Public Library\, 201 Poplar St\, Ellisville\, MS\, 39437\, United States
CATEGORIES:Ellisville Branch
ATTACH;FMTTYPE=image/png:https://laurel.lib.ms.us/wp-content/uploads/2023/02/Storytime.png
END:VEVENT
BEGIN:VEVENT
DTSTART;TZID=America/Chicago:20230415T100000
DTEND;TZID=America/Chicago:20230415T120000
DTSTAMP:20260425T185033
CREATED:20230127T144723Z
LAST-MODIFIED:20250205T161919Z
UID:10136816-1681552800-1681560000@laurel.lib.ms.us
SUMMARY:Computer Help (Ticketed) @ELL
DESCRIPTION:Computer classes for those interested in learning about the basics of computer use and internet access. \nTaught by Dr. McArthur. Visit us or call (601)428-4313 OR (601)477-9271 to sign up or for more information.
URL:https://laurel.lib.ms.us/event/computer-help-epl/2023-04-15/
LOCATION:Ellisville Public Library\, 201 Poplar St\, Ellisville\, MS\, 39437\, United States
CATEGORIES:Ellisville Branch
END:VEVENT
BEGIN:VEVENT
DTSTART;TZID=America/Chicago:20230420T090000
DTEND;TZID=America/Chicago:20230420T100000
DTSTAMP:20260425T185033
CREATED:20230126T194159Z
LAST-MODIFIED:20250205T161856Z
UID:10130536-1681981200-1681984800@laurel.lib.ms.us
SUMMARY:Baby + Me @ELL
DESCRIPTION:A program exploring books\, songs\, and fun activities designed for babies and toddlers.
URL:https://laurel.lib.ms.us/event/baby-me-epl/2023-04-20/
LOCATION:Ellisville Public Library\, 201 Poplar St\, Ellisville\, MS\, 39437\, United States
CATEGORIES:Ellisville Branch
ATTACH;FMTTYPE=image/png:https://laurel.lib.ms.us/wp-content/uploads/2023/02/Baby-Me.png
END:VEVENT
BEGIN:VEVENT
DTSTART;TZID=America/Chicago:20230420T100000
DTEND;TZID=America/Chicago:20230420T110000
DTSTAMP:20260425T185033
CREATED:20230126T194310Z
LAST-MODIFIED:20250205T161942Z
UID:10130797-1681984800-1681988400@laurel.lib.ms.us
SUMMARY:Storytime @ELL
DESCRIPTION:Join us every week for a story and a craft!
URL:https://laurel.lib.ms.us/event/storytime-epl/2023-04-20/
LOCATION:Ellisville Public Library\, 201 Poplar St\, Ellisville\, MS\, 39437\, United States
CATEGORIES:Ellisville Branch
ATTACH;FMTTYPE=image/png:https://laurel.lib.ms.us/wp-content/uploads/2023/02/Storytime.png
END:VEVENT
BEGIN:VEVENT
DTSTART;TZID=America/Chicago:20230426T130000
DTEND;TZID=America/Chicago:20230426T150000
DTSTAMP:20260425T185033
CREATED:20230317T151509Z
LAST-MODIFIED:20250205T162207Z
UID:10132664-1682514000-1682521200@laurel.lib.ms.us
SUMMARY:Get Crafty: Book Earrings (Ticketed) @ELL
DESCRIPTION:Learn how to make a pair of mini book earrings! We provide all the materials. Once you are signed up\, expect an email asking for your favorite book so we can have a personalized book cover waiting you. Subscribe to our Eventbrite to be notified of when tickets go on sale!
URL:https://laurel.lib.ms.us/event/get-crafty-cross-stitch-ticketed-epl-5/
LOCATION:Ellisville Public Library\, 201 Poplar St\, Ellisville\, MS\, 39437\, United States
CATEGORIES:Ellisville Branch
END:VEVENT
BEGIN:VEVENT
DTSTART;TZID=America/Chicago:20230427T090000
DTEND;TZID=America/Chicago:20230427T100000
DTSTAMP:20260425T185033
CREATED:20230126T194159Z
LAST-MODIFIED:20250205T161856Z
UID:10130537-1682586000-1682589600@laurel.lib.ms.us
SUMMARY:Baby + Me @ELL
DESCRIPTION:A program exploring books\, songs\, and fun activities designed for babies and toddlers.
URL:https://laurel.lib.ms.us/event/baby-me-epl/2023-04-27/
LOCATION:Ellisville Public Library\, 201 Poplar St\, Ellisville\, MS\, 39437\, United States
CATEGORIES:Ellisville Branch
ATTACH;FMTTYPE=image/png:https://laurel.lib.ms.us/wp-content/uploads/2023/02/Baby-Me.png
END:VEVENT
BEGIN:VEVENT
DTSTART;TZID=America/Chicago:20230427T100000
DTEND;TZID=America/Chicago:20230427T110000
DTSTAMP:20260425T185033
CREATED:20230126T194310Z
LAST-MODIFIED:20250205T161942Z
UID:10130798-1682589600-1682593200@laurel.lib.ms.us
SUMMARY:Storytime @ELL
DESCRIPTION:Join us every week for a story and a craft!
URL:https://laurel.lib.ms.us/event/storytime-epl/2023-04-27/
LOCATION:Ellisville Public Library\, 201 Poplar St\, Ellisville\, MS\, 39437\, United States
CATEGORIES:Ellisville Branch
ATTACH;FMTTYPE=image/png:https://laurel.lib.ms.us/wp-content/uploads/2023/02/Storytime.png
END:VEVENT
END:VCALENDAR