BEGIN:VCALENDAR
VERSION:2.0
PRODID:-//Laurel Library - ECPv6.15.20//NONSGML v1.0//EN
CALSCALE:GREGORIAN
METHOD:PUBLISH
X-WR-CALNAME:Laurel Library
X-ORIGINAL-URL:https://laurel.lib.ms.us
X-WR-CALDESC:Events for Laurel Library
REFRESH-INTERVAL;VALUE=DURATION:PT1H
X-Robots-Tag:noindex
X-PUBLISHED-TTL:PT1H
BEGIN:VTIMEZONE
TZID:America/Chicago
BEGIN:DAYLIGHT
TZOFFSETFROM:-0600
TZOFFSETTO:-0500
TZNAME:CDT
DTSTART:20240310T080000
END:DAYLIGHT
BEGIN:STANDARD
TZOFFSETFROM:-0500
TZOFFSETTO:-0600
TZNAME:CST
DTSTART:20241103T070000
END:STANDARD
BEGIN:DAYLIGHT
TZOFFSETFROM:-0600
TZOFFSETTO:-0500
TZNAME:CDT
DTSTART:20250309T080000
END:DAYLIGHT
BEGIN:STANDARD
TZOFFSETFROM:-0500
TZOFFSETTO:-0600
TZNAME:CST
DTSTART:20251102T070000
END:STANDARD
BEGIN:DAYLIGHT
TZOFFSETFROM:-0600
TZOFFSETTO:-0500
TZNAME:CDT
DTSTART:20260308T080000
END:DAYLIGHT
BEGIN:STANDARD
TZOFFSETFROM:-0500
TZOFFSETTO:-0600
TZNAME:CST
DTSTART:20261101T070000
END:STANDARD
END:VTIMEZONE
BEGIN:VEVENT
DTSTART;VALUE=DATE:20250619
DTEND;VALUE=DATE:20250620
DTSTAMP:20260424T204004
CREATED:20230126T193949Z
LAST-MODIFIED:20260403T135022Z
UID:10136070-1750291200-1750377599@laurel.lib.ms.us
SUMMARY:Fine Free Thursday
DESCRIPTION:Return overdue books on Thursdays to have your overdue fines waived! \nPlease note that there are some rules that apply: \n\nFFT only applies to the overdue fines for books\, audiobooks\, and magazines. Other charges\, such as DVD fines\, item replacement charges\, collection agency fees\, damages\, postage\, etc.\, will not be waived.\nBooks must be returned to the desk. Fines will not be waived on books in the drop box.\nMonthly and yearly caps are in place for the amount of fines waived.\nFines are capped at $60.
URL:https://laurel.lib.ms.us/event/fine-free-thursday/2025-06-19/
LOCATION:MS
CATEGORIES:General
ATTACH;FMTTYPE=image/png:https://laurel.lib.ms.us/wp-content/uploads/2023/01/Website-Header-Fine-Free-Thursday.png
END:VEVENT
BEGIN:VEVENT
DTSTART;TZID=America/Chicago:20250619T090000
DTEND;TZID=America/Chicago:20250619T100000
DTSTAMP:20260424T204004
CREATED:20231206T170135Z
LAST-MODIFIED:20250205T162916Z
UID:10130649-1750323600-1750327200@laurel.lib.ms.us
SUMMARY:Baby + Me @ELL
DESCRIPTION:A program exploring books\, songs\, and fun activities designed for babies and toddlers.
URL:https://laurel.lib.ms.us/event/baby-me-epl-2/2025-06-19/
LOCATION:Ellisville Public Library\, 201 Poplar St\, Ellisville\, MS\, 39437\, United States
CATEGORIES:Ellisville Branch
ATTACH;FMTTYPE=image/png:https://laurel.lib.ms.us/wp-content/uploads/2023/02/Baby-Me.png
END:VEVENT
BEGIN:VEVENT
DTSTART;TZID=America/Chicago:20250619T100000
DTEND;TZID=America/Chicago:20250619T190000
DTSTAMP:20260424T204004
CREATED:20250509T204854Z
LAST-MODIFIED:20250610T200228Z
UID:10134399-1750327200-1750359600@laurel.lib.ms.us
SUMMARY:All Day LEGO® Club @ELL
DESCRIPTION:Join us for a come-and-go Lego Club day! \n  \nSensory Sensitivity Hour is from 9 to 10 AM. We ask that people without sensory sensitivities come during regular program hours (11 PM-7 PM).
URL:https://laurel.lib.ms.us/event/lego-club-ell/
LOCATION:Ellisville Public Library\, 201 Poplar St\, Ellisville\, MS\, 39437\, United States
CATEGORIES:Ellisville Branch
ATTACH;FMTTYPE=image/png:https://laurel.lib.ms.us/wp-content/uploads/2023/02/LEGO-Club.png
END:VEVENT
BEGIN:VEVENT
DTSTART;TZID=America/Chicago:20250619T133000
DTEND;TZID=America/Chicago:20250619T170000
DTSTAMP:20260424T204004
CREATED:20250528T132417Z
LAST-MODIFIED:20250528T133447Z
UID:10137104-1750339800-1750352400@laurel.lib.ms.us
SUMMARY:Jerry Jenkins: Storyteller and Djembe Drummer @LAU
DESCRIPTION:A look at Mande (West African) culture through traditional music.
URL:https://laurel.lib.ms.us/event/jerry-jenkins-storyteller-and-djembe-drummer-lau/
LOCATION:Laurel-Jones County Library\, 530 Commerce St\, Laurel\, MS\, 39440\, United States
CATEGORIES:Laurel Branch
END:VEVENT
END:VCALENDAR