BEGIN:VCALENDAR
VERSION:2.0
PRODID:-//Laurel Library - ECPv6.15.20//NONSGML v1.0//EN
CALSCALE:GREGORIAN
METHOD:PUBLISH
X-ORIGINAL-URL:https://laurel.lib.ms.us
X-WR-CALDESC:Events for Laurel Library
REFRESH-INTERVAL;VALUE=DURATION:PT1H
X-Robots-Tag:noindex
X-PUBLISHED-TTL:PT1H
BEGIN:VTIMEZONE
TZID:America/Chicago
BEGIN:DAYLIGHT
TZOFFSETFROM:-0600
TZOFFSETTO:-0500
TZNAME:CDT
DTSTART:20230312T080000
END:DAYLIGHT
BEGIN:STANDARD
TZOFFSETFROM:-0500
TZOFFSETTO:-0600
TZNAME:CST
DTSTART:20231105T070000
END:STANDARD
BEGIN:DAYLIGHT
TZOFFSETFROM:-0600
TZOFFSETTO:-0500
TZNAME:CDT
DTSTART:20240310T080000
END:DAYLIGHT
BEGIN:STANDARD
TZOFFSETFROM:-0500
TZOFFSETTO:-0600
TZNAME:CST
DTSTART:20241103T070000
END:STANDARD
BEGIN:DAYLIGHT
TZOFFSETFROM:-0600
TZOFFSETTO:-0500
TZNAME:CDT
DTSTART:20250309T080000
END:DAYLIGHT
BEGIN:STANDARD
TZOFFSETFROM:-0500
TZOFFSETTO:-0600
TZNAME:CST
DTSTART:20251102T070000
END:STANDARD
END:VTIMEZONE
BEGIN:VEVENT
DTSTART;TZID=America/Chicago:20240405T080000
DTEND;TZID=America/Chicago:20240405T090000
DTSTAMP:20260425T221253
CREATED:20240326T182128Z
LAST-MODIFIED:20250523T133036Z
UID:10135318-1712304000-1712307600@laurel.lib.ms.us
SUMMARY:T-Mobile Hometown Grant Celebration @LAU
DESCRIPTION:You are cordially invited to the Laurel-Jones County Library special announcement breakfast! \n 
URL:https://laurel.lib.ms.us/event/t-mobile-hometown-grant-celebration-lau/
LOCATION:Laurel-Jones County Library\, 530 Commerce St\, Laurel\, MS\, 39440\, United States
CATEGORIES:Laurel Branch
END:VEVENT
BEGIN:VEVENT
DTSTART;TZID=America/Chicago:20240405T090000
DTEND;TZID=America/Chicago:20240405T100000
DTSTAMP:20260425T221253
CREATED:20240326T155456Z
LAST-MODIFIED:20240326T155630Z
UID:10135317-1712307600-1712311200@laurel.lib.ms.us
SUMMARY:Late opening @ELL
DESCRIPTION:The Ellisville branch of the Laurel-Jones County Library System will be open late on Friday\, April 5th\, for an event at the Laurel-Jones County Library.
URL:https://laurel.lib.ms.us/event/opening-late-for-laurel-event-ell-only/
LOCATION:MS
CATEGORIES:Closures
ATTACH;FMTTYPE=image/png:https://laurel.lib.ms.us/wp-content/uploads/2023/02/Generic-Closed.png
END:VEVENT
END:VCALENDAR